Workbook

Sheet Suchana
B1: आप अब तक का सबसे आसान तरीके से "संकलित मूल्यमापन - 2" संपूर्ण तक्ता कुछ ही मिनटों मे बना सकते हैं ।
B3: सूचना | H3: ê ê ê ê ê ê ê ê ê ê ê ê ê | T3: 04.04.2025
C6: 1 | D6: सबसे पहले Info_1 Sheet में आवश्यक माहिती केवल एक बार भरना है ।
D8: विद्यार्थियों के नाम Type करने के बाद M / F (Male / Female) Select करना अति आवश्यक है |
D9: जितने विद्यार्थियों के M या F Select होगा, उन्हीं का रिजल्ट तैयार होगा ।
D10: अब बच्चों की Cast Select करें ।
C12: 2 | D12: Takta_A में केवल आकारिक के अंक भरना है, बस ! तक्ता - अ, तक्ता - ब, लास्ट पेज, कवर पेज और रिपोर्ट कार्ड तैयार है ।
C14: 3 | D14: अब आप 60 विद्यार्थियों के रिजल्ट बना सकते हैं ।
C16: 4 | D16: Takta_A में जहाँ "बृहन्मुंबई महानगरपालिका - शिक्षण विभाग" लिखा हुआ है,
D17: उसे वहीं पर अपनी आवश्यकता अनुसार बदल / Edit कर सकते हैं ।
B18: F | D18: Takta_A में अब सातत्यपूर्ण सर्वंकष मूल्यमापन ( 1 या 2 ) को Select करने की सुविधा दिया गया है ।
C20: 5 | D20: द्वितीय भाषा या तृतीय भाषा, मराठी या अंग्रेजी के अतिरिक्त कोई और भाषा होने पर
D21: "Takta_A" में ही उसके शीर्षक (Heading) को बदल सकते हैं ।
C23: 6 | D23: तृतीय भाषा ना होने पर कुल अंक में अब तक बदल नहीं किया जा सकता था, पर अब उसमें बदल करने का ऑप्शन दिया गया है ।
D24: जैसे : | F24: आपके विद्यालय में तृतीय भाषा की परीक्षा नहीं होने पर
F25: आप तृतीय भाषा के संकलित और आकारिक मूल्यमापन के अंक Takta_A में 0 "शून्य" टाईप कर दिजीए,
F26: अब आपके कुल योग का चेक कर लिजीए ।
C28: 7 | D28: तक्ता तैयार होने पर Save करें और File Menu > Save as में जाकर
D29: PDF फाईल ऑप्शन चुनकर PDF फाईल सेव करें प्रिंट लेना आसान हो जाएगा ।
C31: 8 | D31: Report Card विद्यार्थियों को भेजने के लिए "Report Card Sheet" पर जाकर जैसे ही आप रोल नंबर चेंज करेंगे, उस बच्चे का
D32: Report Card आप के सामने होगा । अब आप उसे File Menu > Save as में जाकर PDF फाईल ऑप्शन चुनकर PDF फाईल सेव करें । इसी प्रकार हर विद्यार्थी का Report Card, सेव करके उसे Whatsapp पर भेज सकतें हैं ।

Sheet Info_1
C1: hellomitra.in | I1: Sr.No.2 Start From Here | J1: hellomitra.in
B2: è | C2: Purple कलर के Cell में आवश्यक जानकारी टाईप करें एक बार आपको Result Sheet (तक्ता) पर पुन: टाईप करने की आवश्यकता नहीं होगी । | J2: अनु. टाईप करें | K2: विद्यार्थियों के नाम टाइप करें ê | L2: ê यहाँ ऑप्शन चुनना है । ê | O2: Warning ( आवश्यक सूचना)
B3: è | C3: For Std. 1st & 2nd | D3: ê | E3: नीचे Purple Colour के Cell में आवश्यक जानकारी Type करें । | H3: ê | J3: Sr. No. | K3: Students Name | L3: Select Male / Female | M3: Cast | O3: Male / Female Select करना अतिआवश्यक है । बीना Select किए आप का Result Sheet (तक्ता - अ, तक्ता - ब) तैयार नहीं होगा ।
J4: ê | K4: ê | L4: ê | M4: ê
B5: 1 ) | C5: स्कूल का नाम : | D5: School Name ? | J5: 1 | O5: यहाँ आपको विद्यार्थियों के अनु. क्र. (Sr.No.), नाम (Name Of Students) Type करना है ।
C6: स्कूल का पता : | D6: School Address | I6: è | J6: 2
B7: 2 ) | C7: वार्ड | D7: एस | E7: ç è | F7: माध्यम : | G7: Hindi
B9: 3 ) | C9: URC | D9: 6 | E9: ç | F9: वर्ष : | G9: 2024 - 25
O10: बालक / कन्या ( Male / Female ) और जाति प्रवर्ग ( Cast ) को वही Cell में Click करके चुनाव (Select) करना है । बस इतना ही ।
B11: 4 ) | C11: UDISE No. | D11: 27220600000 | H11: ç
D12: ê | E12: कक्षा को क्लिक करें और कक्षा 1 या 2 चेंज करें ।
B13: 5 ) | C13: कक्षा : | D13: 1 | E13: वर्ग : | F13: A | G13: ç
D14: ê | E14: ê
B15: 6 ) | D15: पट | E15: उपस्थित | F15: अनुपस्थित
C16: बालक | F16: =D16-E16 -> 0
D17: ê | E17: ê | F17: ê
C18: कन्या | F18: =D18-E18 -> 0
D19: ê | E19: ê | F19: ê
C20: योग | D20: =SUM(D16:D19) -> 0 | E20: =SUM(E16:E19) -> 0 | F20: =SUM(F16:F19) -> 0
B22: 7 ) | C22: वर्ग शिक्षक (नाम) | E22: Class Teacher's Name
E23: é
B24: 8 ) | C24: तक्ता तैयार कर्ता (नाम) | E24: Prepared By Name ?
E25: é
B26: 9 ) | C26: तक्ता तपासला (नाम) | E26: Cheked By Name ?
E27: é
B28: 10 ) | C28: मुख्याध्यापक (नाम) : | E28: HM's Name
E29: é
B31: 11 ) | C31: संस्था | E31: बृहन्मुंबई महानगरपालिका - शिक्षण विभाग
E32: é
C36: hellomitraonline@gmail.com
C46: Copyright@hellomitra.blogspot.in March-2018
C47: arvindgg

Sheet Takta_A
B2: =Info_1!E31 -> बृहन्मुंबई महानगरपालिका - शिक्षण विभाग
B3: कक्षा : | D3: =Info_1!D13 -> 1 | F3: सातत्यपूर्ण सर्वंकष मूल्यमापन - | R3: 2 | T3: तक्ता - अ | AB3: शैक्षणिक वर्ष: | AG3: =Info_1!G9 -> 2024 - 25 | AQ3: माध्यम : | AV3: =Info_1!G7 -> Hindi
B5: शाळा : | D5: =Info_1!D5 -> School Name ? | S5: इयत्ता : | W5: =Info_1!D13 -> 1 | Z5: तुकडी : | AD5: =Info_1!F13 -> A | AI5: पट : | AM5: =Info_1!D20 -> 0 | AO5: è | AQ5: बालक: | AS5: =Info_1!D16 -> 0 | AV5: कन्या: | AX5: =Info_1!D18 -> 0
B7: UDISE : | D7: =Info_1!D11 -> 27220600000 | H7: URC : | L7: =Info_1!D9 -> 6 | S7: वार्ड : | W7: =Info_1!D7 -> एस | AI7: उपस्थित : | AM7: =Info_1!E20 -> 0 | AO7: è | AQ7: बालक: | AS7: =Info_1!E16 -> 0 | AV7: कन्या: | AX7: =Info_1!E18 -> 0
S8: arvindgg | AI8: अनुपस्थित : | AM8: =Info_1!F20 -> 0 | AQ8: बालक : | AS8: =Info_1!F16 -> 0 | AV8: कन्या : | AX8: =Info_1!F18 -> 0
B9: जाति प्रवर्ग | C9: अनु. क्रमांक | D9: hellomitra.blogspot.in | E9: * | F9: विषय | AW9: शाळा सिद्धी में रिपोर्ट Submit के लिए
D10: विद्यार्थ्यांचे नाव | F10: प्रथम भाषा | L10: द्वितीय भाषा | R10: तृतीय भाषा | X10: गणित | AD10: N.A. | AI10: कब / बुलबुल | AN10: कला | AQ10: कार्यानुभव | AT10: शा.शि. व आरोग्य
E11: M / F | F11: आकारिक मूल्यमापन गुण | G11: संकलित मूल्यमापन गुण | H11: एकूण मूल्यमापन गुण | J11: अतिरिक्त पूरक मार्गदर्शन पूर्व श्रेणी | K11: अतिरिक्त पूरक मार्गदर्शन नंतरची श्रेणी | L11: आकारिक मूल्यमापन गुण | M11: संकलित मूल्यमापन गुण | N11: एकूण मूल्यमापन गुण | P11: अतिरिक्त पूरक मार्गदर्शन पूर्व श्रेणी | Q11: अतिरिक्त पूरक मार्गदर्शन नंतरची श्रेणी | R11: आकारिक मूल्यमापन गुण | S11: संकलित मूल्यमापन गुण | T11: एकूण मूल्यमापन गुण | V11: अतिरिक्त पूरक मार्गदर्शन पूर्व श्रेणी | W11: अतिरिक्त पूरक मार्गदर्शन नंतरची श्रेणी | X11: आकारिक मूल्यमापन गुण | Y11: संकलित मूल्यमापन गुण | Z11: एकूण मूल्यमापन गुण | AB11: अतिरिक्त पूरक मार्गदर्शन पूर्व श्रेणी | AC11: अतिरिक्त पूरक मार्गदर्शन नंतरची श्रेणी | AD11: आकारिक मूल्यमापन गुण | AE11: संकलित मूल्यमापन गुण | AF11: एकूण मूल्यमापन गुण | AG11: अतिरिक्त पूरक मार्गदर्शन पूर्व श्रेणी | AH11: अतिरिक्त पूरक मार्गदर्शन नंतरची श्रेणी | AI11: आकारिक मूल्यमापन गुण | AJ11: संकलित मूल्यमापन गुण | AK11: एकूण मूल्यमापन गुण | AL11: अतिरिक्त पूरक मार्गदर्शन पूर्व श्रेणी | AM11: अतिरिक्त पूरक मार्गदर्शन नंतरची श्रेणी | AN11: आकारिक मूल्यमापन गुण | AO11: अतिरिक्त पूरक मार्गदर्शन पूर्व श्रेणी | AP11: अतिरिक्त पूरक मार्गदर्शन नंतरची श्रेणी | AQ11: आकारिक मूल्यमापन गुण | AR11: अतिरिक्त पूरक मार्गदर्शन पूर्व श्रेणी | AS11: अतिरिक्त पूरक मार्गदर्शन नंतरची श्रेणी | AT11: आकारिक मूल्यमापन गुण | AU11: अतिरिक्त पूरक मार्गदर्शन पूर्व श्रेणी | AV11: अतिरिक्त पूरक मार्गदर्शन नंतरची श्रेणी | AW11: कुल योग | AX11: प्रतिशत अंक | AY11: श्रेणी
E12: भारांश :) | F12: 70 | G12: 30 | H12: 100 | J12: श्रेणी | L12: =F12 -> 70 | M12: 30 | N12: 100 | P12: श्रेणी | R12: 70 | S12: 30 | T12: 100 | V12: श्रेणी | X12: 70 | Y12: 30 | Z12: 100 | AB12: श्रेणी | AD12: 0 | AE12: 0 | AF12: 0 | AG12: श्रेणी | AI12: 70 | AJ12: 30 | AK12: 100 | AL12: श्रेणी | AN12: 100 | AO12: श्रेणी | AQ12: 100 | AR12: श्रेणी | AT12: 100 | AU12: श्रेणी | AW12: 800 | AX12: %
B13: =Info_1!M5 -> 0 | C13: =Info_1!J5 -> 1 | D13: =Info_1!K5 -> 0 | E13: =Info_1!L5 -> 0 | F13: 0 | G13: 0 | H13: =SUM(F13:G13) -> 0 | J13: =IF(H13>=91,"अ-1", IF(H13>=81,"अ-2", IF(H13>=71,"ब-1", IF(H13>=61,"ब-2", IF(H13>=51,"क-1", IF(H13>=41,"क-2", IF(H13>=33,"ड", IF(H13>=21,"ई-1", IF(H13<=20, "ई-2" ))))))))) -> ई-2 | L13: 0 | M13: 0 | N13: =SUM(L13:M13) -> 0 | P13: =IF(N13>=91,"अ-1", IF(N13>=81,"अ-2", IF(N13>=71,"ब-1", IF(N13>=61,"ब-2", IF(N13>=51,"क-1", IF(N13>=41,"क-2", IF(N13>=33,"ड", IF(N13>=21,"ई-1", IF(N13<=20, "ई-2" ))))))))) -> ई-2 | R13: 0 | S13: 0 | T13: =SUM(R13:S13) -> 0 | V13: =IF(T13>=91,"अ-1", IF(T13>=81,"अ-2", IF(T13>=71,"ब-1", IF(T13>=61,"ब-2", IF(T13>=51,"क-1", IF(T13>=41,"क-2", IF(T13>=33,"ड", IF(T13>=21,"ई-1", IF(T13<=20, "ई-2" ))))))))) -> ई-2 | X13: 0 | Y13: 0 | Z13: =SUM(X13:Y13) -> 0 | AB13: =IF(Z13>=91,"अ-1", IF(Z13>=81,"अ-2", IF(Z13>=71,"ब-1", IF(Z13>=61,"ब-2", IF(Z13>=51,"क-1", IF(Z13>=41,"क-2", IF(Z13>=33,"ड", IF(Z13>=21,"ई-1", IF(Z13<=20, "ई-2" ))))))))) -> ई-2 | AI13: 0 | AJ13: 0 | AK13: =SUM(AI13:AJ13) -> 0 | AL13: =IF(AK13>=91,"अ-1", IF(AK13>=81,"अ-2", IF(AK13>=71,"ब-1", IF(AK13>=61,"ब-2", IF(AK13>=51,"क-1", IF(AK13>=41,"क-2", IF(AK13>=33,"ड", IF(AK13>=21,"ई-1", IF(AK13<=20, "ई-2" ))))))))) -> ई-2 | AN13: 0 | AO13: =IF(AN13>=91,"अ-1", IF(AN13>=81,"अ-2", IF(AN13>=71,"ब-1", IF(AN13>=61,"ब-2", IF(AN13>=51,"क-1", IF(AN13>=41,"क-2", IF(AN13>=33,"ड", IF(AN13>=21,"ई-1", IF(AN13<=20, "ई-2" ))))))))) -> ई-2 | AQ13: 0 | AR13: =IF(AQ13>=91,"अ-1", IF(AQ13>=81,"अ-2", IF(AQ13>=71,"ब-1", IF(AQ13>=61,"ब-2", IF(AQ13>=51,"क-1", IF(AQ13>=41,"क-2", IF(AQ13>=33,"ड", IF(AQ13>=21,"ई-1", IF(AQ13<=20, "ई-2" ))))))))) -> ई-2 | AT13: 0 | AU13: =IF(AT13>=91,"अ-1", IF(AT13>=81,"अ-2", IF(AT13>=71,"ब-1", IF(AT13>=61,"ब-2", IF(AT13>=51,"क-1", IF(AT13>=41,"क-2", IF(AT13>=33,"ड", IF(AT13>=21,"ई-1", IF(AT13<=20, "ई-2" ))))))))) -> ई-2 | AW13: =SUM(H13,N13,T13,Z13,AF13,AK13,AN13,AQ13,AT13) -> 0 | AX13: =SUM(AW13*100)/AW12 -> 0 | AY13: =IF(AX13>=91,"अ-1", IF(AX13>=81,"अ-2", IF(AX13>=71,"ब-1", IF(AX13>=61,"ब-2", IF(AX13>=51,"क-1", IF(AX13>=41,"क-2", IF(AX13>=33,"ड", IF(AX13>=21,"ई-1", IF(AX13>=0, "ई-2" ))))))))) -> ई-2
B14: =Info_1!M6 -> 0 | C14: =Info_1!J6 -> 2 | D14: =Info_1!K6 -> 0 | E14: =Info_1!L6 -> 0 | F14: 0 | G14: 0 | H14: =SUM(F14:G14) -> 0 | J14: =IF(H14>=91,"अ-1", IF(H14>=81,"अ-2", IF(H14>=71,"ब-1", IF(H14>=61,"ब-2", IF(H14>=51,"क-1", IF(H14>=41,"क-2", IF(H14>=33,"ड", IF(H14>=21,"ई-1", IF(H14<=20, "ई-2" ))))))))) -> ई-2 | L14: 0 | M14: 0 | N14: =SUM(L14:M14) -> 0 | P14: =IF(N14>=91,"अ-1", IF(N14>=81,"अ-2", IF(N14>=71,"ब-1", IF(N14>=61,"ब-2", IF(N14>=51,"क-1", IF(N14>=41,"क-2", IF(N14>=33,"ड", IF(N14>=21,"ई-1", IF(N14<=20, "ई-2" ))))))))) -> ई-2 | R14: 0 | S14: 0 | T14: =SUM(R14:S14) -> 0 | V14: =IF(T14>=91,"अ-1", IF(T14>=81,"अ-2", IF(T14>=71,"ब-1", IF(T14>=61,"ब-2", IF(T14>=51,"क-1", IF(T14>=41,"क-2", IF(T14>=33,"ड", IF(T14>=21,"ई-1", IF(T14<=20, "ई-2" ))))))))) -> ई-2 | X14: 0 | Y14: 0 | Z14: =SUM(X14:Y14) -> 0 | AB14: =IF(Z14>=91,"अ-1", IF(Z14>=81,"अ-2", IF(Z14>=71,"ब-1", IF(Z14>=61,"ब-2", IF(Z14>=51,"क-1", IF(Z14>=41,"क-2", IF(Z14>=33,"ड", IF(Z14>=21,"ई-1", IF(Z14<=20, "ई-2" ))))))))) -> ई-2 | AI14: 0 | AJ14: 0 | AK14: =SUM(AI14:AJ14) -> 0 | AL14: =IF(AK14>=91,"अ-1", IF(AK14>=81,"अ-2", IF(AK14>=71,"ब-1", IF(AK14>=61,"ब-2", IF(AK14>=51,"क-1", IF(AK14>=41,"क-2", IF(AK14>=33,"ड", IF(AK14>=21,"ई-1", IF(AK14<=20, "ई-2" ))))))))) -> ई-2 | AN14: 0 | AO14: =IF(AN14>=91,"अ-1", IF(AN14>=81,"अ-2", IF(AN14>=71,"ब-1", IF(AN14>=61,"ब-2", IF(AN14>=51,"क-1", IF(AN14>=41,"क-2", IF(AN14>=33,"ड", IF(AN14>=21,"ई-1", IF(AN14<=20, "ई-2" ))))))))) -> ई-2 | AQ14: 0 | AR14: =IF(AQ14>=91,"अ-1", IF(AQ14>=81,"अ-2", IF(AQ14>=71,"ब-1", IF(AQ14>=61,"ब-2", IF(AQ14>=51,"क-1", IF(AQ14>=41,"क-2", IF(AQ14>=33,"ड", IF(AQ14>=21,"ई-1", IF(AQ14<=20, "ई-2" ))))))))) -> ई-2 | AT14: 0 | AU14: =IF(AT14>=91,"अ-1", IF(AT14>=81,"अ-2", IF(AT14>=71,"ब-1", IF(AT14>=61,"ब-2", IF(AT14>=51,"क-1", IF(AT14>=41,"क-2", IF(AT14>=33,"ड", IF(AT14>=21,"ई-1", IF(AT14<=20, "ई-2" ))))))))) -> ई-2 | AW14: =SUM(H14,N14,T14,Z14,AF14,AK14,AN14,AQ14,AT14) -> 0 | AX14: =SUM(AW14*100)/AW12 -> 0 | AY14: =IF(AX14>=91,"अ-1", IF(AX14>=81,"अ-2", IF(AX14>=71,"ब-1", IF(AX14>=61,"ब-2", IF(AX14>=51,"क-1", IF(AX14>=41,"क-2", IF(AX14>=33,"ड", IF(AX14>=21,"ई-1", IF(AX14>=0, "ई-2" ))))))))) -> ई-2
B15: =Info_1!M7 -> 0 | C15: =Info_1!J7 -> 0 | D15: =Info_1!K7 -> 0 | E15: =Info_1!L7 -> 0 | F15: 0 | G15: 0 | H15: =SUM(F15:G15) -> 0 | J15: =IF(H15>=91,"अ-1", IF(H15>=81,"अ-2", IF(H15>=71,"ब-1", IF(H15>=61,"ब-2", IF(H15>=51,"क-1", IF(H15>=41,"क-2", IF(H15>=33,"ड", IF(H15>=21,"ई-1", IF(H15<=20, "ई-2" ))))))))) -> ई-2 | L15: 0 | M15: 0 | N15: =SUM(L15:M15) -> 0 | P15: =IF(N15>=91,"अ-1", IF(N15>=81,"अ-2", IF(N15>=71,"ब-1", IF(N15>=61,"ब-2", IF(N15>=51,"क-1", IF(N15>=41,"क-2", IF(N15>=33,"ड", IF(N15>=21,"ई-1", IF(N15<=20, "ई-2" ))))))))) -> ई-2 | R15: 0 | S15: 0 | T15: =SUM(R15:S15) -> 0 | V15: =IF(T15>=91,"अ-1", IF(T15>=81,"अ-2", IF(T15>=71,"ब-1", IF(T15>=61,"ब-2", IF(T15>=51,"क-1", IF(T15>=41,"क-2", IF(T15>=33,"ड", IF(T15>=21,"ई-1", IF(T15<=20, "ई-2" ))))))))) -> ई-2 | X15: 0 | Y15: 0 | Z15: =SUM(X15:Y15) -> 0 | AB15: =IF(Z15>=91,"अ-1", IF(Z15>=81,"अ-2", IF(Z15>=71,"ब-1", IF(Z15>=61,"ब-2", IF(Z15>=51,"क-1", IF(Z15>=41,"क-2", IF(Z15>=33,"ड", IF(Z15>=21,"ई-1", IF(Z15<=20, "ई-2" ))))))))) -> ई-2 | AI15: 0 | AJ15: 0 | AK15: =SUM(AI15:AJ15) -> 0 | AL15: =IF(AK15>=91,"अ-1", IF(AK15>=81,"अ-2", IF(AK15>=71,"ब-1", IF(AK15>=61,"ब-2", IF(AK15>=51,"क-1", IF(AK15>=41,"क-2", IF(AK15>=33,"ड", IF(AK15>=21,"ई-1", IF(AK15<=20, "ई-2" ))))))))) -> ई-2 | AN15: 0 | AO15: =IF(AN15>=91,"अ-1", IF(AN15>=81,"अ-2", IF(AN15>=71,"ब-1", IF(AN15>=61,"ब-2", IF(AN15>=51,"क-1", IF(AN15>=41,"क-2", IF(AN15>=33,"ड", IF(AN15>=21,"ई-1", IF(AN15<=20, "ई-2" ))))))))) -> ई-2 | AQ15: 0 | AR15: =IF(AQ15>=91,"अ-1", IF(AQ15>=81,"अ-2", IF(AQ15>=71,"ब-1", IF(AQ15>=61,"ब-2", IF(AQ15>=51,"क-1", IF(AQ15>=41,"क-2", IF(AQ15>=33,"ड", IF(AQ15>=21,"ई-1", IF(AQ15<=20, "ई-2" ))))))))) -> ई-2 | AT15: 0 | AU15: =IF(AT15>=91,"अ-1", IF(AT15>=81,"अ-2", IF(AT15>=71,"ब-1", IF(AT15>=61,"ब-2", IF(AT15>=51,"क-1", IF(AT15>=41,"क-2", IF(AT15>=33,"ड", IF(AT15>=21,"ई-1", IF(AT15<=20, "ई-2" ))))))))) -> ई-2 | AW15: =SUM(H15,N15,T15,Z15,AF15,AK15,AN15,AQ15,AT15) -> 0 | AX15: =SUM(AW15*100)/AW12 -> 0 | AY15: =IF(AX15>=91,"अ-1", IF(AX15>=81,"अ-2", IF(AX15>=71,"ब-1", IF(AX15>=61,"ब-2", IF(AX15>=51,"क-1", IF(AX15>=41,"क-2", IF(AX15>=33,"ड", IF(AX15>=21,"ई-1", IF(AX15>=0, "ई-2" ))))))))) -> ई-2
B16: =Info_1!M8 -> 0 | C16: =Info_1!J8 -> 0 | D16: =Info_1!K8 -> 0 | E16: =Info_1!L8 -> 0 | F16: 0 | G16: 0 | H16: =SUM(F16:G16) -> 0 | J16: =IF(H16>=91,"अ-1", IF(H16>=81,"अ-2", IF(H16>=71,"ब-1", IF(H16>=61,"ब-2", IF(H16>=51,"क-1", IF(H16>=41,"क-2", IF(H16>=33,"ड", IF(H16>=21,"ई-1", IF(H16<=20, "ई-2" ))))))))) -> ई-2 | L16: 0 | M16: 0 | N16: =SUM(L16:M16) -> 0 | P16: =IF(N16>=91,"अ-1", IF(N16>=81,"अ-2", IF(N16>=71,"ब-1", IF(N16>=61,"ब-2", IF(N16>=51,"क-1", IF(N16>=41,"क-2", IF(N16>=33,"ड", IF(N16>=21,"ई-1", IF(N16<=20, "ई-2" ))))))))) -> ई-2 | R16: 0 | S16: 0 | T16: =SUM(R16:S16) -> 0 | V16: =IF(T16>=91,"अ-1", IF(T16>=81,"अ-2", IF(T16>=71,"ब-1", IF(T16>=61,"ब-2", IF(T16>=51,"क-1", IF(T16>=41,"क-2", IF(T16>=33,"ड", IF(T16>=21,"ई-1", IF(T16<=20, "ई-2" ))))))))) -> ई-2 | X16: 0 | Y16: 0 | Z16: =SUM(X16:Y16) -> 0 | AB16: =IF(Z16>=91,"अ-1", IF(Z16>=81,"अ-2", IF(Z16>=71,"ब-1", IF(Z16>=61,"ब-2", IF(Z16>=51,"क-1", IF(Z16>=41,"क-2", IF(Z16>=33,"ड", IF(Z16>=21,"ई-1", IF(Z16<=20, "ई-2" ))))))))) -> ई-2 | AI16: 0 | AJ16: 0 | AK16: =SUM(AI16:AJ16) -> 0 | AL16: =IF(AK16>=91,"अ-1", IF(AK16>=81,"अ-2", IF(AK16>=71,"ब-1", IF(AK16>=61,"ब-2", IF(AK16>=51,"क-1", IF(AK16>=41,"क-2", IF(AK16>=33,"ड", IF(AK16>=21,"ई-1", IF(AK16<=20, "ई-2" ))))))))) -> ई-2 | AN16: 0 | AO16: =IF(AN16>=91,"अ-1", IF(AN16>=81,"अ-2", IF(AN16>=71,"ब-1", IF(AN16>=61,"ब-2", IF(AN16>=51,"क-1", IF(AN16>=41,"क-2", IF(AN16>=33,"ड", IF(AN16>=21,"ई-1", IF(AN16<=20, "ई-2" ))))))))) -> ई-2 | AQ16: 0 | AR16: =IF(AQ16>=91,"अ-1", IF(AQ16>=81,"अ-2", IF(AQ16>=71,"ब-1", IF(AQ16>=61,"ब-2", IF(AQ16>=51,"क-1", IF(AQ16>=41,"क-2", IF(AQ16>=33,"ड", IF(AQ16>=21,"ई-1", IF(AQ16<=20, "ई-2" ))))))))) -> ई-2 | AT16: 0 | AU16: =IF(AT16>=91,"अ-1", IF(AT16>=81,"अ-2", IF(AT16>=71,"ब-1", IF(AT16>=61,"ब-2", IF(AT16>=51,"क-1", IF(AT16>=41,"क-2", IF(AT16>=33,"ड", IF(AT16>=21,"ई-1", IF(AT16<=20, "ई-2" ))))))))) -> ई-2 | AW16: =SUM(H16,N16,T16,Z16,AF16,AK16,AN16,AQ16,AT16) -> 0 | AX16: =SUM(AW16*100)/AW12 -> 0 | AY16: =IF(AX16>=91,"अ-1", IF(AX16>=81,"अ-2", IF(AX16>=71,"ब-1", IF(AX16>=61,"ब-2", IF(AX16>=51,"क-1", IF(AX16>=41,"क-2", IF(AX16>=33,"ड", IF(AX16>=21,"ई-1", IF(AX16>=0, "ई-2" ))))))))) -> ई-2
B17: =Info_1!M9 -> 0 | C17: =Info_1!J9 -> 0 | D17: =Info_1!K9 -> 0 | E17: =Info_1!L9 -> 0 | F17: 0 | G17: 0 | H17: =SUM(F17:G17) -> 0 | J17: =IF(H17>=91,"अ-1", IF(H17>=81,"अ-2", IF(H17>=71,"ब-1", IF(H17>=61,"ब-2", IF(H17>=51,"क-1", IF(H17>=41,"क-2", IF(H17>=33,"ड", IF(H17>=21,"ई-1", IF(H17<=20, "ई-2" ))))))))) -> ई-2 | L17: 0 | M17: 0 | N17: =SUM(L17:M17) -> 0 | P17: =IF(N17>=91,"अ-1", IF(N17>=81,"अ-2", IF(N17>=71,"ब-1", IF(N17>=61,"ब-2", IF(N17>=51,"क-1", IF(N17>=41,"क-2", IF(N17>=33,"ड", IF(N17>=21,"ई-1", IF(N17<=20, "ई-2" ))))))))) -> ई-2 | R17: 0 | S17: 0 | T17: =SUM(R17:S17) -> 0 | V17: =IF(T17>=91,"अ-1", IF(T17>=81,"अ-2", IF(T17>=71,"ब-1", IF(T17>=61,"ब-2", IF(T17>=51,"क-1", IF(T17>=41,"क-2", IF(T17>=33,"ड", IF(T17>=21,"ई-1", IF(T17<=20, "ई-2" ))))))))) -> ई-2 | X17: 0 | Y17: 0 | Z17: =SUM(X17:Y17) -> 0 | AB17: =IF(Z17>=91,"अ-1", IF(Z17>=81,"अ-2", IF(Z17>=71,"ब-1", IF(Z17>=61,"ब-2", IF(Z17>=51,"क-1", IF(Z17>=41,"क-2", IF(Z17>=33,"ड", IF(Z17>=21,"ई-1", IF(Z17<=20, "ई-2" ))))))))) -> ई-2 | AI17: 0 | AJ17: 0 | AK17: =SUM(AI17:AJ17) -> 0 | AL17: =IF(AK17>=91,"अ-1", IF(AK17>=81,"अ-2", IF(AK17>=71,"ब-1", IF(AK17>=61,"ब-2", IF(AK17>=51,"क-1", IF(AK17>=41,"क-2", IF(AK17>=33,"ड", IF(AK17>=21,"ई-1", IF(AK17<=20, "ई-2" ))))))))) -> ई-2 | AN17: 0 | AO17: =IF(AN17>=91,"अ-1", IF(AN17>=81,"अ-2", IF(AN17>=71,"ब-1", IF(AN17>=61,"ब-2", IF(AN17>=51,"क-1", IF(AN17>=41,"क-2", IF(AN17>=33,"ड", IF(AN17>=21,"ई-1", IF(AN17<=20, "ई-2" ))))))))) -> ई-2 | AQ17: 0 | AR17: =IF(AQ17>=91,"अ-1", IF(AQ17>=81,"अ-2", IF(AQ17>=71,"ब-1", IF(AQ17>=61,"ब-2", IF(AQ17>=51,"क-1", IF(AQ17>=41,"क-2", IF(AQ17>=33,"ड", IF(AQ17>=21,"ई-1", IF(AQ17<=20, "ई-2" ))))))))) -> ई-2 | AT17: 0 | AU17: =IF(AT17>=91,"अ-1", IF(AT17>=81,"अ-2", IF(AT17>=71,"ब-1", IF(AT17>=61,"ब-2", IF(AT17>=51,"क-1", IF(AT17>=41,"क-2", IF(AT17>=33,"ड", IF(AT17>=21,"ई-1", IF(AT17<=20, "ई-2" ))))))))) -> ई-2 | AW17: =SUM(H17,N17,T17,Z17,AF17,AK17,AN17,AQ17,AT17) -> 0 | AX17: =SUM(AW17*100)/AW12 -> 0 | AY17: =IF(AX17>=91,"अ-1", IF(AX17>=81,"अ-2", IF(AX17>=71,"ब-1", IF(AX17>=61,"ब-2", IF(AX17>=51,"क-1", IF(AX17>=41,"क-2", IF(AX17>=33,"ड", IF(AX17>=21,"ई-1", IF(AX17>=0, "ई-2" ))))))))) -> ई-2
B18: =Info_1!M10 -> 0 | C18: =Info_1!J10 -> 0 | D18: =Info_1!K10 -> 0 | E18: =Info_1!L10 -> 0 | F18: 0 | G18: 0 | H18: =SUM(F18:G18) -> 0 | J18: =IF(H18>=91,"अ-1", IF(H18>=81,"अ-2", IF(H18>=71,"ब-1", IF(H18>=61,"ब-2", IF(H18>=51,"क-1", IF(H18>=41,"क-2", IF(H18>=33,"ड", IF(H18>=21,"ई-1", IF(H18<=20, "ई-2" ))))))))) -> ई-2 | L18: 0 | M18: 0 | N18: =SUM(L18:M18) -> 0 | P18: =IF(N18>=91,"अ-1", IF(N18>=81,"अ-2", IF(N18>=71,"ब-1", IF(N18>=61,"ब-2", IF(N18>=51,"क-1", IF(N18>=41,"क-2", IF(N18>=33,"ड", IF(N18>=21,"ई-1", IF(N18<=20, "ई-2" ))))))))) -> ई-2 | R18: 0 | S18: 0 | T18: =SUM(R18:S18) -> 0 | V18: =IF(T18>=91,"अ-1", IF(T18>=81,"अ-2", IF(T18>=71,"ब-1", IF(T18>=61,"ब-2", IF(T18>=51,"क-1", IF(T18>=41,"क-2", IF(T18>=33,"ड", IF(T18>=21,"ई-1", IF(T18<=20, "ई-2" ))))))))) -> ई-2 | X18: 0 | Y18: 0 | Z18: =SUM(X18:Y18) -> 0 | AB18: =IF(Z18>=91,"अ-1", IF(Z18>=81,"अ-2", IF(Z18>=71,"ब-1", IF(Z18>=61,"ब-2", IF(Z18>=51,"क-1", IF(Z18>=41,"क-2", IF(Z18>=33,"ड", IF(Z18>=21,"ई-1", IF(Z18<=20, "ई-2" ))))))))) -> ई-2 | AI18: 0 | AJ18: 0 | AK18: =SUM(AI18:AJ18) -> 0 | AL18: =IF(AK18>=91,"अ-1", IF(AK18>=81,"अ-2", IF(AK18>=71,"ब-1", IF(AK18>=61,"ब-2", IF(AK18>=51,"क-1", IF(AK18>=41,"क-2", IF(AK18>=33,"ड", IF(AK18>=21,"ई-1", IF(AK18<=20, "ई-2" ))))))))) -> ई-2 | AN18: 0 | AO18: =IF(AN18>=91,"अ-1", IF(AN18>=81,"अ-2", IF(AN18>=71,"ब-1", IF(AN18>=61,"ब-2", IF(AN18>=51,"क-1", IF(AN18>=41,"क-2", IF(AN18>=33,"ड", IF(AN18>=21,"ई-1", IF(AN18<=20, "ई-2" ))))))))) -> ई-2 | AQ18: 0 | AR18: =IF(AQ18>=91,"अ-1", IF(AQ18>=81,"अ-2", IF(AQ18>=71,"ब-1", IF(AQ18>=61,"ब-2", IF(AQ18>=51,"क-1", IF(AQ18>=41,"क-2", IF(AQ18>=33,"ड", IF(AQ18>=21,"ई-1", IF(AQ18<=20, "ई-2" ))))))))) -> ई-2 | AT18: 0 | AU18: =IF(AT18>=91,"अ-1", IF(AT18>=81,"अ-2", IF(AT18>=71,"ब-1", IF(AT18>=61,"ब-2", IF(AT18>=51,"क-1", IF(AT18>=41,"क-2", IF(AT18>=33,"ड", IF(AT18>=21,"ई-1", IF(AT18<=20, "ई-2" ))))))))) -> ई-2 | AW18: =SUM(H18,N18,T18,Z18,AF18,AK18,AN18,AQ18,AT18) -> 0 | AX18: =SUM(AW18*100)/AW12 -> 0 | AY18: =IF(AX18>=91,"अ-1", IF(AX18>=81,"अ-2", IF(AX18>=71,"ब-1", IF(AX18>=61,"ब-2", IF(AX18>=51,"क-1", IF(AX18>=41,"क-2", IF(AX18>=33,"ड", IF(AX18>=21,"ई-1", IF(AX18>=0, "ई-2" ))))))))) -> ई-2
B19: =Info_1!M11 -> 0 | C19: =Info_1!J11 -> 0 | D19: =Info_1!K11 -> 0 | E19: =Info_1!L11 -> 0 | F19: 0 | G19: 0 | H19: =SUM(F19:G19) -> 0 | J19: =IF(H19>=91,"अ-1", IF(H19>=81,"अ-2", IF(H19>=71,"ब-1", IF(H19>=61,"ब-2", IF(H19>=51,"क-1", IF(H19>=41,"क-2", IF(H19>=33,"ड", IF(H19>=21,"ई-1", IF(H19<=20, "ई-2" ))))))))) -> ई-2 | L19: 0 | M19: 0 | N19: =SUM(L19:M19) -> 0 | P19: =IF(N19>=91,"अ-1", IF(N19>=81,"अ-2", IF(N19>=71,"ब-1", IF(N19>=61,"ब-2", IF(N19>=51,"क-1", IF(N19>=41,"क-2", IF(N19>=33,"ड", IF(N19>=21,"ई-1", IF(N19<=20, "ई-2" ))))))))) -> ई-2 | R19: 0 | S19: 0 | T19: =SUM(R19:S19) -> 0 | V19: =IF(T19>=91,"अ-1", IF(T19>=81,"अ-2", IF(T19>=71,"ब-1", IF(T19>=61,"ब-2", IF(T19>=51,"क-1", IF(T19>=41,"क-2", IF(T19>=33,"ड", IF(T19>=21,"ई-1", IF(T19<=20, "ई-2" ))))))))) -> ई-2 | X19: 0 | Y19: 0 | Z19: =SUM(X19:Y19) -> 0 | AB19: =IF(Z19>=91,"अ-1", IF(Z19>=81,"अ-2", IF(Z19>=71,"ब-1", IF(Z19>=61,"ब-2", IF(Z19>=51,"क-1", IF(Z19>=41,"क-2", IF(Z19>=33,"ड", IF(Z19>=21,"ई-1", IF(Z19<=20, "ई-2" ))))))))) -> ई-2 | AI19: 0 | AJ19: 0 | AK19: =SUM(AI19:AJ19) -> 0 | AL19: =IF(AK19>=91,"अ-1", IF(AK19>=81,"अ-2", IF(AK19>=71,"ब-1", IF(AK19>=61,"ब-2", IF(AK19>=51,"क-1", IF(AK19>=41,"क-2", IF(AK19>=33,"ड", IF(AK19>=21,"ई-1", IF(AK19<=20, "ई-2" ))))))))) -> ई-2 | AN19: 0 | AO19: =IF(AN19>=91,"अ-1", IF(AN19>=81,"अ-2", IF(AN19>=71,"ब-1", IF(AN19>=61,"ब-2", IF(AN19>=51,"क-1", IF(AN19>=41,"क-2", IF(AN19>=33,"ड", IF(AN19>=21,"ई-1", IF(AN19<=20, "ई-2" ))))))))) -> ई-2 | AQ19: 0 | AR19: =IF(AQ19>=91,"अ-1", IF(AQ19>=81,"अ-2", IF(AQ19>=71,"ब-1", IF(AQ19>=61,"ब-2", IF(AQ19>=51,"क-1", IF(AQ19>=41,"क-2", IF(AQ19>=33,"ड", IF(AQ19>=21,"ई-1", IF(AQ19<=20, "ई-2" ))))))))) -> ई-2 | AT19: 0 | AU19: =IF(AT19>=91,"अ-1", IF(AT19>=81,"अ-2", IF(AT19>=71,"ब-1", IF(AT19>=61,"ब-2", IF(AT19>=51,"क-1", IF(AT19>=41,"क-2", IF(AT19>=33,"ड", IF(AT19>=21,"ई-1", IF(AT19<=20, "ई-2" ))))))))) -> ई-2 | AW19: =SUM(H19,N19,T19,Z19,AF19,AK19,AN19,AQ19,AT19) -> 0 | AX19: =SUM(AW19*100)/AW12 -> 0 | AY19: =IF(AX19>=91,"अ-1", IF(AX19>=81,"अ-2", IF(AX19>=71,"ब-1", IF(AX19>=61,"ब-2", IF(AX19>=51,"क-1", IF(AX19>=41,"क-2", IF(AX19>=33,"ड", IF(AX19>=21,"ई-1", IF(AX19>=0, "ई-2" ))))))))) -> ई-2
B20: =Info_1!M12 -> 0 | C20: =Info_1!J12 -> 0 | D20: =Info_1!K12 -> 0 | E20: =Info_1!L12 -> 0 | F20: 0 | G20: 0 | H20: =SUM(F20:G20) -> 0 | J20: =IF(H20>=91,"अ-1", IF(H20>=81,"अ-2", IF(H20>=71,"ब-1", IF(H20>=61,"ब-2", IF(H20>=51,"क-1", IF(H20>=41,"क-2", IF(H20>=33,"ड", IF(H20>=21,"ई-1", IF(H20<=20, "ई-2" ))))))))) -> ई-2 | L20: 0 | M20: 0 | N20: =SUM(L20:M20) -> 0 | P20: =IF(N20>=91,"अ-1", IF(N20>=81,"अ-2", IF(N20>=71,"ब-1", IF(N20>=61,"ब-2", IF(N20>=51,"क-1", IF(N20>=41,"क-2", IF(N20>=33,"ड", IF(N20>=21,"ई-1", IF(N20<=20, "ई-2" ))))))))) -> ई-2 | R20: 0 | S20: 0 | T20: =SUM(R20:S20) -> 0 | V20: =IF(T20>=91,"अ-1", IF(T20>=81,"अ-2", IF(T20>=71,"ब-1", IF(T20>=61,"ब-2", IF(T20>=51,"क-1", IF(T20>=41,"क-2", IF(T20>=33,"ड", IF(T20>=21,"ई-1", IF(T20<=20, "ई-2" ))))))))) -> ई-2 | X20: 0 | Y20: 0 | Z20: =SUM(X20:Y20) -> 0 | AB20: =IF(Z20>=91,"अ-1", IF(Z20>=81,"अ-2", IF(Z20>=71,"ब-1", IF(Z20>=61,"ब-2", IF(Z20>=51,"क-1", IF(Z20>=41,"क-2", IF(Z20>=33,"ड", IF(Z20>=21,"ई-1", IF(Z20<=20, "ई-2" ))))))))) -> ई-2 | AI20: 0 | AJ20: 0 | AK20: =SUM(AI20:AJ20) -> 0 | AL20: =IF(AK20>=91,"अ-1", IF(AK20>=81,"अ-2", IF(AK20>=71,"ब-1", IF(AK20>=61,"ब-2", IF(AK20>=51,"क-1", IF(AK20>=41,"क-2", IF(AK20>=33,"ड", IF(AK20>=21,"ई-1", IF(AK20<=20, "ई-2" ))))))))) -> ई-2 | AN20: 0 | AO20: =IF(AN20>=91,"अ-1", IF(AN20>=81,"अ-2", IF(AN20>=71,"ब-1", IF(AN20>=61,"ब-2", IF(AN20>=51,"क-1", IF(AN20>=41,"क-2", IF(AN20>=33,"ड", IF(AN20>=21,"ई-1", IF(AN20<=20, "ई-2" ))))))))) -> ई-2 | AQ20: 0 | AR20: =IF(AQ20>=91,"अ-1", IF(AQ20>=81,"अ-2", IF(AQ20>=71,"ब-1", IF(AQ20>=61,"ब-2", IF(AQ20>=51,"क-1", IF(AQ20>=41,"क-2", IF(AQ20>=33,"ड", IF(AQ20>=21,"ई-1", IF(AQ20<=20, "ई-2" ))))))))) -> ई-2 | AT20: 0 | AU20: =IF(AT20>=91,"अ-1", IF(AT20>=81,"अ-2", IF(AT20>=71,"ब-1", IF(AT20>=61,"ब-2", IF(AT20>=51,"क-1", IF(AT20>=41,"क-2", IF(AT20>=33,"ड", IF(AT20>=21,"ई-1", IF(AT20<=20, "ई-2" ))))))))) -> ई-2 | AW20: =SUM(H20,N20,T20,Z20,AF20,AK20,AN20,AQ20,AT20) -> 0 | AX20: =SUM(AW20*100)/AW12 -> 0 | AY20: =IF(AX20>=91,"अ-1", IF(AX20>=81,"अ-2", IF(AX20>=71,"ब-1", IF(AX20>=61,"ब-2", IF(AX20>=51,"क-1", IF(AX20>=41,"क-2", IF(AX20>=33,"ड", IF(AX20>=21,"ई-1", IF(AX20>=0, "ई-2" ))))))))) -> ई-2
B21: =Info_1!M13 -> 0 | C21: =Info_1!J13 -> 0 | D21: =Info_1!K13 -> 0 | E21: =Info_1!L13 -> 0 | F21: 0 | G21: 0 | H21: =SUM(F21:G21) -> 0 | J21: =IF(H21>=91,"अ-1", IF(H21>=81,"अ-2", IF(H21>=71,"ब-1", IF(H21>=61,"ब-2", IF(H21>=51,"क-1", IF(H21>=41,"क-2", IF(H21>=33,"ड", IF(H21>=21,"ई-1", IF(H21<=20, "ई-2" ))))))))) -> ई-2 | L21: 0 | M21: 0 | N21: =SUM(L21:M21) -> 0 | P21: =IF(N21>=91,"अ-1", IF(N21>=81,"अ-2", IF(N21>=71,"ब-1", IF(N21>=61,"ब-2", IF(N21>=51,"क-1", IF(N21>=41,"क-2", IF(N21>=33,"ड", IF(N21>=21,"ई-1", IF(N21<=20, "ई-2" ))))))))) -> ई-2 | R21: 0 | S21: 0 | T21: =SUM(R21:S21) -> 0 | V21: =IF(T21>=91,"अ-1", IF(T21>=81,"अ-2", IF(T21>=71,"ब-1", IF(T21>=61,"ब-2", IF(T21>=51,"क-1", IF(T21>=41,"क-2", IF(T21>=33,"ड", IF(T21>=21,"ई-1", IF(T21<=20, "ई-2" ))))))))) -> ई-2 | X21: 0 | Y21: 0 | Z21: =SUM(X21:Y21) -> 0 | AB21: =IF(Z21>=91,"अ-1", IF(Z21>=81,"अ-2", IF(Z21>=71,"ब-1", IF(Z21>=61,"ब-2", IF(Z21>=51,"क-1", IF(Z21>=41,"क-2", IF(Z21>=33,"ड", IF(Z21>=21,"ई-1", IF(Z21<=20, "ई-2" ))))))))) -> ई-2 | AI21: 0 | AJ21: 0 | AK21: =SUM(AI21:AJ21) -> 0 | AL21: =IF(AK21>=91,"अ-1", IF(AK21>=81,"अ-2", IF(AK21>=71,"ब-1", IF(AK21>=61,"ब-2", IF(AK21>=51,"क-1", IF(AK21>=41,"क-2", IF(AK21>=33,"ड", IF(AK21>=21,"ई-1", IF(AK21<=20, "ई-2" ))))))))) -> ई-2 | AN21: 0 | AO21: =IF(AN21>=91,"अ-1", IF(AN21>=81,"अ-2", IF(AN21>=71,"ब-1", IF(AN21>=61,"ब-2", IF(AN21>=51,"क-1", IF(AN21>=41,"क-2", IF(AN21>=33,"ड", IF(AN21>=21,"ई-1", IF(AN21<=20, "ई-2" ))))))))) -> ई-2 | AQ21: 0 | AR21: =IF(AQ21>=91,"अ-1", IF(AQ21>=81,"अ-2", IF(AQ21>=71,"ब-1", IF(AQ21>=61,"ब-2", IF(AQ21>=51,"क-1", IF(AQ21>=41,"क-2", IF(AQ21>=33,"ड", IF(AQ21>=21,"ई-1", IF(AQ21<=20, "ई-2" ))))))))) -> ई-2 | AT21: 0 | AU21: =IF(AT21>=91,"अ-1", IF(AT21>=81,"अ-2", IF(AT21>=71,"ब-1", IF(AT21>=61,"ब-2", IF(AT21>=51,"क-1", IF(AT21>=41,"क-2", IF(AT21>=33,"ड", IF(AT21>=21,"ई-1", IF(AT21<=20, "ई-2" ))))))))) -> ई-2 | AW21: =SUM(H21,N21,T21,Z21,AF21,AK21,AN21,AQ21,AT21) -> 0 | AX21: =SUM(AW21*100)/AW12 -> 0 | AY21: =IF(AX21>=91,"अ-1", IF(AX21>=81,"अ-2", IF(AX21>=71,"ब-1", IF(AX21>=61,"ब-2", IF(AX21>=51,"क-1", IF(AX21>=41,"क-2", IF(AX21>=33,"ड", IF(AX21>=21,"ई-1", IF(AX21>=0, "ई-2" ))))))))) -> ई-2
B22: =Info_1!M14 -> 0 | C22: =Info_1!J14 -> 0 | D22: =Info_1!K14 -> 0 | E22: =Info_1!L14 -> 0 | F22: 0 | G22: 0 | H22: =SUM(F22:G22) -> 0 | J22: =IF(H22>=91,"अ-1", IF(H22>=81,"अ-2", IF(H22>=71,"ब-1", IF(H22>=61,"ब-2", IF(H22>=51,"क-1", IF(H22>=41,"क-2", IF(H22>=33,"ड", IF(H22>=21,"ई-1", IF(H22<=20, "ई-2" ))))))))) -> ई-2 | L22: 0 | M22: 0 | N22: =SUM(L22:M22) -> 0 | P22: =IF(N22>=91,"अ-1", IF(N22>=81,"अ-2", IF(N22>=71,"ब-1", IF(N22>=61,"ब-2", IF(N22>=51,"क-1", IF(N22>=41,"क-2", IF(N22>=33,"ड", IF(N22>=21,"ई-1", IF(N22<=20, "ई-2" ))))))))) -> ई-2 | R22: 0 | S22: 0 | T22: =SUM(R22:S22) -> 0 | V22: =IF(T22>=91,"अ-1", IF(T22>=81,"अ-2", IF(T22>=71,"ब-1", IF(T22>=61,"ब-2", IF(T22>=51,"क-1", IF(T22>=41,"क-2", IF(T22>=33,"ड", IF(T22>=21,"ई-1", IF(T22<=20, "ई-2" ))))))))) -> ई-2 | X22: 0 | Y22: 0 | Z22: =SUM(X22:Y22) -> 0 | AB22: =IF(Z22>=91,"अ-1", IF(Z22>=81,"अ-2", IF(Z22>=71,"ब-1", IF(Z22>=61,"ब-2", IF(Z22>=51,"क-1", IF(Z22>=41,"क-2", IF(Z22>=33,"ड", IF(Z22>=21,"ई-1", IF(Z22<=20, "ई-2" ))))))))) -> ई-2 | AI22: 0 | AJ22: 0 | AK22: =SUM(AI22:AJ22) -> 0 | AL22: =IF(AK22>=91,"अ-1", IF(AK22>=81,"अ-2", IF(AK22>=71,"ब-1", IF(AK22>=61,"ब-2", IF(AK22>=51,"क-1", IF(AK22>=41,"क-2", IF(AK22>=33,"ड", IF(AK22>=21,"ई-1", IF(AK22<=20, "ई-2" ))))))))) -> ई-2 | AN22: 0 | AO22: =IF(AN22>=91,"अ-1", IF(AN22>=81,"अ-2", IF(AN22>=71,"ब-1", IF(AN22>=61,"ब-2", IF(AN22>=51,"क-1", IF(AN22>=41,"क-2", IF(AN22>=33,"ड", IF(AN22>=21,"ई-1", IF(AN22<=20, "ई-2" ))))))))) -> ई-2 | AQ22: 0 | AR22: =IF(AQ22>=91,"अ-1", IF(AQ22>=81,"अ-2", IF(AQ22>=71,"ब-1", IF(AQ22>=61,"ब-2", IF(AQ22>=51,"क-1", IF(AQ22>=41,"क-2", IF(AQ22>=33,"ड", IF(AQ22>=21,"ई-1", IF(AQ22<=20, "ई-2" ))))))))) -> ई-2 | AT22: 0 | AU22: =IF(AT22>=91,"अ-1", IF(AT22>=81,"अ-2", IF(AT22>=71,"ब-1", IF(AT22>=61,"ब-2", IF(AT22>=51,"क-1", IF(AT22>=41,"क-2", IF(AT22>=33,"ड", IF(AT22>=21,"ई-1", IF(AT22<=20, "ई-2" ))))))))) -> ई-2 | AW22: =SUM(H22,N22,T22,Z22,AF22,AK22,AN22,AQ22,AT22) -> 0 | AX22: =SUM(AW22*100)/AW12 -> 0 | AY22: =IF(AX22>=91,"अ-1", IF(AX22>=81,"अ-2", IF(AX22>=71,"ब-1", IF(AX22>=61,"ब-2", IF(AX22>=51,"क-1", IF(AX22>=41,"क-2", IF(AX22>=33,"ड", IF(AX22>=21,"ई-1", IF(AX22>=0, "ई-2" ))))))))) -> ई-2
B23: =Info_1!M15 -> 0 | C23: =Info_1!J15 -> 0 | D23: =Info_1!K15 -> 0 | E23: =Info_1!L15 -> 0 | F23: 0 | G23: 0 | H23: =SUM(F23:G23) -> 0 | J23: =IF(H23>=91,"अ-1", IF(H23>=81,"अ-2", IF(H23>=71,"ब-1", IF(H23>=61,"ब-2", IF(H23>=51,"क-1", IF(H23>=41,"क-2", IF(H23>=33,"ड", IF(H23>=21,"ई-1", IF(H23<=20, "ई-2" ))))))))) -> ई-2 | L23: 0 | M23: 0 | N23: =SUM(L23:M23) -> 0 | P23: =IF(N23>=91,"अ-1", IF(N23>=81,"अ-2", IF(N23>=71,"ब-1", IF(N23>=61,"ब-2", IF(N23>=51,"क-1", IF(N23>=41,"क-2", IF(N23>=33,"ड", IF(N23>=21,"ई-1", IF(N23<=20, "ई-2" ))))))))) -> ई-2 | R23: 0 | S23: 0 | T23: =SUM(R23:S23) -> 0 | V23: =IF(T23>=91,"अ-1", IF(T23>=81,"अ-2", IF(T23>=71,"ब-1", IF(T23>=61,"ब-2", IF(T23>=51,"क-1", IF(T23>=41,"क-2", IF(T23>=33,"ड", IF(T23>=21,"ई-1", IF(T23<=20, "ई-2" ))))))))) -> ई-2 | X23: 0 | Y23: 0 | Z23: =SUM(X23:Y23) -> 0 | AB23: =IF(Z23>=91,"अ-1", IF(Z23>=81,"अ-2", IF(Z23>=71,"ब-1", IF(Z23>=61,"ब-2", IF(Z23>=51,"क-1", IF(Z23>=41,"क-2", IF(Z23>=33,"ड", IF(Z23>=21,"ई-1", IF(Z23<=20, "ई-2" ))))))))) -> ई-2 | AI23: 0 | AJ23: 0 | AK23: =SUM(AI23:AJ23) -> 0 | AL23: =IF(AK23>=91,"अ-1", IF(AK23>=81,"अ-2", IF(AK23>=71,"ब-1", IF(AK23>=61,"ब-2", IF(AK23>=51,"क-1", IF(AK23>=41,"क-2", IF(AK23>=33,"ड", IF(AK23>=21,"ई-1", IF(AK23<=20, "ई-2" ))))))))) -> ई-2 | AN23: 0 | AO23: =IF(AN23>=91,"अ-1", IF(AN23>=81,"अ-2", IF(AN23>=71,"ब-1", IF(AN23>=61,"ब-2", IF(AN23>=51,"क-1", IF(AN23>=41,"क-2", IF(AN23>=33,"ड", IF(AN23>=21,"ई-1", IF(AN23<=20, "ई-2" ))))))))) -> ई-2 | AQ23: 0 | AR23: =IF(AQ23>=91,"अ-1", IF(AQ23>=81,"अ-2", IF(AQ23>=71,"ब-1", IF(AQ23>=61,"ब-2", IF(AQ23>=51,"क-1", IF(AQ23>=41,"क-2", IF(AQ23>=33,"ड", IF(AQ23>=21,"ई-1", IF(AQ23<=20, "ई-2" ))))))))) -> ई-2 | AT23: 0 | AU23: =IF(AT23>=91,"अ-1", IF(AT23>=81,"अ-2", IF(AT23>=71,"ब-1", IF(AT23>=61,"ब-2", IF(AT23>=51,"क-1", IF(AT23>=41,"क-2", IF(AT23>=33,"ड", IF(AT23>=21,"ई-1", IF(AT23<=20, "ई-2" ))))))))) -> ई-2 | AW23: =SUM(H23,N23,T23,Z23,AF23,AK23,AN23,AQ23,AT23) -> 0 | AX23: =SUM(AW23*100)/AW12 -> 0 | AY23: =IF(AX23>=91,"अ-1", IF(AX23>=81,"अ-2", IF(AX23>=71,"ब-1", IF(AX23>=61,"ब-2", IF(AX23>=51,"क-1", IF(AX23>=41,"क-2", IF(AX23>=33,"ड", IF(AX23>=21,"ई-1", IF(AX23>=0, "ई-2" ))))))))) -> ई-2
B24: =Info_1!M16 -> 0 | C24: =Info_1!J16 -> 0 | D24: =Info_1!K16 -> 0 | E24: =Info_1!L16 -> 0 | F24: 0 | G24: 0 | H24: =SUM(F24:G24) -> 0 | J24: =IF(H24>=91,"अ-1", IF(H24>=81,"अ-2", IF(H24>=71,"ब-1", IF(H24>=61,"ब-2", IF(H24>=51,"क-1", IF(H24>=41,"क-2", IF(H24>=33,"ड", IF(H24>=21,"ई-1", IF(H24<=20, "ई-2" ))))))))) -> ई-2 | L24: 0 | M24: 0 | N24: =SUM(L24:M24) -> 0 | P24: =IF(N24>=91,"अ-1", IF(N24>=81,"अ-2", IF(N24>=71,"ब-1", IF(N24>=61,"ब-2", IF(N24>=51,"क-1", IF(N24>=41,"क-2", IF(N24>=33,"ड", IF(N24>=21,"ई-1", IF(N24<=20, "ई-2" ))))))))) -> ई-2 | R24: 0 | S24: 0 | T24: =SUM(R24:S24) -> 0 | V24: =IF(T24>=91,"अ-1", IF(T24>=81,"अ-2", IF(T24>=71,"ब-1", IF(T24>=61,"ब-2", IF(T24>=51,"क-1", IF(T24>=41,"क-2", IF(T24>=33,"ड", IF(T24>=21,"ई-1", IF(T24<=20, "ई-2" ))))))))) -> ई-2 | X24: 0 | Y24: 0 | Z24: =SUM(X24:Y24) -> 0 | AB24: =IF(Z24>=91,"अ-1", IF(Z24>=81,"अ-2", IF(Z24>=71,"ब-1", IF(Z24>=61,"ब-2", IF(Z24>=51,"क-1", IF(Z24>=41,"क-2", IF(Z24>=33,"ड", IF(Z24>=21,"ई-1", IF(Z24<=20, "ई-2" ))))))))) -> ई-2 | AI24: 0 | AJ24: 0 | AK24: =SUM(AI24:AJ24) -> 0 | AL24: =IF(AK24>=91,"अ-1", IF(AK24>=81,"अ-2", IF(AK24>=71,"ब-1", IF(AK24>=61,"ब-2", IF(AK24>=51,"क-1", IF(AK24>=41,"क-2", IF(AK24>=33,"ड", IF(AK24>=21,"ई-1", IF(AK24<=20, "ई-2" ))))))))) -> ई-2 | AN24: 0 | AO24: =IF(AN24>=91,"अ-1", IF(AN24>=81,"अ-2", IF(AN24>=71,"ब-1", IF(AN24>=61,"ब-2", IF(AN24>=51,"क-1", IF(AN24>=41,"क-2", IF(AN24>=33,"ड", IF(AN24>=21,"ई-1", IF(AN24<=20, "ई-2" ))))))))) -> ई-2 | AQ24: 0 | AR24: =IF(AQ24>=91,"अ-1", IF(AQ24>=81,"अ-2", IF(AQ24>=71,"ब-1", IF(AQ24>=61,"ब-2", IF(AQ24>=51,"क-1", IF(AQ24>=41,"क-2", IF(AQ24>=33,"ड", IF(AQ24>=21,"ई-1", IF(AQ24<=20, "ई-2" ))))))))) -> ई-2 | AT24: 0 | AU24: =IF(AT24>=91,"अ-1", IF(AT24>=81,"अ-2", IF(AT24>=71,"ब-1", IF(AT24>=61,"ब-2", IF(AT24>=51,"क-1", IF(AT24>=41,"क-2", IF(AT24>=33,"ड", IF(AT24>=21,"ई-1", IF(AT24<=20, "ई-2" ))))))))) -> ई-2 | AW24: =SUM(H24,N24,T24,Z24,AF24,AK24,AN24,AQ24,AT24) -> 0 | AX24: =SUM(AW24*100)/AW12 -> 0 | AY24: =IF(AX24>=91,"अ-1", IF(AX24>=81,"अ-2", IF(AX24>=71,"ब-1", IF(AX24>=61,"ब-2", IF(AX24>=51,"क-1", IF(AX24>=41,"क-2", IF(AX24>=33,"ड", IF(AX24>=21,"ई-1", IF(AX24>=0, "ई-2" ))))))))) -> ई-2
B25: =Info_1!M17 -> 0 | C25: =Info_1!J17 -> 0 | D25: =Info_1!K17 -> 0 | E25: =Info_1!L17 -> 0 | F25: 0 | G25: 0 | H25: =SUM(F25:G25) -> 0 | J25: =IF(H25>=91,"अ-1", IF(H25>=81,"अ-2", IF(H25>=71,"ब-1", IF(H25>=61,"ब-2", IF(H25>=51,"क-1", IF(H25>=41,"क-2", IF(H25>=33,"ड", IF(H25>=21,"ई-1", IF(H25<=20, "ई-2" ))))))))) -> ई-2 | L25: 0 | M25: 0 | N25: =SUM(L25:M25) -> 0 | P25: =IF(N25>=91,"अ-1", IF(N25>=81,"अ-2", IF(N25>=71,"ब-1", IF(N25>=61,"ब-2", IF(N25>=51,"क-1", IF(N25>=41,"क-2", IF(N25>=33,"ड", IF(N25>=21,"ई-1", IF(N25<=20, "ई-2" ))))))))) -> ई-2 | R25: 0 | S25: 0 | T25: =SUM(R25:S25) -> 0 | V25: =IF(T25>=91,"अ-1", IF(T25>=81,"अ-2", IF(T25>=71,"ब-1", IF(T25>=61,"ब-2", IF(T25>=51,"क-1", IF(T25>=41,"क-2", IF(T25>=33,"ड", IF(T25>=21,"ई-1", IF(T25<=20, "ई-2" ))))))))) -> ई-2 | X25: 0 | Y25: 0 | Z25: =SUM(X25:Y25) -> 0 | AB25: =IF(Z25>=91,"अ-1", IF(Z25>=81,"अ-2", IF(Z25>=71,"ब-1", IF(Z25>=61,"ब-2", IF(Z25>=51,"क-1", IF(Z25>=41,"क-2", IF(Z25>=33,"ड", IF(Z25>=21,"ई-1", IF(Z25<=20, "ई-2" ))))))))) -> ई-2 | AI25: 0 | AJ25: 0 | AK25: =SUM(AI25:AJ25) -> 0 | AL25: =IF(AK25>=91,"अ-1", IF(AK25>=81,"अ-2", IF(AK25>=71,"ब-1", IF(AK25>=61,"ब-2", IF(AK25>=51,"क-1", IF(AK25>=41,"क-2", IF(AK25>=33,"ड", IF(AK25>=21,"ई-1", IF(AK25<=20, "ई-2" ))))))))) -> ई-2 | AN25: 0 | AO25: =IF(AN25>=91,"अ-1", IF(AN25>=81,"अ-2", IF(AN25>=71,"ब-1", IF(AN25>=61,"ब-2", IF(AN25>=51,"क-1", IF(AN25>=41,"क-2", IF(AN25>=33,"ड", IF(AN25>=21,"ई-1", IF(AN25<=20, "ई-2" ))))))))) -> ई-2 | AQ25: 0 | AR25: =IF(AQ25>=91,"अ-1", IF(AQ25>=81,"अ-2", IF(AQ25>=71,"ब-1", IF(AQ25>=61,"ब-2", IF(AQ25>=51,"क-1", IF(AQ25>=41,"क-2", IF(AQ25>=33,"ड", IF(AQ25>=21,"ई-1", IF(AQ25<=20, "ई-2" ))))))))) -> ई-2 | AT25: 0 | AU25: =IF(AT25>=91,"अ-1", IF(AT25>=81,"अ-2", IF(AT25>=71,"ब-1", IF(AT25>=61,"ब-2", IF(AT25>=51,"क-1", IF(AT25>=41,"क-2", IF(AT25>=33,"ड", IF(AT25>=21,"ई-1", IF(AT25<=20, "ई-2" ))))))))) -> ई-2 | AW25: =SUM(H25,N25,T25,Z25,AF25,AK25,AN25,AQ25,AT25) -> 0 | AX25: =SUM(AW25*100)/AW12 -> 0 | AY25: =IF(AX25>=91,"अ-1", IF(AX25>=81,"अ-2", IF(AX25>=71,"ब-1", IF(AX25>=61,"ब-2", IF(AX25>=51,"क-1", IF(AX25>=41,"क-2", IF(AX25>=33,"ड", IF(AX25>=21,"ई-1", IF(AX25>=0, "ई-2" ))))))))) -> ई-2
B26: =Info_1!M18 -> 0 | C26: =Info_1!J18 -> 0 | D26: =Info_1!K18 -> 0 | E26: =Info_1!L18 -> 0 | F26: 0 | G26: 0 | H26: =SUM(F26:G26) -> 0 | J26: =IF(H26>=91,"अ-1", IF(H26>=81,"अ-2", IF(H26>=71,"ब-1", IF(H26>=61,"ब-2", IF(H26>=51,"क-1", IF(H26>=41,"क-2", IF(H26>=33,"ड", IF(H26>=21,"ई-1", IF(H26<=20, "ई-2" ))))))))) -> ई-2 | L26: 0 | M26: 0 | N26: =SUM(L26:M26) -> 0 | P26: =IF(N26>=91,"अ-1", IF(N26>=81,"अ-2", IF(N26>=71,"ब-1", IF(N26>=61,"ब-2", IF(N26>=51,"क-1", IF(N26>=41,"क-2", IF(N26>=33,"ड", IF(N26>=21,"ई-1", IF(N26<=20, "ई-2" ))))))))) -> ई-2 | R26: 0 | S26: 0 | T26: =SUM(R26:S26) -> 0 | V26: =IF(T26>=91,"अ-1", IF(T26>=81,"अ-2", IF(T26>=71,"ब-1", IF(T26>=61,"ब-2", IF(T26>=51,"क-1", IF(T26>=41,"क-2", IF(T26>=33,"ड", IF(T26>=21,"ई-1", IF(T26<=20, "ई-2" ))))))))) -> ई-2 | X26: 0 | Y26: 0 | Z26: =SUM(X26:Y26) -> 0 | AB26: =IF(Z26>=91,"अ-1", IF(Z26>=81,"अ-2", IF(Z26>=71,"ब-1", IF(Z26>=61,"ब-2", IF(Z26>=51,"क-1", IF(Z26>=41,"क-2", IF(Z26>=33,"ड", IF(Z26>=21,"ई-1", IF(Z26<=20, "ई-2" ))))))))) -> ई-2 | AI26: 0 | AJ26: 0 | AK26: =SUM(AI26:AJ26) -> 0 | AL26: =IF(AK26>=91,"अ-1", IF(AK26>=81,"अ-2", IF(AK26>=71,"ब-1", IF(AK26>=61,"ब-2", IF(AK26>=51,"क-1", IF(AK26>=41,"क-2", IF(AK26>=33,"ड", IF(AK26>=21,"ई-1", IF(AK26<=20, "ई-2" ))))))))) -> ई-2 | AN26: 0 | AO26: =IF(AN26>=91,"अ-1", IF(AN26>=81,"अ-2", IF(AN26>=71,"ब-1", IF(AN26>=61,"ब-2", IF(AN26>=51,"क-1", IF(AN26>=41,"क-2", IF(AN26>=33,"ड", IF(AN26>=21,"ई-1", IF(AN26<=20, "ई-2" ))))))))) -> ई-2 | AQ26: 0 | AR26: =IF(AQ26>=91,"अ-1", IF(AQ26>=81,"अ-2", IF(AQ26>=71,"ब-1", IF(AQ26>=61,"ब-2", IF(AQ26>=51,"क-1", IF(AQ26>=41,"क-2", IF(AQ26>=33,"ड", IF(AQ26>=21,"ई-1", IF(AQ26<=20, "ई-2" ))))))))) -> ई-2 | AT26: 0 | AU26: =IF(AT26>=91,"अ-1", IF(AT26>=81,"अ-2", IF(AT26>=71,"ब-1", IF(AT26>=61,"ब-2", IF(AT26>=51,"क-1", IF(AT26>=41,"क-2", IF(AT26>=33,"ड", IF(AT26>=21,"ई-1", IF(AT26<=20, "ई-2" ))))))))) -> ई-2 | AW26: =SUM(H26,N26,T26,Z26,AF26,AK26,AN26,AQ26,AT26) -> 0 | AX26: =SUM(AW26*100)/AW12 -> 0 | AY26: =IF(AX26>=91,"अ-1", IF(AX26>=81,"अ-2", IF(AX26>=71,"ब-1", IF(AX26>=61,"ब-2", IF(AX26>=51,"क-1", IF(AX26>=41,"क-2", IF(AX26>=33,"ड", IF(AX26>=21,"ई-1", IF(AX26>=0, "ई-2" ))))))))) -> ई-2
B27: =Info_1!M19 -> 0 | C27: =Info_1!J19 -> 0 | D27: =Info_1!K19 -> 0 | E27: =Info_1!L19 -> 0 | F27: 0 | G27: 0 | H27: =SUM(F27:G27) -> 0 | J27: =IF(H27>=91,"अ-1", IF(H27>=81,"अ-2", IF(H27>=71,"ब-1", IF(H27>=61,"ब-2", IF(H27>=51,"क-1", IF(H27>=41,"क-2", IF(H27>=33,"ड", IF(H27>=21,"ई-1", IF(H27<=20, "ई-2" ))))))))) -> ई-2 | L27: 0 | M27: 0 | N27: =SUM(L27:M27) -> 0 | P27: =IF(N27>=91,"अ-1", IF(N27>=81,"अ-2", IF(N27>=71,"ब-1", IF(N27>=61,"ब-2", IF(N27>=51,"क-1", IF(N27>=41,"क-2", IF(N27>=33,"ड", IF(N27>=21,"ई-1", IF(N27<=20, "ई-2" ))))))))) -> ई-2 | R27: 0 | S27: 0 | T27: =SUM(R27:S27) -> 0 | V27: =IF(T27>=91,"अ-1", IF(T27>=81,"अ-2", IF(T27>=71,"ब-1", IF(T27>=61,"ब-2", IF(T27>=51,"क-1", IF(T27>=41,"क-2", IF(T27>=33,"ड", IF(T27>=21,"ई-1", IF(T27<=20, "ई-2" ))))))))) -> ई-2 | X27: 0 | Y27: 0 | Z27: =SUM(X27:Y27) -> 0 | AB27: =IF(Z27>=91,"अ-1", IF(Z27>=81,"अ-2", IF(Z27>=71,"ब-1", IF(Z27>=61,"ब-2", IF(Z27>=51,"क-1", IF(Z27>=41,"क-2", IF(Z27>=33,"ड", IF(Z27>=21,"ई-1", IF(Z27<=20, "ई-2" ))))))))) -> ई-2 | AI27: 0 | AJ27: 0 | AK27: =SUM(AI27:AJ27) -> 0 | AL27: =IF(AK27>=91,"अ-1", IF(AK27>=81,"अ-2", IF(AK27>=71,"ब-1", IF(AK27>=61,"ब-2", IF(AK27>=51,"क-1", IF(AK27>=41,"क-2", IF(AK27>=33,"ड", IF(AK27>=21,"ई-1", IF(AK27<=20, "ई-2" ))))))))) -> ई-2 | AN27: 0 | AO27: =IF(AN27>=91,"अ-1", IF(AN27>=81,"अ-2", IF(AN27>=71,"ब-1", IF(AN27>=61,"ब-2", IF(AN27>=51,"क-1", IF(AN27>=41,"क-2", IF(AN27>=33,"ड", IF(AN27>=21,"ई-1", IF(AN27<=20, "ई-2" ))))))))) -> ई-2 | AQ27: 0 | AR27: =IF(AQ27>=91,"अ-1", IF(AQ27>=81,"अ-2", IF(AQ27>=71,"ब-1", IF(AQ27>=61,"ब-2", IF(AQ27>=51,"क-1", IF(AQ27>=41,"क-2", IF(AQ27>=33,"ड", IF(AQ27>=21,"ई-1", IF(AQ27<=20, "ई-2" ))))))))) -> ई-2 | AT27: 0 | AU27: =IF(AT27>=91,"अ-1", IF(AT27>=81,"अ-2", IF(AT27>=71,"ब-1", IF(AT27>=61,"ब-2", IF(AT27>=51,"क-1", IF(AT27>=41,"क-2", IF(AT27>=33,"ड", IF(AT27>=21,"ई-1", IF(AT27<=20, "ई-2" ))))))))) -> ई-2 | AW27: =SUM(H27,N27,T27,Z27,AF27,AK27,AN27,AQ27,AT27) -> 0 | AX27: =SUM(AW27*100)/AW12 -> 0 | AY27: =IF(AX27>=91,"अ-1", IF(AX27>=81,"अ-2", IF(AX27>=71,"ब-1", IF(AX27>=61,"ब-2", IF(AX27>=51,"क-1", IF(AX27>=41,"क-2", IF(AX27>=33,"ड", IF(AX27>=21,"ई-1", IF(AX27>=0, "ई-2" ))))))))) -> ई-2
B28: =Info_1!M20 -> 0 | C28: =Info_1!J20 -> 0 | D28: =Info_1!K20 -> 0 | E28: =Info_1!L20 -> 0 | F28: 0 | G28: 0 | H28: =SUM(F28:G28) -> 0 | J28: =IF(H28>=91,"अ-1", IF(H28>=81,"अ-2", IF(H28>=71,"ब-1", IF(H28>=61,"ब-2", IF(H28>=51,"क-1", IF(H28>=41,"क-2", IF(H28>=33,"ड", IF(H28>=21,"ई-1", IF(H28<=20, "ई-2" ))))))))) -> ई-2 | L28: 0 | M28: 0 | N28: =SUM(L28:M28) -> 0 | P28: =IF(N28>=91,"अ-1", IF(N28>=81,"अ-2", IF(N28>=71,"ब-1", IF(N28>=61,"ब-2", IF(N28>=51,"क-1", IF(N28>=41,"क-2", IF(N28>=33,"ड", IF(N28>=21,"ई-1", IF(N28<=20, "ई-2" ))))))))) -> ई-2 | R28: 0 | S28: 0 | T28: =SUM(R28:S28) -> 0 | V28: =IF(T28>=91,"अ-1", IF(T28>=81,"अ-2", IF(T28>=71,"ब-1", IF(T28>=61,"ब-2", IF(T28>=51,"क-1", IF(T28>=41,"क-2", IF(T28>=33,"ड", IF(T28>=21,"ई-1", IF(T28<=20, "ई-2" ))))))))) -> ई-2 | X28: 0 | Y28: 0 | Z28: =SUM(X28:Y28) -> 0 | AB28: =IF(Z28>=91,"अ-1", IF(Z28>=81,"अ-2", IF(Z28>=71,"ब-1", IF(Z28>=61,"ब-2", IF(Z28>=51,"क-1", IF(Z28>=41,"क-2", IF(Z28>=33,"ड", IF(Z28>=21,"ई-1", IF(Z28<=20, "ई-2" ))))))))) -> ई-2 | AI28: 0 | AJ28: 0 | AK28: =SUM(AI28:AJ28) -> 0 | AL28: =IF(AK28>=91,"अ-1", IF(AK28>=81,"अ-2", IF(AK28>=71,"ब-1", IF(AK28>=61,"ब-2", IF(AK28>=51,"क-1", IF(AK28>=41,"क-2", IF(AK28>=33,"ड", IF(AK28>=21,"ई-1", IF(AK28<=20, "ई-2" ))))))))) -> ई-2 | AN28: 0 | AO28: =IF(AN28>=91,"अ-1", IF(AN28>=81,"अ-2", IF(AN28>=71,"ब-1", IF(AN28>=61,"ब-2", IF(AN28>=51,"क-1", IF(AN28>=41,"क-2", IF(AN28>=33,"ड", IF(AN28>=21,"ई-1", IF(AN28<=20, "ई-2" ))))))))) -> ई-2 | AQ28: 0 | AR28: =IF(AQ28>=91,"अ-1", IF(AQ28>=81,"अ-2", IF(AQ28>=71,"ब-1", IF(AQ28>=61,"ब-2", IF(AQ28>=51,"क-1", IF(AQ28>=41,"क-2", IF(AQ28>=33,"ड", IF(AQ28>=21,"ई-1", IF(AQ28<=20, "ई-2" ))))))))) -> ई-2 | AT28: 0 | AU28: =IF(AT28>=91,"अ-1", IF(AT28>=81,"अ-2", IF(AT28>=71,"ब-1", IF(AT28>=61,"ब-2", IF(AT28>=51,"क-1", IF(AT28>=41,"क-2", IF(AT28>=33,"ड", IF(AT28>=21,"ई-1", IF(AT28<=20, "ई-2" ))))))))) -> ई-2 | AW28: =SUM(H28,N28,T28,Z28,AF28,AK28,AN28,AQ28,AT28) -> 0 | AX28: =SUM(AW28*100)/AW12 -> 0 | AY28: =IF(AX28>=91,"अ-1", IF(AX28>=81,"अ-2", IF(AX28>=71,"ब-1", IF(AX28>=61,"ब-2", IF(AX28>=51,"क-1", IF(AX28>=41,"क-2", IF(AX28>=33,"ड", IF(AX28>=21,"ई-1", IF(AX28>=0, "ई-2" ))))))))) -> ई-2
B29: =Info_1!M21 -> 0 | C29: =Info_1!J21 -> 0 | D29: =Info_1!K21 -> 0 | E29: =Info_1!L21 -> 0 | F29: 0 | G29: 0 | H29: =SUM(F29:G29) -> 0 | J29: =IF(H29>=91,"अ-1", IF(H29>=81,"अ-2", IF(H29>=71,"ब-1", IF(H29>=61,"ब-2", IF(H29>=51,"क-1", IF(H29>=41,"क-2", IF(H29>=33,"ड", IF(H29>=21,"ई-1", IF(H29<=20, "ई-2" ))))))))) -> ई-2 | L29: 0 | M29: 0 | N29: =SUM(L29:M29) -> 0 | P29: =IF(N29>=91,"अ-1", IF(N29>=81,"अ-2", IF(N29>=71,"ब-1", IF(N29>=61,"ब-2", IF(N29>=51,"क-1", IF(N29>=41,"क-2", IF(N29>=33,"ड", IF(N29>=21,"ई-1", IF(N29<=20, "ई-2" ))))))))) -> ई-2 | R29: 0 | S29: 0 | T29: =SUM(R29:S29) -> 0 | V29: =IF(T29>=91,"अ-1", IF(T29>=81,"अ-2", IF(T29>=71,"ब-1", IF(T29>=61,"ब-2", IF(T29>=51,"क-1", IF(T29>=41,"क-2", IF(T29>=33,"ड", IF(T29>=21,"ई-1", IF(T29<=20, "ई-2" ))))))))) -> ई-2 | X29: 0 | Y29: 0 | Z29: =SUM(X29:Y29) -> 0 | AB29: =IF(Z29>=91,"अ-1", IF(Z29>=81,"अ-2", IF(Z29>=71,"ब-1", IF(Z29>=61,"ब-2", IF(Z29>=51,"क-1", IF(Z29>=41,"क-2", IF(Z29>=33,"ड", IF(Z29>=21,"ई-1", IF(Z29<=20, "ई-2" ))))))))) -> ई-2 | AI29: 0 | AJ29: 0 | AK29: =SUM(AI29:AJ29) -> 0 | AL29: =IF(AK29>=91,"अ-1", IF(AK29>=81,"अ-2", IF(AK29>=71,"ब-1", IF(AK29>=61,"ब-2", IF(AK29>=51,"क-1", IF(AK29>=41,"क-2", IF(AK29>=33,"ड", IF(AK29>=21,"ई-1", IF(AK29<=20, "ई-2" ))))))))) -> ई-2 | AN29: 0 | AO29: =IF(AN29>=91,"अ-1", IF(AN29>=81,"अ-2", IF(AN29>=71,"ब-1", IF(AN29>=61,"ब-2", IF(AN29>=51,"क-1", IF(AN29>=41,"क-2", IF(AN29>=33,"ड", IF(AN29>=21,"ई-1", IF(AN29<=20, "ई-2" ))))))))) -> ई-2 | AQ29: 0 | AR29: =IF(AQ29>=91,"अ-1", IF(AQ29>=81,"अ-2", IF(AQ29>=71,"ब-1", IF(AQ29>=61,"ब-2", IF(AQ29>=51,"क-1", IF(AQ29>=41,"क-2", IF(AQ29>=33,"ड", IF(AQ29>=21,"ई-1", IF(AQ29<=20, "ई-2" ))))))))) -> ई-2 | AT29: 0 | AU29: =IF(AT29>=91,"अ-1", IF(AT29>=81,"अ-2", IF(AT29>=71,"ब-1", IF(AT29>=61,"ब-2", IF(AT29>=51,"क-1", IF(AT29>=41,"क-2", IF(AT29>=33,"ड", IF(AT29>=21,"ई-1", IF(AT29<=20, "ई-2" ))))))))) -> ई-2 | AW29: =SUM(H29,N29,T29,Z29,AF29,AK29,AN29,AQ29,AT29) -> 0 | AX29: =SUM(AW29*100)/AW12 -> 0 | AY29: =IF(AX29>=91,"अ-1", IF(AX29>=81,"अ-2", IF(AX29>=71,"ब-1", IF(AX29>=61,"ब-2", IF(AX29>=51,"क-1", IF(AX29>=41,"क-2", IF(AX29>=33,"ड", IF(AX29>=21,"ई-1", IF(AX29>=0, "ई-2" ))))))))) -> ई-2
B30: =Info_1!M22 -> 0 | C30: =Info_1!J22 -> 0 | D30: =Info_1!K22 -> 0 | E30: =Info_1!L22 -> 0 | F30: 0 | G30: 0 | H30: =SUM(F30:G30) -> 0 | J30: =IF(H30>=91,"अ-1", IF(H30>=81,"अ-2", IF(H30>=71,"ब-1", IF(H30>=61,"ब-2", IF(H30>=51,"क-1", IF(H30>=41,"क-2", IF(H30>=33,"ड", IF(H30>=21,"ई-1", IF(H30<=20, "ई-2" ))))))))) -> ई-2 | L30: 0 | M30: 0 | N30: =SUM(L30:M30) -> 0 | P30: =IF(N30>=91,"अ-1", IF(N30>=81,"अ-2", IF(N30>=71,"ब-1", IF(N30>=61,"ब-2", IF(N30>=51,"क-1", IF(N30>=41,"क-2", IF(N30>=33,"ड", IF(N30>=21,"ई-1", IF(N30<=20, "ई-2" ))))))))) -> ई-2 | R30: 0 | S30: 0 | T30: =SUM(R30:S30) -> 0 | V30: =IF(T30>=91,"अ-1", IF(T30>=81,"अ-2", IF(T30>=71,"ब-1", IF(T30>=61,"ब-2", IF(T30>=51,"क-1", IF(T30>=41,"क-2", IF(T30>=33,"ड", IF(T30>=21,"ई-1", IF(T30<=20, "ई-2" ))))))))) -> ई-2 | X30: 0 | Y30: 0 | Z30: =SUM(X30:Y30) -> 0 | AB30: =IF(Z30>=91,"अ-1", IF(Z30>=81,"अ-2", IF(Z30>=71,"ब-1", IF(Z30>=61,"ब-2", IF(Z30>=51,"क-1", IF(Z30>=41,"क-2", IF(Z30>=33,"ड", IF(Z30>=21,"ई-1", IF(Z30<=20, "ई-2" ))))))))) -> ई-2 | AI30: 0 | AJ30: 0 | AK30: =SUM(AI30:AJ30) -> 0 | AL30: =IF(AK30>=91,"अ-1", IF(AK30>=81,"अ-2", IF(AK30>=71,"ब-1", IF(AK30>=61,"ब-2", IF(AK30>=51,"क-1", IF(AK30>=41,"क-2", IF(AK30>=33,"ड", IF(AK30>=21,"ई-1", IF(AK30<=20, "ई-2" ))))))))) -> ई-2 | AN30: 0 | AO30: =IF(AN30>=91,"अ-1", IF(AN30>=81,"अ-2", IF(AN30>=71,"ब-1", IF(AN30>=61,"ब-2", IF(AN30>=51,"क-1", IF(AN30>=41,"क-2", IF(AN30>=33,"ड", IF(AN30>=21,"ई-1", IF(AN30<=20, "ई-2" ))))))))) -> ई-2 | AQ30: 0 | AR30: =IF(AQ30>=91,"अ-1", IF(AQ30>=81,"अ-2", IF(AQ30>=71,"ब-1", IF(AQ30>=61,"ब-2", IF(AQ30>=51,"क-1", IF(AQ30>=41,"क-2", IF(AQ30>=33,"ड", IF(AQ30>=21,"ई-1", IF(AQ30<=20, "ई-2" ))))))))) -> ई-2 | AT30: 0 | AU30: =IF(AT30>=91,"अ-1", IF(AT30>=81,"अ-2", IF(AT30>=71,"ब-1", IF(AT30>=61,"ब-2", IF(AT30>=51,"क-1", IF(AT30>=41,"क-2", IF(AT30>=33,"ड", IF(AT30>=21,"ई-1", IF(AT30<=20, "ई-2" ))))))))) -> ई-2 | AW30: =SUM(H30,N30,T30,Z30,AF30,AK30,AN30,AQ30,AT30) -> 0 | AX30: =SUM(AW30*100)/AW12 -> 0 | AY30: =IF(AX30>=91,"अ-1", IF(AX30>=81,"अ-2", IF(AX30>=71,"ब-1", IF(AX30>=61,"ब-2", IF(AX30>=51,"क-1", IF(AX30>=41,"क-2", IF(AX30>=33,"ड", IF(AX30>=21,"ई-1", IF(AX30>=0, "ई-2" ))))))))) -> ई-2
B31: =Info_1!M23 -> 0 | C31: =Info_1!J23 -> 0 | D31: =Info_1!K23 -> 0 | E31: =Info_1!L23 -> 0 | F31: 0 | G31: 0 | H31: =SUM(F31:G31) -> 0 | J31: =IF(H31>=91,"अ-1", IF(H31>=81,"अ-2", IF(H31>=71,"ब-1", IF(H31>=61,"ब-2", IF(H31>=51,"क-1", IF(H31>=41,"क-2", IF(H31>=33,"ड", IF(H31>=21,"ई-1", IF(H31<=20, "ई-2" ))))))))) -> ई-2 | L31: 0 | M31: 0 | N31: =SUM(L31:M31) -> 0 | P31: =IF(N31>=91,"अ-1", IF(N31>=81,"अ-2", IF(N31>=71,"ब-1", IF(N31>=61,"ब-2", IF(N31>=51,"क-1", IF(N31>=41,"क-2", IF(N31>=33,"ड", IF(N31>=21,"ई-1", IF(N31<=20, "ई-2" ))))))))) -> ई-2 | R31: 0 | S31: 0 | T31: =SUM(R31:S31) -> 0 | V31: =IF(T31>=91,"अ-1", IF(T31>=81,"अ-2", IF(T31>=71,"ब-1", IF(T31>=61,"ब-2", IF(T31>=51,"क-1", IF(T31>=41,"क-2", IF(T31>=33,"ड", IF(T31>=21,"ई-1", IF(T31<=20, "ई-2" ))))))))) -> ई-2 | X31: 0 | Y31: 0 | Z31: =SUM(X31:Y31) -> 0 | AB31: =IF(Z31>=91,"अ-1", IF(Z31>=81,"अ-2", IF(Z31>=71,"ब-1", IF(Z31>=61,"ब-2", IF(Z31>=51,"क-1", IF(Z31>=41,"क-2", IF(Z31>=33,"ड", IF(Z31>=21,"ई-1", IF(Z31<=20, "ई-2" ))))))))) -> ई-2 | AI31: 0 | AJ31: 0 | AK31: =SUM(AI31:AJ31) -> 0 | AL31: =IF(AK31>=91,"अ-1", IF(AK31>=81,"अ-2", IF(AK31>=71,"ब-1", IF(AK31>=61,"ब-2", IF(AK31>=51,"क-1", IF(AK31>=41,"क-2", IF(AK31>=33,"ड", IF(AK31>=21,"ई-1", IF(AK31<=20, "ई-2" ))))))))) -> ई-2 | AN31: 0 | AO31: =IF(AN31>=91,"अ-1", IF(AN31>=81,"अ-2", IF(AN31>=71,"ब-1", IF(AN31>=61,"ब-2", IF(AN31>=51,"क-1", IF(AN31>=41,"क-2", IF(AN31>=33,"ड", IF(AN31>=21,"ई-1", IF(AN31<=20, "ई-2" ))))))))) -> ई-2 | AQ31: 0 | AR31: =IF(AQ31>=91,"अ-1", IF(AQ31>=81,"अ-2", IF(AQ31>=71,"ब-1", IF(AQ31>=61,"ब-2", IF(AQ31>=51,"क-1", IF(AQ31>=41,"क-2", IF(AQ31>=33,"ड", IF(AQ31>=21,"ई-1", IF(AQ31<=20, "ई-2" ))))))))) -> ई-2 | AT31: 0 | AU31: =IF(AT31>=91,"अ-1", IF(AT31>=81,"अ-2", IF(AT31>=71,"ब-1", IF(AT31>=61,"ब-2", IF(AT31>=51,"क-1", IF(AT31>=41,"क-2", IF(AT31>=33,"ड", IF(AT31>=21,"ई-1", IF(AT31<=20, "ई-2" ))))))))) -> ई-2 | AW31: =SUM(H31,N31,T31,Z31,AF31,AK31,AN31,AQ31,AT31) -> 0 | AX31: =SUM(AW31*100)/AW12 -> 0 | AY31: =IF(AX31>=91,"अ-1", IF(AX31>=81,"अ-2", IF(AX31>=71,"ब-1", IF(AX31>=61,"ब-2", IF(AX31>=51,"क-1", IF(AX31>=41,"क-2", IF(AX31>=33,"ड", IF(AX31>=21,"ई-1", IF(AX31>=0, "ई-2" ))))))))) -> ई-2
B32: =Info_1!M24 -> 0 | C32: =Info_1!J24 -> 0 | D32: =Info_1!K24 -> 0 | E32: =Info_1!L24 -> 0 | F32: 0 | G32: 0 | H32: =SUM(F32:G32) -> 0 | J32: =IF(H32>=91,"अ-1", IF(H32>=81,"अ-2", IF(H32>=71,"ब-1", IF(H32>=61,"ब-2", IF(H32>=51,"क-1", IF(H32>=41,"क-2", IF(H32>=33,"ड", IF(H32>=21,"ई-1", IF(H32<=20, "ई-2" ))))))))) -> ई-2 | L32: 0 | M32: 0 | N32: =SUM(L32:M32) -> 0 | P32: =IF(N32>=91,"अ-1", IF(N32>=81,"अ-2", IF(N32>=71,"ब-1", IF(N32>=61,"ब-2", IF(N32>=51,"क-1", IF(N32>=41,"क-2", IF(N32>=33,"ड", IF(N32>=21,"ई-1", IF(N32<=20, "ई-2" ))))))))) -> ई-2 | R32: 0 | S32: 0 | T32: =SUM(R32:S32) -> 0 | V32: =IF(T32>=91,"अ-1", IF(T32>=81,"अ-2", IF(T32>=71,"ब-1", IF(T32>=61,"ब-2", IF(T32>=51,"क-1", IF(T32>=41,"क-2", IF(T32>=33,"ड", IF(T32>=21,"ई-1", IF(T32<=20, "ई-2" ))))))))) -> ई-2 | X32: 0 | Y32: 0 | Z32: =SUM(X32:Y32) -> 0 | AB32: =IF(Z32>=91,"अ-1", IF(Z32>=81,"अ-2", IF(Z32>=71,"ब-1", IF(Z32>=61,"ब-2", IF(Z32>=51,"क-1", IF(Z32>=41,"क-2", IF(Z32>=33,"ड", IF(Z32>=21,"ई-1", IF(Z32<=20, "ई-2" ))))))))) -> ई-2 | AI32: 0 | AJ32: 0 | AK32: =SUM(AI32:AJ32) -> 0 | AL32: =IF(AK32>=91,"अ-1", IF(AK32>=81,"अ-2", IF(AK32>=71,"ब-1", IF(AK32>=61,"ब-2", IF(AK32>=51,"क-1", IF(AK32>=41,"क-2", IF(AK32>=33,"ड", IF(AK32>=21,"ई-1", IF(AK32<=20, "ई-2" ))))))))) -> ई-2 | AN32: 0 | AO32: =IF(AN32>=91,"अ-1", IF(AN32>=81,"अ-2", IF(AN32>=71,"ब-1", IF(AN32>=61,"ब-2", IF(AN32>=51,"क-1", IF(AN32>=41,"क-2", IF(AN32>=33,"ड", IF(AN32>=21,"ई-1", IF(AN32<=20, "ई-2" ))))))))) -> ई-2 | AQ32: 0 | AR32: =IF(AQ32>=91,"अ-1", IF(AQ32>=81,"अ-2", IF(AQ32>=71,"ब-1", IF(AQ32>=61,"ब-2", IF(AQ32>=51,"क-1", IF(AQ32>=41,"क-2", IF(AQ32>=33,"ड", IF(AQ32>=21,"ई-1", IF(AQ32<=20, "ई-2" ))))))))) -> ई-2 | AT32: 0 | AU32: =IF(AT32>=91,"अ-1", IF(AT32>=81,"अ-2", IF(AT32>=71,"ब-1", IF(AT32>=61,"ब-2", IF(AT32>=51,"क-1", IF(AT32>=41,"क-2", IF(AT32>=33,"ड", IF(AT32>=21,"ई-1", IF(AT32<=20, "ई-2" ))))))))) -> ई-2 | AW32: =SUM(H32,N32,T32,Z32,AF32,AK32,AN32,AQ32,AT32) -> 0 | AX32: =SUM(AW32*100)/AW12 -> 0 | AY32: =IF(AX32>=91,"अ-1", IF(AX32>=81,"अ-2", IF(AX32>=71,"ब-1", IF(AX32>=61,"ब-2", IF(AX32>=51,"क-1", IF(AX32>=41,"क-2", IF(AX32>=33,"ड", IF(AX32>=21,"ई-1", IF(AX32>=0, "ई-2" ))))))))) -> ई-2
B33: =Info_1!M25 -> 0 | C33: =Info_1!J25 -> 0 | D33: =Info_1!K25 -> 0 | E33: =Info_1!L25 -> 0 | F33: 0 | G33: 0 | H33: =SUM(F33:G33) -> 0 | J33: =IF(H33>=91,"अ-1", IF(H33>=81,"अ-2", IF(H33>=71,"ब-1", IF(H33>=61,"ब-2", IF(H33>=51,"क-1", IF(H33>=41,"क-2", IF(H33>=33,"ड", IF(H33>=21,"ई-1", IF(H33<=20, "ई-2" ))))))))) -> ई-2 | L33: 0 | M33: 0 | N33: =SUM(L33:M33) -> 0 | P33: =IF(N33>=91,"अ-1", IF(N33>=81,"अ-2", IF(N33>=71,"ब-1", IF(N33>=61,"ब-2", IF(N33>=51,"क-1", IF(N33>=41,"क-2", IF(N33>=33,"ड", IF(N33>=21,"ई-1", IF(N33<=20, "ई-2" ))))))))) -> ई-2 | R33: 0 | S33: 0 | T33: =SUM(R33:S33) -> 0 | V33: =IF(T33>=91,"अ-1", IF(T33>=81,"अ-2", IF(T33>=71,"ब-1", IF(T33>=61,"ब-2", IF(T33>=51,"क-1", IF(T33>=41,"क-2", IF(T33>=33,"ड", IF(T33>=21,"ई-1", IF(T33<=20, "ई-2" ))))))))) -> ई-2 | X33: 0 | Y33: 0 | Z33: =SUM(X33:Y33) -> 0 | AB33: =IF(Z33>=91,"अ-1", IF(Z33>=81,"अ-2", IF(Z33>=71,"ब-1", IF(Z33>=61,"ब-2", IF(Z33>=51,"क-1", IF(Z33>=41,"क-2", IF(Z33>=33,"ड", IF(Z33>=21,"ई-1", IF(Z33<=20, "ई-2" ))))))))) -> ई-2 | AI33: 0 | AJ33: 0 | AK33: =SUM(AI33:AJ33) -> 0 | AL33: =IF(AK33>=91,"अ-1", IF(AK33>=81,"अ-2", IF(AK33>=71,"ब-1", IF(AK33>=61,"ब-2", IF(AK33>=51,"क-1", IF(AK33>=41,"क-2", IF(AK33>=33,"ड", IF(AK33>=21,"ई-1", IF(AK33<=20, "ई-2" ))))))))) -> ई-2 | AN33: 0 | AO33: =IF(AN33>=91,"अ-1", IF(AN33>=81,"अ-2", IF(AN33>=71,"ब-1", IF(AN33>=61,"ब-2", IF(AN33>=51,"क-1", IF(AN33>=41,"क-2", IF(AN33>=33,"ड", IF(AN33>=21,"ई-1", IF(AN33<=20, "ई-2" ))))))))) -> ई-2 | AQ33: 0 | AR33: =IF(AQ33>=91,"अ-1", IF(AQ33>=81,"अ-2", IF(AQ33>=71,"ब-1", IF(AQ33>=61,"ब-2", IF(AQ33>=51,"क-1", IF(AQ33>=41,"क-2", IF(AQ33>=33,"ड", IF(AQ33>=21,"ई-1", IF(AQ33<=20, "ई-2" ))))))))) -> ई-2 | AT33: 0 | AU33: =IF(AT33>=91,"अ-1", IF(AT33>=81,"अ-2", IF(AT33>=71,"ब-1", IF(AT33>=61,"ब-2", IF(AT33>=51,"क-1", IF(AT33>=41,"क-2", IF(AT33>=33,"ड", IF(AT33>=21,"ई-1", IF(AT33<=20, "ई-2" ))))))))) -> ई-2 | AW33: =SUM(H33,N33,T33,Z33,AF33,AK33,AN33,AQ33,AT33) -> 0 | AX33: =SUM(AW33*100)/AW12 -> 0 | AY33: =IF(AX33>=91,"अ-1", IF(AX33>=81,"अ-2", IF(AX33>=71,"ब-1", IF(AX33>=61,"ब-2", IF(AX33>=51,"क-1", IF(AX33>=41,"क-2", IF(AX33>=33,"ड", IF(AX33>=21,"ई-1", IF(AX33>=0, "ई-2" ))))))))) -> ई-2
B34: =Info_1!M26 -> 0 | C34: =Info_1!J26 -> 0 | D34: =Info_1!K26 -> 0 | E34: =Info_1!L26 -> 0 | F34: 0 | G34: 0 | H34: =SUM(F34:G34) -> 0 | J34: =IF(H34>=91,"अ-1", IF(H34>=81,"अ-2", IF(H34>=71,"ब-1", IF(H34>=61,"ब-2", IF(H34>=51,"क-1", IF(H34>=41,"क-2", IF(H34>=33,"ड", IF(H34>=21,"ई-1", IF(H34<=20, "ई-2" ))))))))) -> ई-2 | L34: 0 | M34: 0 | N34: =SUM(L34:M34) -> 0 | P34: =IF(N34>=91,"अ-1", IF(N34>=81,"अ-2", IF(N34>=71,"ब-1", IF(N34>=61,"ब-2", IF(N34>=51,"क-1", IF(N34>=41,"क-2", IF(N34>=33,"ड", IF(N34>=21,"ई-1", IF(N34<=20, "ई-2" ))))))))) -> ई-2 | R34: 0 | S34: 0 | T34: =SUM(R34:S34) -> 0 | V34: =IF(T34>=91,"अ-1", IF(T34>=81,"अ-2", IF(T34>=71,"ब-1", IF(T34>=61,"ब-2", IF(T34>=51,"क-1", IF(T34>=41,"क-2", IF(T34>=33,"ड", IF(T34>=21,"ई-1", IF(T34<=20, "ई-2" ))))))))) -> ई-2 | X34: 0 | Y34: 0 | Z34: =SUM(X34:Y34) -> 0 | AB34: =IF(Z34>=91,"अ-1", IF(Z34>=81,"अ-2", IF(Z34>=71,"ब-1", IF(Z34>=61,"ब-2", IF(Z34>=51,"क-1", IF(Z34>=41,"क-2", IF(Z34>=33,"ड", IF(Z34>=21,"ई-1", IF(Z34<=20, "ई-2" ))))))))) -> ई-2 | AI34: 0 | AJ34: 0 | AK34: =SUM(AI34:AJ34) -> 0 | AL34: =IF(AK34>=91,"अ-1", IF(AK34>=81,"अ-2", IF(AK34>=71,"ब-1", IF(AK34>=61,"ब-2", IF(AK34>=51,"क-1", IF(AK34>=41,"क-2", IF(AK34>=33,"ड", IF(AK34>=21,"ई-1", IF(AK34<=20, "ई-2" ))))))))) -> ई-2 | AN34: 0 | AO34: =IF(AN34>=91,"अ-1", IF(AN34>=81,"अ-2", IF(AN34>=71,"ब-1", IF(AN34>=61,"ब-2", IF(AN34>=51,"क-1", IF(AN34>=41,"क-2", IF(AN34>=33,"ड", IF(AN34>=21,"ई-1", IF(AN34<=20, "ई-2" ))))))))) -> ई-2 | AQ34: 0 | AR34: =IF(AQ34>=91,"अ-1", IF(AQ34>=81,"अ-2", IF(AQ34>=71,"ब-1", IF(AQ34>=61,"ब-2", IF(AQ34>=51,"क-1", IF(AQ34>=41,"क-2", IF(AQ34>=33,"ड", IF(AQ34>=21,"ई-1", IF(AQ34<=20, "ई-2" ))))))))) -> ई-2 | AT34: 0 | AU34: =IF(AT34>=91,"अ-1", IF(AT34>=81,"अ-2", IF(AT34>=71,"ब-1", IF(AT34>=61,"ब-2", IF(AT34>=51,"क-1", IF(AT34>=41,"क-2", IF(AT34>=33,"ड", IF(AT34>=21,"ई-1", IF(AT34<=20, "ई-2" ))))))))) -> ई-2 | AW34: =SUM(H34,N34,T34,Z34,AF34,AK34,AN34,AQ34,AT34) -> 0 | AX34: =SUM(AW34*100)/AW12 -> 0 | AY34: =IF(AX34>=91,"अ-1", IF(AX34>=81,"अ-2", IF(AX34>=71,"ब-1", IF(AX34>=61,"ब-2", IF(AX34>=51,"क-1", IF(AX34>=41,"क-2", IF(AX34>=33,"ड", IF(AX34>=21,"ई-1", IF(AX34>=0, "ई-2" ))))))))) -> ई-2
B35: =Info_1!M27 -> 0 | C35: =Info_1!J27 -> 0 | D35: =Info_1!K27 -> 0 | E35: =Info_1!L27 -> 0 | F35: 0 | G35: 0 | H35: =SUM(F35:G35) -> 0 | J35: =IF(H35>=91,"अ-1", IF(H35>=81,"अ-2", IF(H35>=71,"ब-1", IF(H35>=61,"ब-2", IF(H35>=51,"क-1", IF(H35>=41,"क-2", IF(H35>=33,"ड", IF(H35>=21,"ई-1", IF(H35<=20, "ई-2" ))))))))) -> ई-2 | L35: 0 | M35: 0 | N35: =SUM(L35:M35) -> 0 | P35: =IF(N35>=91,"अ-1", IF(N35>=81,"अ-2", IF(N35>=71,"ब-1", IF(N35>=61,"ब-2", IF(N35>=51,"क-1", IF(N35>=41,"क-2", IF(N35>=33,"ड", IF(N35>=21,"ई-1", IF(N35<=20, "ई-2" ))))))))) -> ई-2 | R35: 0 | S35: 0 | T35: =SUM(R35:S35) -> 0 | V35: =IF(T35>=91,"अ-1", IF(T35>=81,"अ-2", IF(T35>=71,"ब-1", IF(T35>=61,"ब-2", IF(T35>=51,"क-1", IF(T35>=41,"क-2", IF(T35>=33,"ड", IF(T35>=21,"ई-1", IF(T35<=20, "ई-2" ))))))))) -> ई-2 | X35: 0 | Y35: 0 | Z35: =SUM(X35:Y35) -> 0 | AB35: =IF(Z35>=91,"अ-1", IF(Z35>=81,"अ-2", IF(Z35>=71,"ब-1", IF(Z35>=61,"ब-2", IF(Z35>=51,"क-1", IF(Z35>=41,"क-2", IF(Z35>=33,"ड", IF(Z35>=21,"ई-1", IF(Z35<=20, "ई-2" ))))))))) -> ई-2 | AI35: 0 | AJ35: 0 | AK35: =SUM(AI35:AJ35) -> 0 | AL35: =IF(AK35>=91,"अ-1", IF(AK35>=81,"अ-2", IF(AK35>=71,"ब-1", IF(AK35>=61,"ब-2", IF(AK35>=51,"क-1", IF(AK35>=41,"क-2", IF(AK35>=33,"ड", IF(AK35>=21,"ई-1", IF(AK35<=20, "ई-2" ))))))))) -> ई-2 | AN35: 0 | AO35: =IF(AN35>=91,"अ-1", IF(AN35>=81,"अ-2", IF(AN35>=71,"ब-1", IF(AN35>=61,"ब-2", IF(AN35>=51,"क-1", IF(AN35>=41,"क-2", IF(AN35>=33,"ड", IF(AN35>=21,"ई-1", IF(AN35<=20, "ई-2" ))))))))) -> ई-2 | AQ35: 0 | AR35: =IF(AQ35>=91,"अ-1", IF(AQ35>=81,"अ-2", IF(AQ35>=71,"ब-1", IF(AQ35>=61,"ब-2", IF(AQ35>=51,"क-1", IF(AQ35>=41,"क-2", IF(AQ35>=33,"ड", IF(AQ35>=21,"ई-1", IF(AQ35<=20, "ई-2" ))))))))) -> ई-2 | AT35: 0 | AU35: =IF(AT35>=91,"अ-1", IF(AT35>=81,"अ-2", IF(AT35>=71,"ब-1", IF(AT35>=61,"ब-2", IF(AT35>=51,"क-1", IF(AT35>=41,"क-2", IF(AT35>=33,"ड", IF(AT35>=21,"ई-1", IF(AT35<=20, "ई-2" ))))))))) -> ई-2 | AW35: =SUM(H35,N35,T35,Z35,AF35,AK35,AN35,AQ35,AT35) -> 0 | AX35: =SUM(AW35*100)/AW12 -> 0 | AY35: =IF(AX35>=91,"अ-1", IF(AX35>=81,"अ-2", IF(AX35>=71,"ब-1", IF(AX35>=61,"ब-2", IF(AX35>=51,"क-1", IF(AX35>=41,"क-2", IF(AX35>=33,"ड", IF(AX35>=21,"ई-1", IF(AX35>=0, "ई-2" ))))))))) -> ई-2
B36: =Info_1!M28 -> 0 | C36: =Info_1!J28 -> 0 | D36: =Info_1!K28 -> 0 | E36: =Info_1!L28 -> 0 | F36: 0 | G36: 0 | H36: =SUM(F36:G36) -> 0 | J36: =IF(H36>=91,"अ-1", IF(H36>=81,"अ-2", IF(H36>=71,"ब-1", IF(H36>=61,"ब-2", IF(H36>=51,"क-1", IF(H36>=41,"क-2", IF(H36>=33,"ड", IF(H36>=21,"ई-1", IF(H36<=20, "ई-2" ))))))))) -> ई-2 | L36: 0 | M36: 0 | N36: =SUM(L36:M36) -> 0 | P36: =IF(N36>=91,"अ-1", IF(N36>=81,"अ-2", IF(N36>=71,"ब-1", IF(N36>=61,"ब-2", IF(N36>=51,"क-1", IF(N36>=41,"क-2", IF(N36>=33,"ड", IF(N36>=21,"ई-1", IF(N36<=20, "ई-2" ))))))))) -> ई-2 | R36: 0 | S36: 0 | T36: =SUM(R36:S36) -> 0 | V36: =IF(T36>=91,"अ-1", IF(T36>=81,"अ-2", IF(T36>=71,"ब-1", IF(T36>=61,"ब-2", IF(T36>=51,"क-1", IF(T36>=41,"क-2", IF(T36>=33,"ड", IF(T36>=21,"ई-1", IF(T36<=20, "ई-2" ))))))))) -> ई-2 | X36: 0 | Y36: 0 | Z36: =SUM(X36:Y36) -> 0 | AB36: =IF(Z36>=91,"अ-1", IF(Z36>=81,"अ-2", IF(Z36>=71,"ब-1", IF(Z36>=61,"ब-2", IF(Z36>=51,"क-1", IF(Z36>=41,"क-2", IF(Z36>=33,"ड", IF(Z36>=21,"ई-1", IF(Z36<=20, "ई-2" ))))))))) -> ई-2 | AI36: 0 | AJ36: 0 | AK36: =SUM(AI36:AJ36) -> 0 | AL36: =IF(AK36>=91,"अ-1", IF(AK36>=81,"अ-2", IF(AK36>=71,"ब-1", IF(AK36>=61,"ब-2", IF(AK36>=51,"क-1", IF(AK36>=41,"क-2", IF(AK36>=33,"ड", IF(AK36>=21,"ई-1", IF(AK36<=20, "ई-2" ))))))))) -> ई-2 | AN36: 0 | AO36: =IF(AN36>=91,"अ-1", IF(AN36>=81,"अ-2", IF(AN36>=71,"ब-1", IF(AN36>=61,"ब-2", IF(AN36>=51,"क-1", IF(AN36>=41,"क-2", IF(AN36>=33,"ड", IF(AN36>=21,"ई-1", IF(AN36<=20, "ई-2" ))))))))) -> ई-2 | AQ36: 0 | AR36: =IF(AQ36>=91,"अ-1", IF(AQ36>=81,"अ-2", IF(AQ36>=71,"ब-1", IF(AQ36>=61,"ब-2", IF(AQ36>=51,"क-1", IF(AQ36>=41,"क-2", IF(AQ36>=33,"ड", IF(AQ36>=21,"ई-1", IF(AQ36<=20, "ई-2" ))))))))) -> ई-2 | AT36: 0 | AU36: =IF(AT36>=91,"अ-1", IF(AT36>=81,"अ-2", IF(AT36>=71,"ब-1", IF(AT36>=61,"ब-2", IF(AT36>=51,"क-1", IF(AT36>=41,"क-2", IF(AT36>=33,"ड", IF(AT36>=21,"ई-1", IF(AT36<=20, "ई-2" ))))))))) -> ई-2 | AW36: =SUM(H36,N36,T36,Z36,AF36,AK36,AN36,AQ36,AT36) -> 0 | AX36: =SUM(AW36*100)/AW12 -> 0 | AY36: =IF(AX36>=91,"अ-1", IF(AX36>=81,"अ-2", IF(AX36>=71,"ब-1", IF(AX36>=61,"ब-2", IF(AX36>=51,"क-1", IF(AX36>=41,"क-2", IF(AX36>=33,"ड", IF(AX36>=21,"ई-1", IF(AX36>=0, "ई-2" ))))))))) -> ई-2
B37: =Info_1!M29 -> 0 | C37: =Info_1!J29 -> 0 | D37: =Info_1!K29 -> 0 | E37: =Info_1!L29 -> 0 | F37: 0 | G37: 0 | H37: =SUM(F37:G37) -> 0 | J37: =IF(H37>=91,"अ-1", IF(H37>=81,"अ-2", IF(H37>=71,"ब-1", IF(H37>=61,"ब-2", IF(H37>=51,"क-1", IF(H37>=41,"क-2", IF(H37>=33,"ड", IF(H37>=21,"ई-1", IF(H37<=20, "ई-2" ))))))))) -> ई-2 | L37: 0 | M37: 0 | N37: =SUM(L37:M37) -> 0 | P37: =IF(N37>=91,"अ-1", IF(N37>=81,"अ-2", IF(N37>=71,"ब-1", IF(N37>=61,"ब-2", IF(N37>=51,"क-1", IF(N37>=41,"क-2", IF(N37>=33,"ड", IF(N37>=21,"ई-1", IF(N37<=20, "ई-2" ))))))))) -> ई-2 | R37: 0 | S37: 0 | T37: =SUM(R37:S37) -> 0 | V37: =IF(T37>=91,"अ-1", IF(T37>=81,"अ-2", IF(T37>=71,"ब-1", IF(T37>=61,"ब-2", IF(T37>=51,"क-1", IF(T37>=41,"क-2", IF(T37>=33,"ड", IF(T37>=21,"ई-1", IF(T37<=20, "ई-2" ))))))))) -> ई-2 | X37: 0 | Y37: 0 | Z37: =SUM(X37:Y37) -> 0 | AB37: =IF(Z37>=91,"अ-1", IF(Z37>=81,"अ-2", IF(Z37>=71,"ब-1", IF(Z37>=61,"ब-2", IF(Z37>=51,"क-1", IF(Z37>=41,"क-2", IF(Z37>=33,"ड", IF(Z37>=21,"ई-1", IF(Z37<=20, "ई-2" ))))))))) -> ई-2 | AI37: 0 | AJ37: 0 | AK37: =SUM(AI37:AJ37) -> 0 | AL37: =IF(AK37>=91,"अ-1", IF(AK37>=81,"अ-2", IF(AK37>=71,"ब-1", IF(AK37>=61,"ब-2", IF(AK37>=51,"क-1", IF(AK37>=41,"क-2", IF(AK37>=33,"ड", IF(AK37>=21,"ई-1", IF(AK37<=20, "ई-2" ))))))))) -> ई-2 | AN37: 0 | AO37: =IF(AN37>=91,"अ-1", IF(AN37>=81,"अ-2", IF(AN37>=71,"ब-1", IF(AN37>=61,"ब-2", IF(AN37>=51,"क-1", IF(AN37>=41,"क-2", IF(AN37>=33,"ड", IF(AN37>=21,"ई-1", IF(AN37<=20, "ई-2" ))))))))) -> ई-2 | AQ37: 0 | AR37: =IF(AQ37>=91,"अ-1", IF(AQ37>=81,"अ-2", IF(AQ37>=71,"ब-1", IF(AQ37>=61,"ब-2", IF(AQ37>=51,"क-1", IF(AQ37>=41,"क-2", IF(AQ37>=33,"ड", IF(AQ37>=21,"ई-1", IF(AQ37<=20, "ई-2" ))))))))) -> ई-2 | AT37: 0 | AU37: =IF(AT37>=91,"अ-1", IF(AT37>=81,"अ-2", IF(AT37>=71,"ब-1", IF(AT37>=61,"ब-2", IF(AT37>=51,"क-1", IF(AT37>=41,"क-2", IF(AT37>=33,"ड", IF(AT37>=21,"ई-1", IF(AT37<=20, "ई-2" ))))))))) -> ई-2 | AW37: =SUM(H37,N37,T37,Z37,AF37,AK37,AN37,AQ37,AT37) -> 0 | AX37: =SUM(AW37*100)/AW12 -> 0 | AY37: =IF(AX37>=91,"अ-1", IF(AX37>=81,"अ-2", IF(AX37>=71,"ब-1", IF(AX37>=61,"ब-2", IF(AX37>=51,"क-1", IF(AX37>=41,"क-2", IF(AX37>=33,"ड", IF(AX37>=21,"ई-1", IF(AX37>=0, "ई-2" ))))))))) -> ई-2
B38: =Info_1!M30 -> 0 | C38: =Info_1!J30 -> 0 | D38: =Info_1!K30 -> 0 | E38: =Info_1!L30 -> 0 | F38: 0 | G38: 0 | H38: =SUM(F38:G38) -> 0 | J38: =IF(H38>=91,"अ-1", IF(H38>=81,"अ-2", IF(H38>=71,"ब-1", IF(H38>=61,"ब-2", IF(H38>=51,"क-1", IF(H38>=41,"क-2", IF(H38>=33,"ड", IF(H38>=21,"ई-1", IF(H38<=20, "ई-2" ))))))))) -> ई-2 | L38: 0 | M38: 0 | N38: =SUM(L38:M38) -> 0 | P38: =IF(N38>=91,"अ-1", IF(N38>=81,"अ-2", IF(N38>=71,"ब-1", IF(N38>=61,"ब-2", IF(N38>=51,"क-1", IF(N38>=41,"क-2", IF(N38>=33,"ड", IF(N38>=21,"ई-1", IF(N38<=20, "ई-2" ))))))))) -> ई-2 | R38: 0 | S38: 0 | T38: =SUM(R38:S38) -> 0 | V38: =IF(T38>=91,"अ-1", IF(T38>=81,"अ-2", IF(T38>=71,"ब-1", IF(T38>=61,"ब-2", IF(T38>=51,"क-1", IF(T38>=41,"क-2", IF(T38>=33,"ड", IF(T38>=21,"ई-1", IF(T38<=20, "ई-2" ))))))))) -> ई-2 | X38: 0 | Y38: 0 | Z38: =SUM(X38:Y38) -> 0 | AB38: =IF(Z38>=91,"अ-1", IF(Z38>=81,"अ-2", IF(Z38>=71,"ब-1", IF(Z38>=61,"ब-2", IF(Z38>=51,"क-1", IF(Z38>=41,"क-2", IF(Z38>=33,"ड", IF(Z38>=21,"ई-1", IF(Z38<=20, "ई-2" ))))))))) -> ई-2 | AI38: 0 | AJ38: 0 | AK38: =SUM(AI38:AJ38) -> 0 | AL38: =IF(AK38>=91,"अ-1", IF(AK38>=81,"अ-2", IF(AK38>=71,"ब-1", IF(AK38>=61,"ब-2", IF(AK38>=51,"क-1", IF(AK38>=41,"क-2", IF(AK38>=33,"ड", IF(AK38>=21,"ई-1", IF(AK38<=20, "ई-2" ))))))))) -> ई-2 | AN38: 0 | AO38: =IF(AN38>=91,"अ-1", IF(AN38>=81,"अ-2", IF(AN38>=71,"ब-1", IF(AN38>=61,"ब-2", IF(AN38>=51,"क-1", IF(AN38>=41,"क-2", IF(AN38>=33,"ड", IF(AN38>=21,"ई-1", IF(AN38<=20, "ई-2" ))))))))) -> ई-2 | AQ38: 0 | AR38: =IF(AQ38>=91,"अ-1", IF(AQ38>=81,"अ-2", IF(AQ38>=71,"ब-1", IF(AQ38>=61,"ब-2", IF(AQ38>=51,"क-1", IF(AQ38>=41,"क-2", IF(AQ38>=33,"ड", IF(AQ38>=21,"ई-1", IF(AQ38<=20, "ई-2" ))))))))) -> ई-2 | AT38: 0 | AU38: =IF(AT38>=91,"अ-1", IF(AT38>=81,"अ-2", IF(AT38>=71,"ब-1", IF(AT38>=61,"ब-2", IF(AT38>=51,"क-1", IF(AT38>=41,"क-2", IF(AT38>=33,"ड", IF(AT38>=21,"ई-1", IF(AT38<=20, "ई-2" ))))))))) -> ई-2 | AW38: =SUM(H38,N38,T38,Z38,AF38,AK38,AN38,AQ38,AT38) -> 0 | AX38: =SUM(AW38*100)/AW12 -> 0 | AY38: =IF(AX38>=91,"अ-1", IF(AX38>=81,"अ-2", IF(AX38>=71,"ब-1", IF(AX38>=61,"ब-2", IF(AX38>=51,"क-1", IF(AX38>=41,"क-2", IF(AX38>=33,"ड", IF(AX38>=21,"ई-1", IF(AX38>=0, "ई-2" ))))))))) -> ई-2
B39: =Info_1!M31 -> 0 | C39: =Info_1!J31 -> 0 | D39: =Info_1!K31 -> 0 | E39: =Info_1!L31 -> 0 | F39: 0 | G39: 0 | H39: =SUM(F39:G39) -> 0 | J39: =IF(H39>=91,"अ-1", IF(H39>=81,"अ-2", IF(H39>=71,"ब-1", IF(H39>=61,"ब-2", IF(H39>=51,"क-1", IF(H39>=41,"क-2", IF(H39>=33,"ड", IF(H39>=21,"ई-1", IF(H39<=20, "ई-2" ))))))))) -> ई-2 | L39: 0 | M39: 0 | N39: =SUM(L39:M39) -> 0 | P39: =IF(N39>=91,"अ-1", IF(N39>=81,"अ-2", IF(N39>=71,"ब-1", IF(N39>=61,"ब-2", IF(N39>=51,"क-1", IF(N39>=41,"क-2", IF(N39>=33,"ड", IF(N39>=21,"ई-1", IF(N39<=20, "ई-2" ))))))))) -> ई-2 | R39: 0 | S39: 0 | T39: =SUM(R39:S39) -> 0 | V39: =IF(T39>=91,"अ-1", IF(T39>=81,"अ-2", IF(T39>=71,"ब-1", IF(T39>=61,"ब-2", IF(T39>=51,"क-1", IF(T39>=41,"क-2", IF(T39>=33,"ड", IF(T39>=21,"ई-1", IF(T39<=20, "ई-2" ))))))))) -> ई-2 | X39: 0 | Y39: 0 | Z39: =SUM(X39:Y39) -> 0 | AB39: =IF(Z39>=91,"अ-1", IF(Z39>=81,"अ-2", IF(Z39>=71,"ब-1", IF(Z39>=61,"ब-2", IF(Z39>=51,"क-1", IF(Z39>=41,"क-2", IF(Z39>=33,"ड", IF(Z39>=21,"ई-1", IF(Z39<=20, "ई-2" ))))))))) -> ई-2 | AI39: 0 | AJ39: 0 | AK39: =SUM(AI39:AJ39) -> 0 | AL39: =IF(AK39>=91,"अ-1", IF(AK39>=81,"अ-2", IF(AK39>=71,"ब-1", IF(AK39>=61,"ब-2", IF(AK39>=51,"क-1", IF(AK39>=41,"क-2", IF(AK39>=33,"ड", IF(AK39>=21,"ई-1", IF(AK39<=20, "ई-2" ))))))))) -> ई-2 | AN39: 0 | AO39: =IF(AN39>=91,"अ-1", IF(AN39>=81,"अ-2", IF(AN39>=71,"ब-1", IF(AN39>=61,"ब-2", IF(AN39>=51,"क-1", IF(AN39>=41,"क-2", IF(AN39>=33,"ड", IF(AN39>=21,"ई-1", IF(AN39<=20, "ई-2" ))))))))) -> ई-2 | AQ39: 0 | AR39: =IF(AQ39>=91,"अ-1", IF(AQ39>=81,"अ-2", IF(AQ39>=71,"ब-1", IF(AQ39>=61,"ब-2", IF(AQ39>=51,"क-1", IF(AQ39>=41,"क-2", IF(AQ39>=33,"ड", IF(AQ39>=21,"ई-1", IF(AQ39<=20, "ई-2" ))))))))) -> ई-2 | AT39: 0 | AU39: =IF(AT39>=91,"अ-1", IF(AT39>=81,"अ-2", IF(AT39>=71,"ब-1", IF(AT39>=61,"ब-2", IF(AT39>=51,"क-1", IF(AT39>=41,"क-2", IF(AT39>=33,"ड", IF(AT39>=21,"ई-1", IF(AT39<=20, "ई-2" ))))))))) -> ई-2 | AW39: =SUM(H39,N39,T39,Z39,AF39,AK39,AN39,AQ39,AT39) -> 0 | AX39: =SUM(AW39*100)/AW12 -> 0 | AY39: =IF(AX39>=91,"अ-1", IF(AX39>=81,"अ-2", IF(AX39>=71,"ब-1", IF(AX39>=61,"ब-2", IF(AX39>=51,"क-1", IF(AX39>=41,"क-2", IF(AX39>=33,"ड", IF(AX39>=21,"ई-1", IF(AX39>=0, "ई-2" ))))))))) -> ई-2
B40: =Info_1!M32 -> 0 | C40: =Info_1!J32 -> 0 | D40: =Info_1!K32 -> 0 | E40: =Info_1!L32 -> 0 | F40: 0 | G40: 0 | H40: =SUM(F40:G40) -> 0 | J40: =IF(H40>=91,"अ-1", IF(H40>=81,"अ-2", IF(H40>=71,"ब-1", IF(H40>=61,"ब-2", IF(H40>=51,"क-1", IF(H40>=41,"क-2", IF(H40>=33,"ड", IF(H40>=21,"ई-1", IF(H40<=20, "ई-2" ))))))))) -> ई-2 | L40: 0 | M40: 0 | N40: =SUM(L40:M40) -> 0 | P40: =IF(N40>=91,"अ-1", IF(N40>=81,"अ-2", IF(N40>=71,"ब-1", IF(N40>=61,"ब-2", IF(N40>=51,"क-1", IF(N40>=41,"क-2", IF(N40>=33,"ड", IF(N40>=21,"ई-1", IF(N40<=20, "ई-2" ))))))))) -> ई-2 | R40: 0 | S40: 0 | T40: =SUM(R40:S40) -> 0 | V40: =IF(T40>=91,"अ-1", IF(T40>=81,"अ-2", IF(T40>=71,"ब-1", IF(T40>=61,"ब-2", IF(T40>=51,"क-1", IF(T40>=41,"क-2", IF(T40>=33,"ड", IF(T40>=21,"ई-1", IF(T40<=20, "ई-2" ))))))))) -> ई-2 | X40: 0 | Y40: 0 | Z40: =SUM(X40:Y40) -> 0 | AB40: =IF(Z40>=91,"अ-1", IF(Z40>=81,"अ-2", IF(Z40>=71,"ब-1", IF(Z40>=61,"ब-2", IF(Z40>=51,"क-1", IF(Z40>=41,"क-2", IF(Z40>=33,"ड", IF(Z40>=21,"ई-1", IF(Z40<=20, "ई-2" ))))))))) -> ई-2 | AI40: 0 | AJ40: 0 | AK40: =SUM(AI40:AJ40) -> 0 | AL40: =IF(AK40>=91,"अ-1", IF(AK40>=81,"अ-2", IF(AK40>=71,"ब-1", IF(AK40>=61,"ब-2", IF(AK40>=51,"क-1", IF(AK40>=41,"क-2", IF(AK40>=33,"ड", IF(AK40>=21,"ई-1", IF(AK40<=20, "ई-2" ))))))))) -> ई-2 | AN40: 0 | AO40: =IF(AN40>=91,"अ-1", IF(AN40>=81,"अ-2", IF(AN40>=71,"ब-1", IF(AN40>=61,"ब-2", IF(AN40>=51,"क-1", IF(AN40>=41,"क-2", IF(AN40>=33,"ड", IF(AN40>=21,"ई-1", IF(AN40<=20, "ई-2" ))))))))) -> ई-2 | AQ40: 0 | AR40: =IF(AQ40>=91,"अ-1", IF(AQ40>=81,"अ-2", IF(AQ40>=71,"ब-1", IF(AQ40>=61,"ब-2", IF(AQ40>=51,"क-1", IF(AQ40>=41,"क-2", IF(AQ40>=33,"ड", IF(AQ40>=21,"ई-1", IF(AQ40<=20, "ई-2" ))))))))) -> ई-2 | AT40: 0 | AU40: =IF(AT40>=91,"अ-1", IF(AT40>=81,"अ-2", IF(AT40>=71,"ब-1", IF(AT40>=61,"ब-2", IF(AT40>=51,"क-1", IF(AT40>=41,"क-2", IF(AT40>=33,"ड", IF(AT40>=21,"ई-1", IF(AT40<=20, "ई-2" ))))))))) -> ई-2 | AW40: =SUM(H40,N40,T40,Z40,AF40,AK40,AN40,AQ40,AT40) -> 0 | AX40: =SUM(AW40*100)/AW12 -> 0 | AY40: =IF(AX40>=91,"अ-1", IF(AX40>=81,"अ-2", IF(AX40>=71,"ब-1", IF(AX40>=61,"ब-2", IF(AX40>=51,"क-1", IF(AX40>=41,"क-2", IF(AX40>=33,"ड", IF(AX40>=21,"ई-1", IF(AX40>=0, "ई-2" ))))))))) -> ई-2
B41: =Info_1!M33 -> 0 | C41: =Info_1!J33 -> 0 | D41: =Info_1!K33 -> 0 | E41: =Info_1!L33 -> 0 | F41: 0 | G41: 0 | H41: =SUM(F41:G41) -> 0 | J41: =IF(H41>=91,"अ-1", IF(H41>=81,"अ-2", IF(H41>=71,"ब-1", IF(H41>=61,"ब-2", IF(H41>=51,"क-1", IF(H41>=41,"क-2", IF(H41>=33,"ड", IF(H41>=21,"ई-1", IF(H41<=20, "ई-2" ))))))))) -> ई-2 | L41: 0 | M41: 0 | N41: =SUM(L41:M41) -> 0 | P41: =IF(N41>=91,"अ-1", IF(N41>=81,"अ-2", IF(N41>=71,"ब-1", IF(N41>=61,"ब-2", IF(N41>=51,"क-1", IF(N41>=41,"क-2", IF(N41>=33,"ड", IF(N41>=21,"ई-1", IF(N41<=20, "ई-2" ))))))))) -> ई-2 | R41: 0 | S41: 0 | T41: =SUM(R41:S41) -> 0 | V41: =IF(T41>=91,"अ-1", IF(T41>=81,"अ-2", IF(T41>=71,"ब-1", IF(T41>=61,"ब-2", IF(T41>=51,"क-1", IF(T41>=41,"क-2", IF(T41>=33,"ड", IF(T41>=21,"ई-1", IF(T41<=20, "ई-2" ))))))))) -> ई-2 | X41: 0 | Y41: 0 | Z41: =SUM(X41:Y41) -> 0 | AB41: =IF(Z41>=91,"अ-1", IF(Z41>=81,"अ-2", IF(Z41>=71,"ब-1", IF(Z41>=61,"ब-2", IF(Z41>=51,"क-1", IF(Z41>=41,"क-2", IF(Z41>=33,"ड", IF(Z41>=21,"ई-1", IF(Z41<=20, "ई-2" ))))))))) -> ई-2 | AI41: 0 | AJ41: 0 | AK41: =SUM(AI41:AJ41) -> 0 | AL41: =IF(AK41>=91,"अ-1", IF(AK41>=81,"अ-2", IF(AK41>=71,"ब-1", IF(AK41>=61,"ब-2", IF(AK41>=51,"क-1", IF(AK41>=41,"क-2", IF(AK41>=33,"ड", IF(AK41>=21,"ई-1", IF(AK41<=20, "ई-2" ))))))))) -> ई-2 | AN41: 0 | AO41: =IF(AN41>=91,"अ-1", IF(AN41>=81,"अ-2", IF(AN41>=71,"ब-1", IF(AN41>=61,"ब-2", IF(AN41>=51,"क-1", IF(AN41>=41,"क-2", IF(AN41>=33,"ड", IF(AN41>=21,"ई-1", IF(AN41<=20, "ई-2" ))))))))) -> ई-2 | AQ41: 0 | AR41: =IF(AQ41>=91,"अ-1", IF(AQ41>=81,"अ-2", IF(AQ41>=71,"ब-1", IF(AQ41>=61,"ब-2", IF(AQ41>=51,"क-1", IF(AQ41>=41,"क-2", IF(AQ41>=33,"ड", IF(AQ41>=21,"ई-1", IF(AQ41<=20, "ई-2" ))))))))) -> ई-2 | AT41: 0 | AU41: =IF(AT41>=91,"अ-1", IF(AT41>=81,"अ-2", IF(AT41>=71,"ब-1", IF(AT41>=61,"ब-2", IF(AT41>=51,"क-1", IF(AT41>=41,"क-2", IF(AT41>=33,"ड", IF(AT41>=21,"ई-1", IF(AT41<=20, "ई-2" ))))))))) -> ई-2 | AW41: =SUM(H41,N41,T41,Z41,AF41,AK41,AN41,AQ41,AT41) -> 0 | AX41: =SUM(AW41*100)/AW12 -> 0 | AY41: =IF(AX41>=91,"अ-1", IF(AX41>=81,"अ-2", IF(AX41>=71,"ब-1", IF(AX41>=61,"ब-2", IF(AX41>=51,"क-1", IF(AX41>=41,"क-2", IF(AX41>=33,"ड", IF(AX41>=21,"ई-1", IF(AX41>=0, "ई-2" ))))))))) -> ई-2
B42: =Info_1!M34 -> 0 | C42: =Info_1!J34 -> 0 | D42: =Info_1!K34 -> 0 | E42: =Info_1!L34 -> 0 | F42: 0 | G42: 0 | H42: =SUM(F42:G42) -> 0 | J42: =IF(H42>=91,"अ-1", IF(H42>=81,"अ-2", IF(H42>=71,"ब-1", IF(H42>=61,"ब-2", IF(H42>=51,"क-1", IF(H42>=41,"क-2", IF(H42>=33,"ड", IF(H42>=21,"ई-1", IF(H42<=20, "ई-2" ))))))))) -> ई-2 | L42: 0 | M42: 0 | N42: =SUM(L42:M42) -> 0 | P42: =IF(N42>=91,"अ-1", IF(N42>=81,"अ-2", IF(N42>=71,"ब-1", IF(N42>=61,"ब-2", IF(N42>=51,"क-1", IF(N42>=41,"क-2", IF(N42>=33,"ड", IF(N42>=21,"ई-1", IF(N42<=20, "ई-2" ))))))))) -> ई-2 | R42: 0 | S42: 0 | T42: =SUM(R42:S42) -> 0 | V42: =IF(T42>=91,"अ-1", IF(T42>=81,"अ-2", IF(T42>=71,"ब-1", IF(T42>=61,"ब-2", IF(T42>=51,"क-1", IF(T42>=41,"क-2", IF(T42>=33,"ड", IF(T42>=21,"ई-1", IF(T42<=20, "ई-2" ))))))))) -> ई-2 | X42: 0 | Y42: 0 | Z42: =SUM(X42:Y42) -> 0 | AB42: =IF(Z42>=91,"अ-1", IF(Z42>=81,"अ-2", IF(Z42>=71,"ब-1", IF(Z42>=61,"ब-2", IF(Z42>=51,"क-1", IF(Z42>=41,"क-2", IF(Z42>=33,"ड", IF(Z42>=21,"ई-1", IF(Z42<=20, "ई-2" ))))))))) -> ई-2 | AI42: 0 | AJ42: 0 | AK42: =SUM(AI42:AJ42) -> 0 | AL42: =IF(AK42>=91,"अ-1", IF(AK42>=81,"अ-2", IF(AK42>=71,"ब-1", IF(AK42>=61,"ब-2", IF(AK42>=51,"क-1", IF(AK42>=41,"क-2", IF(AK42>=33,"ड", IF(AK42>=21,"ई-1", IF(AK42<=20, "ई-2" ))))))))) -> ई-2 | AN42: 0 | AO42: =IF(AN42>=91,"अ-1", IF(AN42>=81,"अ-2", IF(AN42>=71,"ब-1", IF(AN42>=61,"ब-2", IF(AN42>=51,"क-1", IF(AN42>=41,"क-2", IF(AN42>=33,"ड", IF(AN42>=21,"ई-1", IF(AN42<=20, "ई-2" ))))))))) -> ई-2 | AQ42: 0 | AR42: =IF(AQ42>=91,"अ-1", IF(AQ42>=81,"अ-2", IF(AQ42>=71,"ब-1", IF(AQ42>=61,"ब-2", IF(AQ42>=51,"क-1", IF(AQ42>=41,"क-2", IF(AQ42>=33,"ड", IF(AQ42>=21,"ई-1", IF(AQ42<=20, "ई-2" ))))))))) -> ई-2 | AT42: 0 | AU42: =IF(AT42>=91,"अ-1", IF(AT42>=81,"अ-2", IF(AT42>=71,"ब-1", IF(AT42>=61,"ब-2", IF(AT42>=51,"क-1", IF(AT42>=41,"क-2", IF(AT42>=33,"ड", IF(AT42>=21,"ई-1", IF(AT42<=20, "ई-2" ))))))))) -> ई-2 | AW42: =SUM(H42,N42,T42,Z42,AF42,AK42,AN42,AQ42,AT42) -> 0 | AX42: =SUM(AW42*100)/AW12 -> 0 | AY42: =IF(AX42>=91,"अ-1", IF(AX42>=81,"अ-2", IF(AX42>=71,"ब-1", IF(AX42>=61,"ब-2", IF(AX42>=51,"क-1", IF(AX42>=41,"क-2", IF(AX42>=33,"ड", IF(AX42>=21,"ई-1", IF(AX42>=0, "ई-2" ))))))))) -> ई-2
B43: =Info_1!M35 -> 0 | C43: =Info_1!J35 -> 0 | D43: =Info_1!K35 -> 0 | E43: =Info_1!L35 -> 0 | F43: 0 | G43: 0 | H43: =SUM(F43:G43) -> 0 | J43: =IF(H43>=91,"अ-1", IF(H43>=81,"अ-2", IF(H43>=71,"ब-1", IF(H43>=61,"ब-2", IF(H43>=51,"क-1", IF(H43>=41,"क-2", IF(H43>=33,"ड", IF(H43>=21,"ई-1", IF(H43<=20, "ई-2" ))))))))) -> ई-2 | L43: 0 | M43: 0 | N43: =SUM(L43:M43) -> 0 | P43: =IF(N43>=91,"अ-1", IF(N43>=81,"अ-2", IF(N43>=71,"ब-1", IF(N43>=61,"ब-2", IF(N43>=51,"क-1", IF(N43>=41,"क-2", IF(N43>=33,"ड", IF(N43>=21,"ई-1", IF(N43<=20, "ई-2" ))))))))) -> ई-2 | R43: 0 | S43: 0 | T43: =SUM(R43:S43) -> 0 | V43: =IF(T43>=91,"अ-1", IF(T43>=81,"अ-2", IF(T43>=71,"ब-1", IF(T43>=61,"ब-2", IF(T43>=51,"क-1", IF(T43>=41,"क-2", IF(T43>=33,"ड", IF(T43>=21,"ई-1", IF(T43<=20, "ई-2" ))))))))) -> ई-2 | X43: 0 | Y43: 0 | Z43: =SUM(X43:Y43) -> 0 | AB43: =IF(Z43>=91,"अ-1", IF(Z43>=81,"अ-2", IF(Z43>=71,"ब-1", IF(Z43>=61,"ब-2", IF(Z43>=51,"क-1", IF(Z43>=41,"क-2", IF(Z43>=33,"ड", IF(Z43>=21,"ई-1", IF(Z43<=20, "ई-2" ))))))))) -> ई-2 | AI43: 0 | AJ43: 0 | AK43: =SUM(AI43:AJ43) -> 0 | AL43: =IF(AK43>=91,"अ-1", IF(AK43>=81,"अ-2", IF(AK43>=71,"ब-1", IF(AK43>=61,"ब-2", IF(AK43>=51,"क-1", IF(AK43>=41,"क-2", IF(AK43>=33,"ड", IF(AK43>=21,"ई-1", IF(AK43<=20, "ई-2" ))))))))) -> ई-2 | AN43: 0 | AO43: =IF(AN43>=91,"अ-1", IF(AN43>=81,"अ-2", IF(AN43>=71,"ब-1", IF(AN43>=61,"ब-2", IF(AN43>=51,"क-1", IF(AN43>=41,"क-2", IF(AN43>=33,"ड", IF(AN43>=21,"ई-1", IF(AN43<=20, "ई-2" ))))))))) -> ई-2 | AQ43: 0 | AR43: =IF(AQ43>=91,"अ-1", IF(AQ43>=81,"अ-2", IF(AQ43>=71,"ब-1", IF(AQ43>=61,"ब-2", IF(AQ43>=51,"क-1", IF(AQ43>=41,"क-2", IF(AQ43>=33,"ड", IF(AQ43>=21,"ई-1", IF(AQ43<=20, "ई-2" ))))))))) -> ई-2 | AT43: 0 | AU43: =IF(AT43>=91,"अ-1", IF(AT43>=81,"अ-2", IF(AT43>=71,"ब-1", IF(AT43>=61,"ब-2", IF(AT43>=51,"क-1", IF(AT43>=41,"क-2", IF(AT43>=33,"ड", IF(AT43>=21,"ई-1", IF(AT43<=20, "ई-2" ))))))))) -> ई-2 | AW43: =SUM(H43,N43,T43,Z43,AF43,AK43,AN43,AQ43,AT43) -> 0 | AX43: =SUM(AW43*100)/AW12 -> 0 | AY43: =IF(AX43>=91,"अ-1", IF(AX43>=81,"अ-2", IF(AX43>=71,"ब-1", IF(AX43>=61,"ब-2", IF(AX43>=51,"क-1", IF(AX43>=41,"क-2", IF(AX43>=33,"ड", IF(AX43>=21,"ई-1", IF(AX43>=0, "ई-2" ))))))))) -> ई-2
B44: =Info_1!M36 -> 0 | C44: =Info_1!J36 -> 0 | D44: =Info_1!K36 -> 0 | E44: =Info_1!L36 -> 0 | F44: 0 | G44: 0 | H44: =SUM(F44:G44) -> 0 | J44: =IF(H44>=91,"अ-1", IF(H44>=81,"अ-2", IF(H44>=71,"ब-1", IF(H44>=61,"ब-2", IF(H44>=51,"क-1", IF(H44>=41,"क-2", IF(H44>=33,"ड", IF(H44>=21,"ई-1", IF(H44<=20, "ई-2" ))))))))) -> ई-2 | L44: 0 | M44: 0 | N44: =SUM(L44:M44) -> 0 | P44: =IF(N44>=91,"अ-1", IF(N44>=81,"अ-2", IF(N44>=71,"ब-1", IF(N44>=61,"ब-2", IF(N44>=51,"क-1", IF(N44>=41,"क-2", IF(N44>=33,"ड", IF(N44>=21,"ई-1", IF(N44<=20, "ई-2" ))))))))) -> ई-2 | R44: 0 | S44: 0 | T44: =SUM(R44:S44) -> 0 | V44: =IF(T44>=91,"अ-1", IF(T44>=81,"अ-2", IF(T44>=71,"ब-1", IF(T44>=61,"ब-2", IF(T44>=51,"क-1", IF(T44>=41,"क-2", IF(T44>=33,"ड", IF(T44>=21,"ई-1", IF(T44<=20, "ई-2" ))))))))) -> ई-2 | X44: 0 | Y44: 0 | Z44: =SUM(X44:Y44) -> 0 | AB44: =IF(Z44>=91,"अ-1", IF(Z44>=81,"अ-2", IF(Z44>=71,"ब-1", IF(Z44>=61,"ब-2", IF(Z44>=51,"क-1", IF(Z44>=41,"क-2", IF(Z44>=33,"ड", IF(Z44>=21,"ई-1", IF(Z44<=20, "ई-2" ))))))))) -> ई-2 | AI44: 0 | AJ44: 0 | AK44: =SUM(AI44:AJ44) -> 0 | AL44: =IF(AK44>=91,"अ-1", IF(AK44>=81,"अ-2", IF(AK44>=71,"ब-1", IF(AK44>=61,"ब-2", IF(AK44>=51,"क-1", IF(AK44>=41,"क-2", IF(AK44>=33,"ड", IF(AK44>=21,"ई-1", IF(AK44<=20, "ई-2" ))))))))) -> ई-2 | AN44: 0 | AO44: =IF(AN44>=91,"अ-1", IF(AN44>=81,"अ-2", IF(AN44>=71,"ब-1", IF(AN44>=61,"ब-2", IF(AN44>=51,"क-1", IF(AN44>=41,"क-2", IF(AN44>=33,"ड", IF(AN44>=21,"ई-1", IF(AN44<=20, "ई-2" ))))))))) -> ई-2 | AQ44: 0 | AR44: =IF(AQ44>=91,"अ-1", IF(AQ44>=81,"अ-2", IF(AQ44>=71,"ब-1", IF(AQ44>=61,"ब-2", IF(AQ44>=51,"क-1", IF(AQ44>=41,"क-2", IF(AQ44>=33,"ड", IF(AQ44>=21,"ई-1", IF(AQ44<=20, "ई-2" ))))))))) -> ई-2 | AT44: 0 | AU44: =IF(AT44>=91,"अ-1", IF(AT44>=81,"अ-2", IF(AT44>=71,"ब-1", IF(AT44>=61,"ब-2", IF(AT44>=51,"क-1", IF(AT44>=41,"क-2", IF(AT44>=33,"ड", IF(AT44>=21,"ई-1", IF(AT44<=20, "ई-2" ))))))))) -> ई-2 | AW44: =SUM(H44,N44,T44,Z44,AF44,AK44,AN44,AQ44,AT44) -> 0 | AX44: =SUM(AW44*100)/AW12 -> 0 | AY44: =IF(AX44>=91,"अ-1", IF(AX44>=81,"अ-2", IF(AX44>=71,"ब-1", IF(AX44>=61,"ब-2", IF(AX44>=51,"क-1", IF(AX44>=41,"क-2", IF(AX44>=33,"ड", IF(AX44>=21,"ई-1", IF(AX44>=0, "ई-2" ))))))))) -> ई-2
B45: =Info_1!M37 -> 0 | C45: =Info_1!J37 -> 0 | D45: =Info_1!K37 -> 0 | E45: =Info_1!L37 -> 0 | F45: 0 | G45: 0 | H45: =SUM(F45:G45) -> 0 | J45: =IF(H45>=91,"अ-1", IF(H45>=81,"अ-2", IF(H45>=71,"ब-1", IF(H45>=61,"ब-2", IF(H45>=51,"क-1", IF(H45>=41,"क-2", IF(H45>=33,"ड", IF(H45>=21,"ई-1", IF(H45<=20, "ई-2" ))))))))) -> ई-2 | L45: 0 | M45: 0 | N45: =SUM(L45:M45) -> 0 | P45: =IF(N45>=91,"अ-1", IF(N45>=81,"अ-2", IF(N45>=71,"ब-1", IF(N45>=61,"ब-2", IF(N45>=51,"क-1", IF(N45>=41,"क-2", IF(N45>=33,"ड", IF(N45>=21,"ई-1", IF(N45<=20, "ई-2" ))))))))) -> ई-2 | R45: 0 | S45: 0 | T45: =SUM(R45:S45) -> 0 | V45: =IF(T45>=91,"अ-1", IF(T45>=81,"अ-2", IF(T45>=71,"ब-1", IF(T45>=61,"ब-2", IF(T45>=51,"क-1", IF(T45>=41,"क-2", IF(T45>=33,"ड", IF(T45>=21,"ई-1", IF(T45<=20, "ई-2" ))))))))) -> ई-2 | X45: 0 | Y45: 0 | Z45: =SUM(X45:Y45) -> 0 | AB45: =IF(Z45>=91,"अ-1", IF(Z45>=81,"अ-2", IF(Z45>=71,"ब-1", IF(Z45>=61,"ब-2", IF(Z45>=51,"क-1", IF(Z45>=41,"क-2", IF(Z45>=33,"ड", IF(Z45>=21,"ई-1", IF(Z45<=20, "ई-2" ))))))))) -> ई-2 | AI45: 0 | AJ45: 0 | AK45: =SUM(AI45:AJ45) -> 0 | AL45: =IF(AK45>=91,"अ-1", IF(AK45>=81,"अ-2", IF(AK45>=71,"ब-1", IF(AK45>=61,"ब-2", IF(AK45>=51,"क-1", IF(AK45>=41,"क-2", IF(AK45>=33,"ड", IF(AK45>=21,"ई-1", IF(AK45<=20, "ई-2" ))))))))) -> ई-2 | AN45: 0 | AO45: =IF(AN45>=91,"अ-1", IF(AN45>=81,"अ-2", IF(AN45>=71,"ब-1", IF(AN45>=61,"ब-2", IF(AN45>=51,"क-1", IF(AN45>=41,"क-2", IF(AN45>=33,"ड", IF(AN45>=21,"ई-1", IF(AN45<=20, "ई-2" ))))))))) -> ई-2 | AQ45: 0 | AR45: =IF(AQ45>=91,"अ-1", IF(AQ45>=81,"अ-2", IF(AQ45>=71,"ब-1", IF(AQ45>=61,"ब-2", IF(AQ45>=51,"क-1", IF(AQ45>=41,"क-2", IF(AQ45>=33,"ड", IF(AQ45>=21,"ई-1", IF(AQ45<=20, "ई-2" ))))))))) -> ई-2 | AT45: 0 | AU45: =IF(AT45>=91,"अ-1", IF(AT45>=81,"अ-2", IF(AT45>=71,"ब-1", IF(AT45>=61,"ब-2", IF(AT45>=51,"क-1", IF(AT45>=41,"क-2", IF(AT45>=33,"ड", IF(AT45>=21,"ई-1", IF(AT45<=20, "ई-2" ))))))))) -> ई-2 | AW45: =SUM(H45,N45,T45,Z45,AF45,AK45,AN45,AQ45,AT45) -> 0 | AX45: =SUM(AW45*100)/AW12 -> 0 | AY45: =IF(AX45>=91,"अ-1", IF(AX45>=81,"अ-2", IF(AX45>=71,"ब-1", IF(AX45>=61,"ब-2", IF(AX45>=51,"क-1", IF(AX45>=41,"क-2", IF(AX45>=33,"ड", IF(AX45>=21,"ई-1", IF(AX45>=0, "ई-2" ))))))))) -> ई-2
B46: =Info_1!M38 -> 0 | C46: =Info_1!J38 -> 0 | D46: =Info_1!K38 -> 0 | E46: =Info_1!L38 -> 0 | F46: 0 | G46: 0 | H46: =SUM(F46:G46) -> 0 | J46: =IF(H46>=91,"अ-1", IF(H46>=81,"अ-2", IF(H46>=71,"ब-1", IF(H46>=61,"ब-2", IF(H46>=51,"क-1", IF(H46>=41,"क-2", IF(H46>=33,"ड", IF(H46>=21,"ई-1", IF(H46<=20, "ई-2" ))))))))) -> ई-2 | L46: 0 | M46: 0 | N46: =SUM(L46:M46) -> 0 | P46: =IF(N46>=91,"अ-1", IF(N46>=81,"अ-2", IF(N46>=71,"ब-1", IF(N46>=61,"ब-2", IF(N46>=51,"क-1", IF(N46>=41,"क-2", IF(N46>=33,"ड", IF(N46>=21,"ई-1", IF(N46<=20, "ई-2" ))))))))) -> ई-2 | R46: 0 | S46: 0 | T46: =SUM(R46:S46) -> 0 | V46: =IF(T46>=91,"अ-1", IF(T46>=81,"अ-2", IF(T46>=71,"ब-1", IF(T46>=61,"ब-2", IF(T46>=51,"क-1", IF(T46>=41,"क-2", IF(T46>=33,"ड", IF(T46>=21,"ई-1", IF(T46<=20, "ई-2" ))))))))) -> ई-2 | X46: 0 | Y46: 0 | Z46: =SUM(X46:Y46) -> 0 | AB46: =IF(Z46>=91,"अ-1", IF(Z46>=81,"अ-2", IF(Z46>=71,"ब-1", IF(Z46>=61,"ब-2", IF(Z46>=51,"क-1", IF(Z46>=41,"क-2", IF(Z46>=33,"ड", IF(Z46>=21,"ई-1", IF(Z46<=20, "ई-2" ))))))))) -> ई-2 | AI46: 0 | AJ46: 0 | AK46: =SUM(AI46:AJ46) -> 0 | AL46: =IF(AK46>=91,"अ-1", IF(AK46>=81,"अ-2", IF(AK46>=71,"ब-1", IF(AK46>=61,"ब-2", IF(AK46>=51,"क-1", IF(AK46>=41,"क-2", IF(AK46>=33,"ड", IF(AK46>=21,"ई-1", IF(AK46<=20, "ई-2" ))))))))) -> ई-2 | AN46: 0 | AO46: =IF(AN46>=91,"अ-1", IF(AN46>=81,"अ-2", IF(AN46>=71,"ब-1", IF(AN46>=61,"ब-2", IF(AN46>=51,"क-1", IF(AN46>=41,"क-2", IF(AN46>=33,"ड", IF(AN46>=21,"ई-1", IF(AN46<=20, "ई-2" ))))))))) -> ई-2 | AQ46: 0 | AR46: =IF(AQ46>=91,"अ-1", IF(AQ46>=81,"अ-2", IF(AQ46>=71,"ब-1", IF(AQ46>=61,"ब-2", IF(AQ46>=51,"क-1", IF(AQ46>=41,"क-2", IF(AQ46>=33,"ड", IF(AQ46>=21,"ई-1", IF(AQ46<=20, "ई-2" ))))))))) -> ई-2 | AT46: 0 | AU46: =IF(AT46>=91,"अ-1", IF(AT46>=81,"अ-2", IF(AT46>=71,"ब-1", IF(AT46>=61,"ब-2", IF(AT46>=51,"क-1", IF(AT46>=41,"क-2", IF(AT46>=33,"ड", IF(AT46>=21,"ई-1", IF(AT46<=20, "ई-2" ))))))))) -> ई-2 | AW46: =SUM(H46,N46,T46,Z46,AF46,AK46,AN46,AQ46,AT46) -> 0 | AX46: =SUM(AW46*100)/AW12 -> 0 | AY46: =IF(AX46>=91,"अ-1", IF(AX46>=81,"अ-2", IF(AX46>=71,"ब-1", IF(AX46>=61,"ब-2", IF(AX46>=51,"क-1", IF(AX46>=41,"क-2", IF(AX46>=33,"ड", IF(AX46>=21,"ई-1", IF(AX46>=0, "ई-2" ))))))))) -> ई-2
B47: =Info_1!M39 -> 0 | C47: =Info_1!J39 -> 0 | D47: =Info_1!K39 -> 0 | E47: =Info_1!L39 -> 0 | F47: 0 | G47: 0 | H47: =SUM(F47:G47) -> 0 | J47: =IF(H47>=91,"अ-1", IF(H47>=81,"अ-2", IF(H47>=71,"ब-1", IF(H47>=61,"ब-2", IF(H47>=51,"क-1", IF(H47>=41,"क-2", IF(H47>=33,"ड", IF(H47>=21,"ई-1", IF(H47<=20, "ई-2" ))))))))) -> ई-2 | L47: 0 | M47: 0 | N47: =SUM(L47:M47) -> 0 | P47: =IF(N47>=91,"अ-1", IF(N47>=81,"अ-2", IF(N47>=71,"ब-1", IF(N47>=61,"ब-2", IF(N47>=51,"क-1", IF(N47>=41,"क-2", IF(N47>=33,"ड", IF(N47>=21,"ई-1", IF(N47<=20, "ई-2" ))))))))) -> ई-2 | R47: 0 | S47: 0 | T47: =SUM(R47:S47) -> 0 | V47: =IF(T47>=91,"अ-1", IF(T47>=81,"अ-2", IF(T47>=71,"ब-1", IF(T47>=61,"ब-2", IF(T47>=51,"क-1", IF(T47>=41,"क-2", IF(T47>=33,"ड", IF(T47>=21,"ई-1", IF(T47<=20, "ई-2" ))))))))) -> ई-2 | X47: 0 | Y47: 0 | Z47: =SUM(X47:Y47) -> 0 | AB47: =IF(Z47>=91,"अ-1", IF(Z47>=81,"अ-2", IF(Z47>=71,"ब-1", IF(Z47>=61,"ब-2", IF(Z47>=51,"क-1", IF(Z47>=41,"क-2", IF(Z47>=33,"ड", IF(Z47>=21,"ई-1", IF(Z47<=20, "ई-2" ))))))))) -> ई-2 | AI47: 0 | AJ47: 0 | AK47: =SUM(AI47:AJ47) -> 0 | AL47: =IF(AK47>=91,"अ-1", IF(AK47>=81,"अ-2", IF(AK47>=71,"ब-1", IF(AK47>=61,"ब-2", IF(AK47>=51,"क-1", IF(AK47>=41,"क-2", IF(AK47>=33,"ड", IF(AK47>=21,"ई-1", IF(AK47<=20, "ई-2" ))))))))) -> ई-2 | AN47: 0 | AO47: =IF(AN47>=91,"अ-1", IF(AN47>=81,"अ-2", IF(AN47>=71,"ब-1", IF(AN47>=61,"ब-2", IF(AN47>=51,"क-1", IF(AN47>=41,"क-2", IF(AN47>=33,"ड", IF(AN47>=21,"ई-1", IF(AN47<=20, "ई-2" ))))))))) -> ई-2 | AQ47: 0 | AR47: =IF(AQ47>=91,"अ-1", IF(AQ47>=81,"अ-2", IF(AQ47>=71,"ब-1", IF(AQ47>=61,"ब-2", IF(AQ47>=51,"क-1", IF(AQ47>=41,"क-2", IF(AQ47>=33,"ड", IF(AQ47>=21,"ई-1", IF(AQ47<=20, "ई-2" ))))))))) -> ई-2 | AT47: 0 | AU47: =IF(AT47>=91,"अ-1", IF(AT47>=81,"अ-2", IF(AT47>=71,"ब-1", IF(AT47>=61,"ब-2", IF(AT47>=51,"क-1", IF(AT47>=41,"क-2", IF(AT47>=33,"ड", IF(AT47>=21,"ई-1", IF(AT47<=20, "ई-2" ))))))))) -> ई-2 | AW47: =SUM(H47,N47,T47,Z47,AF47,AK47,AN47,AQ47,AT47) -> 0 | AX47: =SUM(AW47*100)/AW12 -> 0 | AY47: =IF(AX47>=91,"अ-1", IF(AX47>=81,"अ-2", IF(AX47>=71,"ब-1", IF(AX47>=61,"ब-2", IF(AX47>=51,"क-1", IF(AX47>=41,"क-2", IF(AX47>=33,"ड", IF(AX47>=21,"ई-1", IF(AX47>=0, "ई-2" ))))))))) -> ई-2
B48: =Info_1!M40 -> 0 | C48: =Info_1!J40 -> 0 | D48: =Info_1!K40 -> 0 | E48: =Info_1!L40 -> 0 | F48: 0 | G48: 0 | H48: =SUM(F48:G48) -> 0 | J48: =IF(H48>=91,"अ-1", IF(H48>=81,"अ-2", IF(H48>=71,"ब-1", IF(H48>=61,"ब-2", IF(H48>=51,"क-1", IF(H48>=41,"क-2", IF(H48>=33,"ड", IF(H48>=21,"ई-1", IF(H48<=20, "ई-2" ))))))))) -> ई-2 | L48: 0 | M48: 0 | N48: =SUM(L48:M48) -> 0 | P48: =IF(N48>=91,"अ-1", IF(N48>=81,"अ-2", IF(N48>=71,"ब-1", IF(N48>=61,"ब-2", IF(N48>=51,"क-1", IF(N48>=41,"क-2", IF(N48>=33,"ड", IF(N48>=21,"ई-1", IF(N48<=20, "ई-2" ))))))))) -> ई-2 | R48: 0 | S48: 0 | T48: =SUM(R48:S48) -> 0 | V48: =IF(T48>=91,"अ-1", IF(T48>=81,"अ-2", IF(T48>=71,"ब-1", IF(T48>=61,"ब-2", IF(T48>=51,"क-1", IF(T48>=41,"क-2", IF(T48>=33,"ड", IF(T48>=21,"ई-1", IF(T48<=20, "ई-2" ))))))))) -> ई-2 | X48: 0 | Y48: 0 | Z48: =SUM(X48:Y48) -> 0 | AB48: =IF(Z48>=91,"अ-1", IF(Z48>=81,"अ-2", IF(Z48>=71,"ब-1", IF(Z48>=61,"ब-2", IF(Z48>=51,"क-1", IF(Z48>=41,"क-2", IF(Z48>=33,"ड", IF(Z48>=21,"ई-1", IF(Z48<=20, "ई-2" ))))))))) -> ई-2 | AI48: 0 | AJ48: 0 | AK48: =SUM(AI48:AJ48) -> 0 | AL48: =IF(AK48>=91,"अ-1", IF(AK48>=81,"अ-2", IF(AK48>=71,"ब-1", IF(AK48>=61,"ब-2", IF(AK48>=51,"क-1", IF(AK48>=41,"क-2", IF(AK48>=33,"ड", IF(AK48>=21,"ई-1", IF(AK48<=20, "ई-2" ))))))))) -> ई-2 | AN48: 0 | AO48: =IF(AN48>=91,"अ-1", IF(AN48>=81,"अ-2", IF(AN48>=71,"ब-1", IF(AN48>=61,"ब-2", IF(AN48>=51,"क-1", IF(AN48>=41,"क-2", IF(AN48>=33,"ड", IF(AN48>=21,"ई-1", IF(AN48<=20, "ई-2" ))))))))) -> ई-2 | AQ48: 0 | AR48: =IF(AQ48>=91,"अ-1", IF(AQ48>=81,"अ-2", IF(AQ48>=71,"ब-1", IF(AQ48>=61,"ब-2", IF(AQ48>=51,"क-1", IF(AQ48>=41,"क-2", IF(AQ48>=33,"ड", IF(AQ48>=21,"ई-1", IF(AQ48<=20, "ई-2" ))))))))) -> ई-2 | AT48: 0 | AU48: =IF(AT48>=91,"अ-1", IF(AT48>=81,"अ-2", IF(AT48>=71,"ब-1", IF(AT48>=61,"ब-2", IF(AT48>=51,"क-1", IF(AT48>=41,"क-2", IF(AT48>=33,"ड", IF(AT48>=21,"ई-1", IF(AT48<=20, "ई-2" ))))))))) -> ई-2 | AW48: =SUM(H48,N48,T48,Z48,AF48,AK48,AN48,AQ48,AT48) -> 0 | AX48: =SUM(AW48*100)/AW12 -> 0 | AY48: =IF(AX48>=91,"अ-1", IF(AX48>=81,"अ-2", IF(AX48>=71,"ब-1", IF(AX48>=61,"ब-2", IF(AX48>=51,"क-1", IF(AX48>=41,"क-2", IF(AX48>=33,"ड", IF(AX48>=21,"ई-1", IF(AX48>=0, "ई-2" ))))))))) -> ई-2
B49: =Info_1!M41 -> 0 | C49: =Info_1!J41 -> 0 | D49: =Info_1!K41 -> 0 | E49: =Info_1!L41 -> 0 | F49: 0 | G49: 0 | H49: =SUM(F49:G49) -> 0 | J49: =IF(H49>=91,"अ-1", IF(H49>=81,"अ-2", IF(H49>=71,"ब-1", IF(H49>=61,"ब-2", IF(H49>=51,"क-1", IF(H49>=41,"क-2", IF(H49>=33,"ड", IF(H49>=21,"ई-1", IF(H49<=20, "ई-2" ))))))))) -> ई-2 | L49: 0 | M49: 0 | N49: =SUM(L49:M49) -> 0 | P49: =IF(N49>=91,"अ-1", IF(N49>=81,"अ-2", IF(N49>=71,"ब-1", IF(N49>=61,"ब-2", IF(N49>=51,"क-1", IF(N49>=41,"क-2", IF(N49>=33,"ड", IF(N49>=21,"ई-1", IF(N49<=20, "ई-2" ))))))))) -> ई-2 | R49: 0 | S49: 0 | T49: =SUM(R49:S49) -> 0 | V49: =IF(T49>=91,"अ-1", IF(T49>=81,"अ-2", IF(T49>=71,"ब-1", IF(T49>=61,"ब-2", IF(T49>=51,"क-1", IF(T49>=41,"क-2", IF(T49>=33,"ड", IF(T49>=21,"ई-1", IF(T49<=20, "ई-2" ))))))))) -> ई-2 | X49: 0 | Y49: 0 | Z49: =SUM(X49:Y49) -> 0 | AB49: =IF(Z49>=91,"अ-1", IF(Z49>=81,"अ-2", IF(Z49>=71,"ब-1", IF(Z49>=61,"ब-2", IF(Z49>=51,"क-1", IF(Z49>=41,"क-2", IF(Z49>=33,"ड", IF(Z49>=21,"ई-1", IF(Z49<=20, "ई-2" ))))))))) -> ई-2 | AI49: 0 | AJ49: 0 | AK49: =SUM(AI49:AJ49) -> 0 | AL49: =IF(AK49>=91,"अ-1", IF(AK49>=81,"अ-2", IF(AK49>=71,"ब-1", IF(AK49>=61,"ब-2", IF(AK49>=51,"क-1", IF(AK49>=41,"क-2", IF(AK49>=33,"ड", IF(AK49>=21,"ई-1", IF(AK49<=20, "ई-2" ))))))))) -> ई-2 | AN49: 0 | AO49: =IF(AN49>=91,"अ-1", IF(AN49>=81,"अ-2", IF(AN49>=71,"ब-1", IF(AN49>=61,"ब-2", IF(AN49>=51,"क-1", IF(AN49>=41,"क-2", IF(AN49>=33,"ड", IF(AN49>=21,"ई-1", IF(AN49<=20, "ई-2" ))))))))) -> ई-2 | AQ49: 0 | AR49: =IF(AQ49>=91,"अ-1", IF(AQ49>=81,"अ-2", IF(AQ49>=71,"ब-1", IF(AQ49>=61,"ब-2", IF(AQ49>=51,"क-1", IF(AQ49>=41,"क-2", IF(AQ49>=33,"ड", IF(AQ49>=21,"ई-1", IF(AQ49<=20, "ई-2" ))))))))) -> ई-2 | AT49: 0 | AU49: =IF(AT49>=91,"अ-1", IF(AT49>=81,"अ-2", IF(AT49>=71,"ब-1", IF(AT49>=61,"ब-2", IF(AT49>=51,"क-1", IF(AT49>=41,"क-2", IF(AT49>=33,"ड", IF(AT49>=21,"ई-1", IF(AT49<=20, "ई-2" ))))))))) -> ई-2 | AW49: =SUM(H49,N49,T49,Z49,AF49,AK49,AN49,AQ49,AT49) -> 0 | AX49: =SUM(AW49*100)/AW12 -> 0 | AY49: =IF(AX49>=91,"अ-1", IF(AX49>=81,"अ-2", IF(AX49>=71,"ब-1", IF(AX49>=61,"ब-2", IF(AX49>=51,"क-1", IF(AX49>=41,"क-2", IF(AX49>=33,"ड", IF(AX49>=21,"ई-1", IF(AX49>=0, "ई-2" ))))))))) -> ई-2
B50: =Info_1!M42 -> 0 | C50: =Info_1!J42 -> 0 | D50: =Info_1!K42 -> 0 | E50: =Info_1!L42 -> 0 | F50: 0 | G50: 0 | H50: =SUM(F50:G50) -> 0 | J50: =IF(H50>=91,"अ-1", IF(H50>=81,"अ-2", IF(H50>=71,"ब-1", IF(H50>=61,"ब-2", IF(H50>=51,"क-1", IF(H50>=41,"क-2", IF(H50>=33,"ड", IF(H50>=21,"ई-1", IF(H50<=20, "ई-2" ))))))))) -> ई-2 | L50: 0 | M50: 0 | N50: =SUM(L50:M50) -> 0 | P50: =IF(N50>=91,"अ-1", IF(N50>=81,"अ-2", IF(N50>=71,"ब-1", IF(N50>=61,"ब-2", IF(N50>=51,"क-1", IF(N50>=41,"क-2", IF(N50>=33,"ड", IF(N50>=21,"ई-1", IF(N50<=20, "ई-2" ))))))))) -> ई-2 | R50: 0 | S50: 0 | T50: =SUM(R50:S50) -> 0 | V50: =IF(T50>=91,"अ-1", IF(T50>=81,"अ-2", IF(T50>=71,"ब-1", IF(T50>=61,"ब-2", IF(T50>=51,"क-1", IF(T50>=41,"क-2", IF(T50>=33,"ड", IF(T50>=21,"ई-1", IF(T50<=20, "ई-2" ))))))))) -> ई-2 | X50: 0 | Y50: 0 | Z50: =SUM(X50:Y50) -> 0 | AB50: =IF(Z50>=91,"अ-1", IF(Z50>=81,"अ-2", IF(Z50>=71,"ब-1", IF(Z50>=61,"ब-2", IF(Z50>=51,"क-1", IF(Z50>=41,"क-2", IF(Z50>=33,"ड", IF(Z50>=21,"ई-1", IF(Z50<=20, "ई-2" ))))))))) -> ई-2 | AI50: 0 | AJ50: 0 | AK50: =SUM(AI50:AJ50) -> 0 | AL50: =IF(AK50>=91,"अ-1", IF(AK50>=81,"अ-2", IF(AK50>=71,"ब-1", IF(AK50>=61,"ब-2", IF(AK50>=51,"क-1", IF(AK50>=41,"क-2", IF(AK50>=33,"ड", IF(AK50>=21,"ई-1", IF(AK50<=20, "ई-2" ))))))))) -> ई-2 | AN50: 0 | AO50: =IF(AN50>=91,"अ-1", IF(AN50>=81,"अ-2", IF(AN50>=71,"ब-1", IF(AN50>=61,"ब-2", IF(AN50>=51,"क-1", IF(AN50>=41,"क-2", IF(AN50>=33,"ड", IF(AN50>=21,"ई-1", IF(AN50<=20, "ई-2" ))))))))) -> ई-2 | AQ50: 0 | AR50: =IF(AQ50>=91,"अ-1", IF(AQ50>=81,"अ-2", IF(AQ50>=71,"ब-1", IF(AQ50>=61,"ब-2", IF(AQ50>=51,"क-1", IF(AQ50>=41,"क-2", IF(AQ50>=33,"ड", IF(AQ50>=21,"ई-1", IF(AQ50<=20, "ई-2" ))))))))) -> ई-2 | AT50: 0 | AU50: =IF(AT50>=91,"अ-1", IF(AT50>=81,"अ-2", IF(AT50>=71,"ब-1", IF(AT50>=61,"ब-2", IF(AT50>=51,"क-1", IF(AT50>=41,"क-2", IF(AT50>=33,"ड", IF(AT50>=21,"ई-1", IF(AT50<=20, "ई-2" ))))))))) -> ई-2 | AW50: =SUM(H50,N50,T50,Z50,AF50,AK50,AN50,AQ50,AT50) -> 0 | AX50: =SUM(AW50*100)/AW12 -> 0 | AY50: =IF(AX50>=91,"अ-1", IF(AX50>=81,"अ-2", IF(AX50>=71,"ब-1", IF(AX50>=61,"ब-2", IF(AX50>=51,"क-1", IF(AX50>=41,"क-2", IF(AX50>=33,"ड", IF(AX50>=21,"ई-1", IF(AX50>=0, "ई-2" ))))))))) -> ई-2
B51: =Info_1!M43 -> 0 | C51: =Info_1!J43 -> 0 | D51: =Info_1!K43 -> 0 | E51: =Info_1!L43 -> 0 | F51: 0 | G51: 0 | H51: =SUM(F51:G51) -> 0 | J51: =IF(H51>=91,"अ-1", IF(H51>=81,"अ-2", IF(H51>=71,"ब-1", IF(H51>=61,"ब-2", IF(H51>=51,"क-1", IF(H51>=41,"क-2", IF(H51>=33,"ड", IF(H51>=21,"ई-1", IF(H51<=20, "ई-2" ))))))))) -> ई-2 | L51: 0 | M51: 0 | N51: =SUM(L51:M51) -> 0 | P51: =IF(N51>=91,"अ-1", IF(N51>=81,"अ-2", IF(N51>=71,"ब-1", IF(N51>=61,"ब-2", IF(N51>=51,"क-1", IF(N51>=41,"क-2", IF(N51>=33,"ड", IF(N51>=21,"ई-1", IF(N51<=20, "ई-2" ))))))))) -> ई-2 | R51: 0 | S51: 0 | T51: =SUM(R51:S51) -> 0 | V51: =IF(T51>=91,"अ-1", IF(T51>=81,"अ-2", IF(T51>=71,"ब-1", IF(T51>=61,"ब-2", IF(T51>=51,"क-1", IF(T51>=41,"क-2", IF(T51>=33,"ड", IF(T51>=21,"ई-1", IF(T51<=20, "ई-2" ))))))))) -> ई-2 | X51: 0 | Y51: 0 | Z51: =SUM(X51:Y51) -> 0 | AB51: =IF(Z51>=91,"अ-1", IF(Z51>=81,"अ-2", IF(Z51>=71,"ब-1", IF(Z51>=61,"ब-2", IF(Z51>=51,"क-1", IF(Z51>=41,"क-2", IF(Z51>=33,"ड", IF(Z51>=21,"ई-1", IF(Z51<=20, "ई-2" ))))))))) -> ई-2 | AI51: 0 | AJ51: 0 | AK51: =SUM(AI51:AJ51) -> 0 | AL51: =IF(AK51>=91,"अ-1", IF(AK51>=81,"अ-2", IF(AK51>=71,"ब-1", IF(AK51>=61,"ब-2", IF(AK51>=51,"क-1", IF(AK51>=41,"क-2", IF(AK51>=33,"ड", IF(AK51>=21,"ई-1", IF(AK51<=20, "ई-2" ))))))))) -> ई-2 | AN51: 0 | AO51: =IF(AN51>=91,"अ-1", IF(AN51>=81,"अ-2", IF(AN51>=71,"ब-1", IF(AN51>=61,"ब-2", IF(AN51>=51,"क-1", IF(AN51>=41,"क-2", IF(AN51>=33,"ड", IF(AN51>=21,"ई-1", IF(AN51<=20, "ई-2" ))))))))) -> ई-2 | AQ51: 0 | AR51: =IF(AQ51>=91,"अ-1", IF(AQ51>=81,"अ-2", IF(AQ51>=71,"ब-1", IF(AQ51>=61,"ब-2", IF(AQ51>=51,"क-1", IF(AQ51>=41,"क-2", IF(AQ51>=33,"ड", IF(AQ51>=21,"ई-1", IF(AQ51<=20, "ई-2" ))))))))) -> ई-2 | AT51: 0 | AU51: =IF(AT51>=91,"अ-1", IF(AT51>=81,"अ-2", IF(AT51>=71,"ब-1", IF(AT51>=61,"ब-2", IF(AT51>=51,"क-1", IF(AT51>=41,"क-2", IF(AT51>=33,"ड", IF(AT51>=21,"ई-1", IF(AT51<=20, "ई-2" ))))))))) -> ई-2 | AW51: =SUM(H51,N51,T51,Z51,AF51,AK51,AN51,AQ51,AT51) -> 0 | AX51: =SUM(AW51*100)/AW12 -> 0 | AY51: =IF(AX51>=91,"अ-1", IF(AX51>=81,"अ-2", IF(AX51>=71,"ब-1", IF(AX51>=61,"ब-2", IF(AX51>=51,"क-1", IF(AX51>=41,"क-2", IF(AX51>=33,"ड", IF(AX51>=21,"ई-1", IF(AX51>=0, "ई-2" ))))))))) -> ई-2
B52: =Info_1!M44 -> 0 | C52: =Info_1!J44 -> 0 | D52: =Info_1!K44 -> 0 | E52: =Info_1!L44 -> 0 | F52: 0 | G52: 0 | H52: =SUM(F52:G52) -> 0 | J52: =IF(H52>=91,"अ-1", IF(H52>=81,"अ-2", IF(H52>=71,"ब-1", IF(H52>=61,"ब-2", IF(H52>=51,"क-1", IF(H52>=41,"क-2", IF(H52>=33,"ड", IF(H52>=21,"ई-1", IF(H52<=20, "ई-2" ))))))))) -> ई-2 | L52: 0 | M52: 0 | N52: =SUM(L52:M52) -> 0 | P52: =IF(N52>=91,"अ-1", IF(N52>=81,"अ-2", IF(N52>=71,"ब-1", IF(N52>=61,"ब-2", IF(N52>=51,"क-1", IF(N52>=41,"क-2", IF(N52>=33,"ड", IF(N52>=21,"ई-1", IF(N52<=20, "ई-2" ))))))))) -> ई-2 | R52: 0 | S52: 0 | T52: =SUM(R52:S52) -> 0 | V52: =IF(T52>=91,"अ-1", IF(T52>=81,"अ-2", IF(T52>=71,"ब-1", IF(T52>=61,"ब-2", IF(T52>=51,"क-1", IF(T52>=41,"क-2", IF(T52>=33,"ड", IF(T52>=21,"ई-1", IF(T52<=20, "ई-2" ))))))))) -> ई-2 | X52: 0 | Y52: 0 | Z52: =SUM(X52:Y52) -> 0 | AB52: =IF(Z52>=91,"अ-1", IF(Z52>=81,"अ-2", IF(Z52>=71,"ब-1", IF(Z52>=61,"ब-2", IF(Z52>=51,"क-1", IF(Z52>=41,"क-2", IF(Z52>=33,"ड", IF(Z52>=21,"ई-1", IF(Z52<=20, "ई-2" ))))))))) -> ई-2 | AI52: 0 | AJ52: 0 | AK52: =SUM(AI52:AJ52) -> 0 | AL52: =IF(AK52>=91,"अ-1", IF(AK52>=81,"अ-2", IF(AK52>=71,"ब-1", IF(AK52>=61,"ब-2", IF(AK52>=51,"क-1", IF(AK52>=41,"क-2", IF(AK52>=33,"ड", IF(AK52>=21,"ई-1", IF(AK52<=20, "ई-2" ))))))))) -> ई-2 | AN52: 0 | AO52: =IF(AN52>=91,"अ-1", IF(AN52>=81,"अ-2", IF(AN52>=71,"ब-1", IF(AN52>=61,"ब-2", IF(AN52>=51,"क-1", IF(AN52>=41,"क-2", IF(AN52>=33,"ड", IF(AN52>=21,"ई-1", IF(AN52<=20, "ई-2" ))))))))) -> ई-2 | AQ52: 0 | AR52: =IF(AQ52>=91,"अ-1", IF(AQ52>=81,"अ-2", IF(AQ52>=71,"ब-1", IF(AQ52>=61,"ब-2", IF(AQ52>=51,"क-1", IF(AQ52>=41,"क-2", IF(AQ52>=33,"ड", IF(AQ52>=21,"ई-1", IF(AQ52<=20, "ई-2" ))))))))) -> ई-2 | AT52: 0 | AU52: =IF(AT52>=91,"अ-1", IF(AT52>=81,"अ-2", IF(AT52>=71,"ब-1", IF(AT52>=61,"ब-2", IF(AT52>=51,"क-1", IF(AT52>=41,"क-2", IF(AT52>=33,"ड", IF(AT52>=21,"ई-1", IF(AT52<=20, "ई-2" ))))))))) -> ई-2 | AW52: =SUM(H52,N52,T52,Z52,AF52,AK52,AN52,AQ52,AT52) -> 0 | AX52: =SUM(AW52*100)/AW12 -> 0 | AY52: =IF(AX52>=91,"अ-1", IF(AX52>=81,"अ-2", IF(AX52>=71,"ब-1", IF(AX52>=61,"ब-2", IF(AX52>=51,"क-1", IF(AX52>=41,"क-2", IF(AX52>=33,"ड", IF(AX52>=21,"ई-1", IF(AX52>=0, "ई-2" ))))))))) -> ई-2
B53: =Info_1!M45 -> 0 | C53: =Info_1!J45 -> 0 | D53: =Info_1!K45 -> 0 | E53: =Info_1!L45 -> 0 | F53: 0 | G53: 0 | H53: =SUM(F53:G53) -> 0 | J53: =IF(H53>=91,"अ-1", IF(H53>=81,"अ-2", IF(H53>=71,"ब-1", IF(H53>=61,"ब-2", IF(H53>=51,"क-1", IF(H53>=41,"क-2", IF(H53>=33,"ड", IF(H53>=21,"ई-1", IF(H53<=20, "ई-2" ))))))))) -> ई-2 | L53: 0 | M53: 0 | N53: =SUM(L53:M53) -> 0 | P53: =IF(N53>=91,"अ-1", IF(N53>=81,"अ-2", IF(N53>=71,"ब-1", IF(N53>=61,"ब-2", IF(N53>=51,"क-1", IF(N53>=41,"क-2", IF(N53>=33,"ड", IF(N53>=21,"ई-1", IF(N53<=20, "ई-2" ))))))))) -> ई-2 | R53: 0 | S53: 0 | T53: =SUM(R53:S53) -> 0 | V53: =IF(T53>=91,"अ-1", IF(T53>=81,"अ-2", IF(T53>=71,"ब-1", IF(T53>=61,"ब-2", IF(T53>=51,"क-1", IF(T53>=41,"क-2", IF(T53>=33,"ड", IF(T53>=21,"ई-1", IF(T53<=20, "ई-2" ))))))))) -> ई-2 | X53: 0 | Y53: 0 | Z53: =SUM(X53:Y53) -> 0 | AB53: =IF(Z53>=91,"अ-1", IF(Z53>=81,"अ-2", IF(Z53>=71,"ब-1", IF(Z53>=61,"ब-2", IF(Z53>=51,"क-1", IF(Z53>=41,"क-2", IF(Z53>=33,"ड", IF(Z53>=21,"ई-1", IF(Z53<=20, "ई-2" ))))))))) -> ई-2 | AI53: 0 | AJ53: 0 | AK53: =SUM(AI53:AJ53) -> 0 | AL53: =IF(AK53>=91,"अ-1", IF(AK53>=81,"अ-2", IF(AK53>=71,"ब-1", IF(AK53>=61,"ब-2", IF(AK53>=51,"क-1", IF(AK53>=41,"क-2", IF(AK53>=33,"ड", IF(AK53>=21,"ई-1", IF(AK53<=20, "ई-2" ))))))))) -> ई-2 | AN53: 0 | AO53: =IF(AN53>=91,"अ-1", IF(AN53>=81,"अ-2", IF(AN53>=71,"ब-1", IF(AN53>=61,"ब-2", IF(AN53>=51,"क-1", IF(AN53>=41,"क-2", IF(AN53>=33,"ड", IF(AN53>=21,"ई-1", IF(AN53<=20, "ई-2" ))))))))) -> ई-2 | AQ53: 0 | AR53: =IF(AQ53>=91,"अ-1", IF(AQ53>=81,"अ-2", IF(AQ53>=71,"ब-1", IF(AQ53>=61,"ब-2", IF(AQ53>=51,"क-1", IF(AQ53>=41,"क-2", IF(AQ53>=33,"ड", IF(AQ53>=21,"ई-1", IF(AQ53<=20, "ई-2" ))))))))) -> ई-2 | AT53: 0 | AU53: =IF(AT53>=91,"अ-1", IF(AT53>=81,"अ-2", IF(AT53>=71,"ब-1", IF(AT53>=61,"ब-2", IF(AT53>=51,"क-1", IF(AT53>=41,"क-2", IF(AT53>=33,"ड", IF(AT53>=21,"ई-1", IF(AT53<=20, "ई-2" ))))))))) -> ई-2 | AW53: =SUM(H53,N53,T53,Z53,AF53,AK53,AN53,AQ53,AT53) -> 0 | AX53: =SUM(AW53*100)/AW12 -> 0 | AY53: =IF(AX53>=91,"अ-1", IF(AX53>=81,"अ-2", IF(AX53>=71,"ब-1", IF(AX53>=61,"ब-2", IF(AX53>=51,"क-1", IF(AX53>=41,"क-2", IF(AX53>=33,"ड", IF(AX53>=21,"ई-1", IF(AX53>=0, "ई-2" ))))))))) -> ई-2
B54: =Info_1!M46 -> 0 | C54: =Info_1!J46 -> 0 | D54: =Info_1!K46 -> 0 | E54: =Info_1!L46 -> 0 | F54: 0 | G54: 0 | H54: =SUM(F54:G54) -> 0 | J54: =IF(H54>=91,"अ-1", IF(H54>=81,"अ-2", IF(H54>=71,"ब-1", IF(H54>=61,"ब-2", IF(H54>=51,"क-1", IF(H54>=41,"क-2", IF(H54>=33,"ड", IF(H54>=21,"ई-1", IF(H54<=20, "ई-2" ))))))))) -> ई-2 | L54: 0 | M54: 0 | N54: =SUM(L54:M54) -> 0 | P54: =IF(N54>=91,"अ-1", IF(N54>=81,"अ-2", IF(N54>=71,"ब-1", IF(N54>=61,"ब-2", IF(N54>=51,"क-1", IF(N54>=41,"क-2", IF(N54>=33,"ड", IF(N54>=21,"ई-1", IF(N54<=20, "ई-2" ))))))))) -> ई-2 | R54: 0 | S54: 0 | T54: =SUM(R54:S54) -> 0 | V54: =IF(T54>=91,"अ-1", IF(T54>=81,"अ-2", IF(T54>=71,"ब-1", IF(T54>=61,"ब-2", IF(T54>=51,"क-1", IF(T54>=41,"क-2", IF(T54>=33,"ड", IF(T54>=21,"ई-1", IF(T54<=20, "ई-2" ))))))))) -> ई-2 | X54: 0 | Y54: 0 | Z54: =SUM(X54:Y54) -> 0 | AB54: =IF(Z54>=91,"अ-1", IF(Z54>=81,"अ-2", IF(Z54>=71,"ब-1", IF(Z54>=61,"ब-2", IF(Z54>=51,"क-1", IF(Z54>=41,"क-2", IF(Z54>=33,"ड", IF(Z54>=21,"ई-1", IF(Z54<=20, "ई-2" ))))))))) -> ई-2 | AI54: 0 | AJ54: 0 | AK54: =SUM(AI54:AJ54) -> 0 | AL54: =IF(AK54>=91,"अ-1", IF(AK54>=81,"अ-2", IF(AK54>=71,"ब-1", IF(AK54>=61,"ब-2", IF(AK54>=51,"क-1", IF(AK54>=41,"क-2", IF(AK54>=33,"ड", IF(AK54>=21,"ई-1", IF(AK54<=20, "ई-2" ))))))))) -> ई-2 | AN54: 0 | AO54: =IF(AN54>=91,"अ-1", IF(AN54>=81,"अ-2", IF(AN54>=71,"ब-1", IF(AN54>=61,"ब-2", IF(AN54>=51,"क-1", IF(AN54>=41,"क-2", IF(AN54>=33,"ड", IF(AN54>=21,"ई-1", IF(AN54<=20, "ई-2" ))))))))) -> ई-2 | AQ54: 0 | AR54: =IF(AQ54>=91,"अ-1", IF(AQ54>=81,"अ-2", IF(AQ54>=71,"ब-1", IF(AQ54>=61,"ब-2", IF(AQ54>=51,"क-1", IF(AQ54>=41,"क-2", IF(AQ54>=33,"ड", IF(AQ54>=21,"ई-1", IF(AQ54<=20, "ई-2" ))))))))) -> ई-2 | AT54: 0 | AU54: =IF(AT54>=91,"अ-1", IF(AT54>=81,"अ-2", IF(AT54>=71,"ब-1", IF(AT54>=61,"ब-2", IF(AT54>=51,"क-1", IF(AT54>=41,"क-2", IF(AT54>=33,"ड", IF(AT54>=21,"ई-1", IF(AT54<=20, "ई-2" ))))))))) -> ई-2 | AW54: =SUM(H54,N54,T54,Z54,AF54,AK54,AN54,AQ54,AT54) -> 0 | AX54: =SUM(AW54*100)/AW12 -> 0 | AY54: =IF(AX54>=91,"अ-1", IF(AX54>=81,"अ-2", IF(AX54>=71,"ब-1", IF(AX54>=61,"ब-2", IF(AX54>=51,"क-1", IF(AX54>=41,"क-2", IF(AX54>=33,"ड", IF(AX54>=21,"ई-1", IF(AX54>=0, "ई-2" ))))))))) -> ई-2
B55: =Info_1!M47 -> 0 | C55: =Info_1!J47 -> 0 | D55: =Info_1!K47 -> 0 | E55: =Info_1!L47 -> 0 | F55: 0 | G55: 0 | H55: =SUM(F55:G55) -> 0 | J55: =IF(H55>=91,"अ-1", IF(H55>=81,"अ-2", IF(H55>=71,"ब-1", IF(H55>=61,"ब-2", IF(H55>=51,"क-1", IF(H55>=41,"क-2", IF(H55>=33,"ड", IF(H55>=21,"ई-1", IF(H55<=20, "ई-2" ))))))))) -> ई-2 | L55: 0 | M55: 0 | N55: =SUM(L55:M55) -> 0 | P55: =IF(N55>=91,"अ-1", IF(N55>=81,"अ-2", IF(N55>=71,"ब-1", IF(N55>=61,"ब-2", IF(N55>=51,"क-1", IF(N55>=41,"क-2", IF(N55>=33,"ड", IF(N55>=21,"ई-1", IF(N55<=20, "ई-2" ))))))))) -> ई-2 | R55: 0 | S55: 0 | T55: =SUM(R55:S55) -> 0 | V55: =IF(T55>=91,"अ-1", IF(T55>=81,"अ-2", IF(T55>=71,"ब-1", IF(T55>=61,"ब-2", IF(T55>=51,"क-1", IF(T55>=41,"क-2", IF(T55>=33,"ड", IF(T55>=21,"ई-1", IF(T55<=20, "ई-2" ))))))))) -> ई-2 | X55: 0 | Y55: 0 | Z55: =SUM(X55:Y55) -> 0 | AB55: =IF(Z55>=91,"अ-1", IF(Z55>=81,"अ-2", IF(Z55>=71,"ब-1", IF(Z55>=61,"ब-2", IF(Z55>=51,"क-1", IF(Z55>=41,"क-2", IF(Z55>=33,"ड", IF(Z55>=21,"ई-1", IF(Z55<=20, "ई-2" ))))))))) -> ई-2 | AI55: 0 | AJ55: 0 | AK55: =SUM(AI55:AJ55) -> 0 | AL55: =IF(AK55>=91,"अ-1", IF(AK55>=81,"अ-2", IF(AK55>=71,"ब-1", IF(AK55>=61,"ब-2", IF(AK55>=51,"क-1", IF(AK55>=41,"क-2", IF(AK55>=33,"ड", IF(AK55>=21,"ई-1", IF(AK55<=20, "ई-2" ))))))))) -> ई-2 | AN55: 0 | AO55: =IF(AN55>=91,"अ-1", IF(AN55>=81,"अ-2", IF(AN55>=71,"ब-1", IF(AN55>=61,"ब-2", IF(AN55>=51,"क-1", IF(AN55>=41,"क-2", IF(AN55>=33,"ड", IF(AN55>=21,"ई-1", IF(AN55<=20, "ई-2" ))))))))) -> ई-2 | AQ55: 0 | AR55: =IF(AQ55>=91,"अ-1", IF(AQ55>=81,"अ-2", IF(AQ55>=71,"ब-1", IF(AQ55>=61,"ब-2", IF(AQ55>=51,"क-1", IF(AQ55>=41,"क-2", IF(AQ55>=33,"ड", IF(AQ55>=21,"ई-1", IF(AQ55<=20, "ई-2" ))))))))) -> ई-2 | AT55: 0 | AU55: =IF(AT55>=91,"अ-1", IF(AT55>=81,"अ-2", IF(AT55>=71,"ब-1", IF(AT55>=61,"ब-2", IF(AT55>=51,"क-1", IF(AT55>=41,"क-2", IF(AT55>=33,"ड", IF(AT55>=21,"ई-1", IF(AT55<=20, "ई-2" ))))))))) -> ई-2 | AW55: =SUM(H55,N55,T55,Z55,AF55,AK55,AN55,AQ55,AT55) -> 0 | AX55: =SUM(AW55*100)/AW12 -> 0 | AY55: =IF(AX55>=91,"अ-1", IF(AX55>=81,"अ-2", IF(AX55>=71,"ब-1", IF(AX55>=61,"ब-2", IF(AX55>=51,"क-1", IF(AX55>=41,"क-2", IF(AX55>=33,"ड", IF(AX55>=21,"ई-1", IF(AX55>=0, "ई-2" ))))))))) -> ई-2
B56: =Info_1!M48 -> 0 | C56: =Info_1!J48 -> 0 | D56: =Info_1!K48 -> 0 | E56: =Info_1!L48 -> 0 | F56: 0 | G56: 0 | H56: =SUM(F56:G56) -> 0 | J56: =IF(H56>=91,"अ-1", IF(H56>=81,"अ-2", IF(H56>=71,"ब-1", IF(H56>=61,"ब-2", IF(H56>=51,"क-1", IF(H56>=41,"क-2", IF(H56>=33,"ड", IF(H56>=21,"ई-1", IF(H56<=20, "ई-2" ))))))))) -> ई-2 | L56: 0 | M56: 0 | N56: =SUM(L56:M56) -> 0 | P56: =IF(N56>=91,"अ-1", IF(N56>=81,"अ-2", IF(N56>=71,"ब-1", IF(N56>=61,"ब-2", IF(N56>=51,"क-1", IF(N56>=41,"क-2", IF(N56>=33,"ड", IF(N56>=21,"ई-1", IF(N56<=20, "ई-2" ))))))))) -> ई-2 | R56: 0 | S56: 0 | T56: =SUM(R56:S56) -> 0 | V56: =IF(T56>=91,"अ-1", IF(T56>=81,"अ-2", IF(T56>=71,"ब-1", IF(T56>=61,"ब-2", IF(T56>=51,"क-1", IF(T56>=41,"क-2", IF(T56>=33,"ड", IF(T56>=21,"ई-1", IF(T56<=20, "ई-2" ))))))))) -> ई-2 | X56: 0 | Y56: 0 | Z56: =SUM(X56:Y56) -> 0 | AB56: =IF(Z56>=91,"अ-1", IF(Z56>=81,"अ-2", IF(Z56>=71,"ब-1", IF(Z56>=61,"ब-2", IF(Z56>=51,"क-1", IF(Z56>=41,"क-2", IF(Z56>=33,"ड", IF(Z56>=21,"ई-1", IF(Z56<=20, "ई-2" ))))))))) -> ई-2 | AI56: 0 | AJ56: 0 | AK56: =SUM(AI56:AJ56) -> 0 | AL56: =IF(AK56>=91,"अ-1", IF(AK56>=81,"अ-2", IF(AK56>=71,"ब-1", IF(AK56>=61,"ब-2", IF(AK56>=51,"क-1", IF(AK56>=41,"क-2", IF(AK56>=33,"ड", IF(AK56>=21,"ई-1", IF(AK56<=20, "ई-2" ))))))))) -> ई-2 | AN56: 0 | AO56: =IF(AN56>=91,"अ-1", IF(AN56>=81,"अ-2", IF(AN56>=71,"ब-1", IF(AN56>=61,"ब-2", IF(AN56>=51,"क-1", IF(AN56>=41,"क-2", IF(AN56>=33,"ड", IF(AN56>=21,"ई-1", IF(AN56<=20, "ई-2" ))))))))) -> ई-2 | AQ56: 0 | AR56: =IF(AQ56>=91,"अ-1", IF(AQ56>=81,"अ-2", IF(AQ56>=71,"ब-1", IF(AQ56>=61,"ब-2", IF(AQ56>=51,"क-1", IF(AQ56>=41,"क-2", IF(AQ56>=33,"ड", IF(AQ56>=21,"ई-1", IF(AQ56<=20, "ई-2" ))))))))) -> ई-2 | AT56: 0 | AU56: =IF(AT56>=91,"अ-1", IF(AT56>=81,"अ-2", IF(AT56>=71,"ब-1", IF(AT56>=61,"ब-2", IF(AT56>=51,"क-1", IF(AT56>=41,"क-2", IF(AT56>=33,"ड", IF(AT56>=21,"ई-1", IF(AT56<=20, "ई-2" ))))))))) -> ई-2 | AW56: =SUM(H56,N56,T56,Z56,AF56,AK56,AN56,AQ56,AT56) -> 0 | AX56: =SUM(AW56*100)/AW12 -> 0 | AY56: =IF(AX56>=91,"अ-1", IF(AX56>=81,"अ-2", IF(AX56>=71,"ब-1", IF(AX56>=61,"ब-2", IF(AX56>=51,"क-1", IF(AX56>=41,"क-2", IF(AX56>=33,"ड", IF(AX56>=21,"ई-1", IF(AX56>=0, "ई-2" ))))))))) -> ई-2
B57: =Info_1!M49 -> 0 | C57: =Info_1!J49 -> 0 | D57: =Info_1!K49 -> 0 | E57: =Info_1!L49 -> 0 | F57: 0 | G57: 0 | H57: =SUM(F57:G57) -> 0 | J57: =IF(H57>=91,"अ-1", IF(H57>=81,"अ-2", IF(H57>=71,"ब-1", IF(H57>=61,"ब-2", IF(H57>=51,"क-1", IF(H57>=41,"क-2", IF(H57>=33,"ड", IF(H57>=21,"ई-1", IF(H57<=20, "ई-2" ))))))))) -> ई-2 | L57: 0 | M57: 0 | N57: =SUM(L57:M57) -> 0 | P57: =IF(N57>=91,"अ-1", IF(N57>=81,"अ-2", IF(N57>=71,"ब-1", IF(N57>=61,"ब-2", IF(N57>=51,"क-1", IF(N57>=41,"क-2", IF(N57>=33,"ड", IF(N57>=21,"ई-1", IF(N57<=20, "ई-2" ))))))))) -> ई-2 | R57: 0 | S57: 0 | T57: =SUM(R57:S57) -> 0 | V57: =IF(T57>=91,"अ-1", IF(T57>=81,"अ-2", IF(T57>=71,"ब-1", IF(T57>=61,"ब-2", IF(T57>=51,"क-1", IF(T57>=41,"क-2", IF(T57>=33,"ड", IF(T57>=21,"ई-1", IF(T57<=20, "ई-2" ))))))))) -> ई-2 | X57: 0 | Y57: 0 | Z57: =SUM(X57:Y57) -> 0 | AB57: =IF(Z57>=91,"अ-1", IF(Z57>=81,"अ-2", IF(Z57>=71,"ब-1", IF(Z57>=61,"ब-2", IF(Z57>=51,"क-1", IF(Z57>=41,"क-2", IF(Z57>=33,"ड", IF(Z57>=21,"ई-1", IF(Z57<=20, "ई-2" ))))))))) -> ई-2 | AI57: 0 | AJ57: 0 | AK57: =SUM(AI57:AJ57) -> 0 | AL57: =IF(AK57>=91,"अ-1", IF(AK57>=81,"अ-2", IF(AK57>=71,"ब-1", IF(AK57>=61,"ब-2", IF(AK57>=51,"क-1", IF(AK57>=41,"क-2", IF(AK57>=33,"ड", IF(AK57>=21,"ई-1", IF(AK57<=20, "ई-2" ))))))))) -> ई-2 | AN57: 0 | AO57: =IF(AN57>=91,"अ-1", IF(AN57>=81,"अ-2", IF(AN57>=71,"ब-1", IF(AN57>=61,"ब-2", IF(AN57>=51,"क-1", IF(AN57>=41,"क-2", IF(AN57>=33,"ड", IF(AN57>=21,"ई-1", IF(AN57<=20, "ई-2" ))))))))) -> ई-2 | AQ57: 0 | AR57: =IF(AQ57>=91,"अ-1", IF(AQ57>=81,"अ-2", IF(AQ57>=71,"ब-1", IF(AQ57>=61,"ब-2", IF(AQ57>=51,"क-1", IF(AQ57>=41,"क-2", IF(AQ57>=33,"ड", IF(AQ57>=21,"ई-1", IF(AQ57<=20, "ई-2" ))))))))) -> ई-2 | AT57: 0 | AU57: =IF(AT57>=91,"अ-1", IF(AT57>=81,"अ-2", IF(AT57>=71,"ब-1", IF(AT57>=61,"ब-2", IF(AT57>=51,"क-1", IF(AT57>=41,"क-2", IF(AT57>=33,"ड", IF(AT57>=21,"ई-1", IF(AT57<=20, "ई-2" ))))))))) -> ई-2 | AW57: =SUM(H57,N57,T57,Z57,AF57,AK57,AN57,AQ57,AT57) -> 0 | AX57: =SUM(AW57*100)/AW12 -> 0 | AY57: =IF(AX57>=91,"अ-1", IF(AX57>=81,"अ-2", IF(AX57>=71,"ब-1", IF(AX57>=61,"ब-2", IF(AX57>=51,"क-1", IF(AX57>=41,"क-2", IF(AX57>=33,"ड", IF(AX57>=21,"ई-1", IF(AX57>=0, "ई-2" ))))))))) -> ई-2
B58: =Info_1!M50 -> 0 | C58: =Info_1!J50 -> 0 | D58: =Info_1!K50 -> 0 | E58: =Info_1!L50 -> 0 | F58: 0 | G58: 0 | H58: =SUM(F58:G58) -> 0 | J58: =IF(H58>=91,"अ-1", IF(H58>=81,"अ-2", IF(H58>=71,"ब-1", IF(H58>=61,"ब-2", IF(H58>=51,"क-1", IF(H58>=41,"क-2", IF(H58>=33,"ड", IF(H58>=21,"ई-1", IF(H58<=20, "ई-2" ))))))))) -> ई-2 | L58: 0 | M58: 0 | N58: =SUM(L58:M58) -> 0 | P58: =IF(N58>=91,"अ-1", IF(N58>=81,"अ-2", IF(N58>=71,"ब-1", IF(N58>=61,"ब-2", IF(N58>=51,"क-1", IF(N58>=41,"क-2", IF(N58>=33,"ड", IF(N58>=21,"ई-1", IF(N58<=20, "ई-2" ))))))))) -> ई-2 | R58: 0 | S58: 0 | T58: =SUM(R58:S58) -> 0 | V58: =IF(T58>=91,"अ-1", IF(T58>=81,"अ-2", IF(T58>=71,"ब-1", IF(T58>=61,"ब-2", IF(T58>=51,"क-1", IF(T58>=41,"क-2", IF(T58>=33,"ड", IF(T58>=21,"ई-1", IF(T58<=20, "ई-2" ))))))))) -> ई-2 | X58: 0 | Y58: 0 | Z58: =SUM(X58:Y58) -> 0 | AB58: =IF(Z58>=91,"अ-1", IF(Z58>=81,"अ-2", IF(Z58>=71,"ब-1", IF(Z58>=61,"ब-2", IF(Z58>=51,"क-1", IF(Z58>=41,"क-2", IF(Z58>=33,"ड", IF(Z58>=21,"ई-1", IF(Z58<=20, "ई-2" ))))))))) -> ई-2 | AI58: 0 | AJ58: 0 | AK58: =SUM(AI58:AJ58) -> 0 | AL58: =IF(AK58>=91,"अ-1", IF(AK58>=81,"अ-2", IF(AK58>=71,"ब-1", IF(AK58>=61,"ब-2", IF(AK58>=51,"क-1", IF(AK58>=41,"क-2", IF(AK58>=33,"ड", IF(AK58>=21,"ई-1", IF(AK58<=20, "ई-2" ))))))))) -> ई-2 | AN58: 0 | AO58: =IF(AN58>=91,"अ-1", IF(AN58>=81,"अ-2", IF(AN58>=71,"ब-1", IF(AN58>=61,"ब-2", IF(AN58>=51,"क-1", IF(AN58>=41,"क-2", IF(AN58>=33,"ड", IF(AN58>=21,"ई-1", IF(AN58<=20, "ई-2" ))))))))) -> ई-2 | AQ58: 0 | AR58: =IF(AQ58>=91,"अ-1", IF(AQ58>=81,"अ-2", IF(AQ58>=71,"ब-1", IF(AQ58>=61,"ब-2", IF(AQ58>=51,"क-1", IF(AQ58>=41,"क-2", IF(AQ58>=33,"ड", IF(AQ58>=21,"ई-1", IF(AQ58<=20, "ई-2" ))))))))) -> ई-2 | AT58: 0 | AU58: =IF(AT58>=91,"अ-1", IF(AT58>=81,"अ-2", IF(AT58>=71,"ब-1", IF(AT58>=61,"ब-2", IF(AT58>=51,"क-1", IF(AT58>=41,"क-2", IF(AT58>=33,"ड", IF(AT58>=21,"ई-1", IF(AT58<=20, "ई-2" ))))))))) -> ई-2 | AW58: =SUM(H58,N58,T58,Z58,AF58,AK58,AN58,AQ58,AT58) -> 0 | AX58: =SUM(AW58*100)/AW12 -> 0 | AY58: =IF(AX58>=91,"अ-1", IF(AX58>=81,"अ-2", IF(AX58>=71,"ब-1", IF(AX58>=61,"ब-2", IF(AX58>=51,"क-1", IF(AX58>=41,"क-2", IF(AX58>=33,"ड", IF(AX58>=21,"ई-1", IF(AX58>=0, "ई-2" ))))))))) -> ई-2
B59: =Info_1!M51 -> 0 | C59: =Info_1!J51 -> 0 | D59: =Info_1!K51 -> 0 | E59: =Info_1!L51 -> 0 | F59: 0 | G59: 0 | H59: =SUM(F59:G59) -> 0 | J59: =IF(H59>=91,"अ-1", IF(H59>=81,"अ-2", IF(H59>=71,"ब-1", IF(H59>=61,"ब-2", IF(H59>=51,"क-1", IF(H59>=41,"क-2", IF(H59>=33,"ड", IF(H59>=21,"ई-1", IF(H59<=20, "ई-2" ))))))))) -> ई-2 | L59: 0 | M59: 0 | N59: =SUM(L59:M59) -> 0 | P59: =IF(N59>=91,"अ-1", IF(N59>=81,"अ-2", IF(N59>=71,"ब-1", IF(N59>=61,"ब-2", IF(N59>=51,"क-1", IF(N59>=41,"क-2", IF(N59>=33,"ड", IF(N59>=21,"ई-1", IF(N59<=20, "ई-2" ))))))))) -> ई-2 | R59: 0 | S59: 0 | T59: =SUM(R59:S59) -> 0 | V59: =IF(T59>=91,"अ-1", IF(T59>=81,"अ-2", IF(T59>=71,"ब-1", IF(T59>=61,"ब-2", IF(T59>=51,"क-1", IF(T59>=41,"क-2", IF(T59>=33,"ड", IF(T59>=21,"ई-1", IF(T59<=20, "ई-2" ))))))))) -> ई-2 | X59: 0 | Y59: 0 | Z59: =SUM(X59:Y59) -> 0 | AB59: =IF(Z59>=91,"अ-1", IF(Z59>=81,"अ-2", IF(Z59>=71,"ब-1", IF(Z59>=61,"ब-2", IF(Z59>=51,"क-1", IF(Z59>=41,"क-2", IF(Z59>=33,"ड", IF(Z59>=21,"ई-1", IF(Z59<=20, "ई-2" ))))))))) -> ई-2 | AI59: 0 | AJ59: 0 | AK59: =SUM(AI59:AJ59) -> 0 | AL59: =IF(AK59>=91,"अ-1", IF(AK59>=81,"अ-2", IF(AK59>=71,"ब-1", IF(AK59>=61,"ब-2", IF(AK59>=51,"क-1", IF(AK59>=41,"क-2", IF(AK59>=33,"ड", IF(AK59>=21,"ई-1", IF(AK59<=20, "ई-2" ))))))))) -> ई-2 | AN59: 0 | AO59: =IF(AN59>=91,"अ-1", IF(AN59>=81,"अ-2", IF(AN59>=71,"ब-1", IF(AN59>=61,"ब-2", IF(AN59>=51,"क-1", IF(AN59>=41,"क-2", IF(AN59>=33,"ड", IF(AN59>=21,"ई-1", IF(AN59<=20, "ई-2" ))))))))) -> ई-2 | AQ59: 0 | AR59: =IF(AQ59>=91,"अ-1", IF(AQ59>=81,"अ-2", IF(AQ59>=71,"ब-1", IF(AQ59>=61,"ब-2", IF(AQ59>=51,"क-1", IF(AQ59>=41,"क-2", IF(AQ59>=33,"ड", IF(AQ59>=21,"ई-1", IF(AQ59<=20, "ई-2" ))))))))) -> ई-2 | AT59: 0 | AU59: =IF(AT59>=91,"अ-1", IF(AT59>=81,"अ-2", IF(AT59>=71,"ब-1", IF(AT59>=61,"ब-2", IF(AT59>=51,"क-1", IF(AT59>=41,"क-2", IF(AT59>=33,"ड", IF(AT59>=21,"ई-1", IF(AT59<=20, "ई-2" ))))))))) -> ई-2 | AW59: =SUM(H59,N59,T59,Z59,AF59,AK59,AN59,AQ59,AT59) -> 0 | AX59: =SUM(AW59*100)/AW12 -> 0 | AY59: =IF(AX59>=91,"अ-1", IF(AX59>=81,"अ-2", IF(AX59>=71,"ब-1", IF(AX59>=61,"ब-2", IF(AX59>=51,"क-1", IF(AX59>=41,"क-2", IF(AX59>=33,"ड", IF(AX59>=21,"ई-1", IF(AX59>=0, "ई-2" ))))))))) -> ई-2
B60: =Info_1!M52 -> 0 | C60: =Info_1!J52 -> 0 | D60: =Info_1!K52 -> 0 | E60: =Info_1!L52 -> 0 | F60: 0 | G60: 0 | H60: =SUM(F60:G60) -> 0 | J60: =IF(H60>=91,"अ-1", IF(H60>=81,"अ-2", IF(H60>=71,"ब-1", IF(H60>=61,"ब-2", IF(H60>=51,"क-1", IF(H60>=41,"क-2", IF(H60>=33,"ड", IF(H60>=21,"ई-1", IF(H60<=20, "ई-2" ))))))))) -> ई-2 | L60: 0 | M60: 0 | N60: =SUM(L60:M60) -> 0 | P60: =IF(N60>=91,"अ-1", IF(N60>=81,"अ-2", IF(N60>=71,"ब-1", IF(N60>=61,"ब-2", IF(N60>=51,"क-1", IF(N60>=41,"क-2", IF(N60>=33,"ड", IF(N60>=21,"ई-1", IF(N60<=20, "ई-2" ))))))))) -> ई-2 | R60: 0 | S60: 0 | T60: =SUM(R60:S60) -> 0 | V60: =IF(T60>=91,"अ-1", IF(T60>=81,"अ-2", IF(T60>=71,"ब-1", IF(T60>=61,"ब-2", IF(T60>=51,"क-1", IF(T60>=41,"क-2", IF(T60>=33,"ड", IF(T60>=21,"ई-1", IF(T60<=20, "ई-2" ))))))))) -> ई-2 | X60: 0 | Y60: 0 | Z60: =SUM(X60:Y60) -> 0 | AB60: =IF(Z60>=91,"अ-1", IF(Z60>=81,"अ-2", IF(Z60>=71,"ब-1", IF(Z60>=61,"ब-2", IF(Z60>=51,"क-1", IF(Z60>=41,"क-2", IF(Z60>=33,"ड", IF(Z60>=21,"ई-1", IF(Z60<=20, "ई-2" ))))))))) -> ई-2 | AI60: 0 | AJ60: 0 | AK60: =SUM(AI60:AJ60) -> 0 | AL60: =IF(AK60>=91,"अ-1", IF(AK60>=81,"अ-2", IF(AK60>=71,"ब-1", IF(AK60>=61,"ब-2", IF(AK60>=51,"क-1", IF(AK60>=41,"क-2", IF(AK60>=33,"ड", IF(AK60>=21,"ई-1", IF(AK60<=20, "ई-2" ))))))))) -> ई-2 | AN60: 0 | AO60: =IF(AN60>=91,"अ-1", IF(AN60>=81,"अ-2", IF(AN60>=71,"ब-1", IF(AN60>=61,"ब-2", IF(AN60>=51,"क-1", IF(AN60>=41,"क-2", IF(AN60>=33,"ड", IF(AN60>=21,"ई-1", IF(AN60<=20, "ई-2" ))))))))) -> ई-2 | AQ60: 0 | AR60: =IF(AQ60>=91,"अ-1", IF(AQ60>=81,"अ-2", IF(AQ60>=71,"ब-1", IF(AQ60>=61,"ब-2", IF(AQ60>=51,"क-1", IF(AQ60>=41,"क-2", IF(AQ60>=33,"ड", IF(AQ60>=21,"ई-1", IF(AQ60<=20, "ई-2" ))))))))) -> ई-2 | AT60: 0 | AU60: =IF(AT60>=91,"अ-1", IF(AT60>=81,"अ-2", IF(AT60>=71,"ब-1", IF(AT60>=61,"ब-2", IF(AT60>=51,"क-1", IF(AT60>=41,"क-2", IF(AT60>=33,"ड", IF(AT60>=21,"ई-1", IF(AT60<=20, "ई-2" ))))))))) -> ई-2 | AW60: =SUM(H60,N60,T60,Z60,AF60,AK60,AN60,AQ60,AT60) -> 0 | AX60: =SUM(AW60*100)/AW12 -> 0 | AY60: =IF(AX60>=91,"अ-1", IF(AX60>=81,"अ-2", IF(AX60>=71,"ब-1", IF(AX60>=61,"ब-2", IF(AX60>=51,"क-1", IF(AX60>=41,"क-2", IF(AX60>=33,"ड", IF(AX60>=21,"ई-1", IF(AX60>=0, "ई-2" ))))))))) -> ई-2
B61: =Info_1!M53 -> 0 | C61: =Info_1!J53 -> 0 | D61: =Info_1!K53 -> 0 | E61: =Info_1!L53 -> 0 | F61: 0 | G61: 0 | H61: =SUM(F61:G61) -> 0 | J61: =IF(H61>=91,"अ-1", IF(H61>=81,"अ-2", IF(H61>=71,"ब-1", IF(H61>=61,"ब-2", IF(H61>=51,"क-1", IF(H61>=41,"क-2", IF(H61>=33,"ड", IF(H61>=21,"ई-1", IF(H61<=20, "ई-2" ))))))))) -> ई-2 | L61: 0 | M61: 0 | N61: =SUM(L61:M61) -> 0 | P61: =IF(N61>=91,"अ-1", IF(N61>=81,"अ-2", IF(N61>=71,"ब-1", IF(N61>=61,"ब-2", IF(N61>=51,"क-1", IF(N61>=41,"क-2", IF(N61>=33,"ड", IF(N61>=21,"ई-1", IF(N61<=20, "ई-2" ))))))))) -> ई-2 | R61: 0 | S61: 0 | T61: =SUM(R61:S61) -> 0 | V61: =IF(T61>=91,"अ-1", IF(T61>=81,"अ-2", IF(T61>=71,"ब-1", IF(T61>=61,"ब-2", IF(T61>=51,"क-1", IF(T61>=41,"क-2", IF(T61>=33,"ड", IF(T61>=21,"ई-1", IF(T61<=20, "ई-2" ))))))))) -> ई-2 | X61: 0 | Y61: 0 | Z61: =SUM(X61:Y61) -> 0 | AB61: =IF(Z61>=91,"अ-1", IF(Z61>=81,"अ-2", IF(Z61>=71,"ब-1", IF(Z61>=61,"ब-2", IF(Z61>=51,"क-1", IF(Z61>=41,"क-2", IF(Z61>=33,"ड", IF(Z61>=21,"ई-1", IF(Z61<=20, "ई-2" ))))))))) -> ई-2 | AI61: 0 | AJ61: 0 | AK61: =SUM(AI61:AJ61) -> 0 | AL61: =IF(AK61>=91,"अ-1", IF(AK61>=81,"अ-2", IF(AK61>=71,"ब-1", IF(AK61>=61,"ब-2", IF(AK61>=51,"क-1", IF(AK61>=41,"क-2", IF(AK61>=33,"ड", IF(AK61>=21,"ई-1", IF(AK61<=20, "ई-2" ))))))))) -> ई-2 | AN61: 0 | AO61: =IF(AN61>=91,"अ-1", IF(AN61>=81,"अ-2", IF(AN61>=71,"ब-1", IF(AN61>=61,"ब-2", IF(AN61>=51,"क-1", IF(AN61>=41,"क-2", IF(AN61>=33,"ड", IF(AN61>=21,"ई-1", IF(AN61<=20, "ई-2" ))))))))) -> ई-2 | AQ61: 0 | AR61: =IF(AQ61>=91,"अ-1", IF(AQ61>=81,"अ-2", IF(AQ61>=71,"ब-1", IF(AQ61>=61,"ब-2", IF(AQ61>=51,"क-1", IF(AQ61>=41,"क-2", IF(AQ61>=33,"ड", IF(AQ61>=21,"ई-1", IF(AQ61<=20, "ई-2" ))))))))) -> ई-2 | AT61: 0 | AU61: =IF(AT61>=91,"अ-1", IF(AT61>=81,"अ-2", IF(AT61>=71,"ब-1", IF(AT61>=61,"ब-2", IF(AT61>=51,"क-1", IF(AT61>=41,"क-2", IF(AT61>=33,"ड", IF(AT61>=21,"ई-1", IF(AT61<=20, "ई-2" ))))))))) -> ई-2 | AW61: =SUM(H61,N61,T61,Z61,AF61,AK61,AN61,AQ61,AT61) -> 0 | AX61: =SUM(AW61*100)/AW12 -> 0 | AY61: =IF(AX61>=91,"अ-1", IF(AX61>=81,"अ-2", IF(AX61>=71,"ब-1", IF(AX61>=61,"ब-2", IF(AX61>=51,"क-1", IF(AX61>=41,"क-2", IF(AX61>=33,"ड", IF(AX61>=21,"ई-1", IF(AX61>=0, "ई-2" ))))))))) -> ई-2
B62: =Info_1!M54 -> 0 | C62: =Info_1!J54 -> 0 | D62: =Info_1!K54 -> 0 | E62: =Info_1!L54 -> 0 | F62: 0 | G62: 0 | H62: =SUM(F62:G62) -> 0 | J62: =IF(H62>=91,"अ-1", IF(H62>=81,"अ-2", IF(H62>=71,"ब-1", IF(H62>=61,"ब-2", IF(H62>=51,"क-1", IF(H62>=41,"क-2", IF(H62>=33,"ड", IF(H62>=21,"ई-1", IF(H62<=20, "ई-2" ))))))))) -> ई-2 | L62: 0 | M62: 0 | N62: =SUM(L62:M62) -> 0 | P62: =IF(N62>=91,"अ-1", IF(N62>=81,"अ-2", IF(N62>=71,"ब-1", IF(N62>=61,"ब-2", IF(N62>=51,"क-1", IF(N62>=41,"क-2", IF(N62>=33,"ड", IF(N62>=21,"ई-1", IF(N62<=20, "ई-2" ))))))))) -> ई-2 | R62: 0 | S62: 0 | T62: =SUM(R62:S62) -> 0 | V62: =IF(T62>=91,"अ-1", IF(T62>=81,"अ-2", IF(T62>=71,"ब-1", IF(T62>=61,"ब-2", IF(T62>=51,"क-1", IF(T62>=41,"क-2", IF(T62>=33,"ड", IF(T62>=21,"ई-1", IF(T62<=20, "ई-2" ))))))))) -> ई-2 | X62: 0 | Y62: 0 | Z62: =SUM(X62:Y62) -> 0 | AB62: =IF(Z62>=91,"अ-1", IF(Z62>=81,"अ-2", IF(Z62>=71,"ब-1", IF(Z62>=61,"ब-2", IF(Z62>=51,"क-1", IF(Z62>=41,"क-2", IF(Z62>=33,"ड", IF(Z62>=21,"ई-1", IF(Z62<=20, "ई-2" ))))))))) -> ई-2 | AI62: 0 | AJ62: 0 | AK62: =SUM(AI62:AJ62) -> 0 | AL62: =IF(AK62>=91,"अ-1", IF(AK62>=81,"अ-2", IF(AK62>=71,"ब-1", IF(AK62>=61,"ब-2", IF(AK62>=51,"क-1", IF(AK62>=41,"क-2", IF(AK62>=33,"ड", IF(AK62>=21,"ई-1", IF(AK62<=20, "ई-2" ))))))))) -> ई-2 | AN62: 0 | AO62: =IF(AN62>=91,"अ-1", IF(AN62>=81,"अ-2", IF(AN62>=71,"ब-1", IF(AN62>=61,"ब-2", IF(AN62>=51,"क-1", IF(AN62>=41,"क-2", IF(AN62>=33,"ड", IF(AN62>=21,"ई-1", IF(AN62<=20, "ई-2" ))))))))) -> ई-2 | AQ62: 0 | AR62: =IF(AQ62>=91,"अ-1", IF(AQ62>=81,"अ-2", IF(AQ62>=71,"ब-1", IF(AQ62>=61,"ब-2", IF(AQ62>=51,"क-1", IF(AQ62>=41,"क-2", IF(AQ62>=33,"ड", IF(AQ62>=21,"ई-1", IF(AQ62<=20, "ई-2" ))))))))) -> ई-2 | AT62: 0 | AU62: =IF(AT62>=91,"अ-1", IF(AT62>=81,"अ-2", IF(AT62>=71,"ब-1", IF(AT62>=61,"ब-2", IF(AT62>=51,"क-1", IF(AT62>=41,"क-2", IF(AT62>=33,"ड", IF(AT62>=21,"ई-1", IF(AT62<=20, "ई-2" ))))))))) -> ई-2 | AW62: =SUM(H62,N62,T62,Z62,AF62,AK62,AN62,AQ62,AT62) -> 0 | AX62: =SUM(AW62*100)/AW12 -> 0 | AY62: =IF(AX62>=91,"अ-1", IF(AX62>=81,"अ-2", IF(AX62>=71,"ब-1", IF(AX62>=61,"ब-2", IF(AX62>=51,"क-1", IF(AX62>=41,"क-2", IF(AX62>=33,"ड", IF(AX62>=21,"ई-1", IF(AX62>=0, "ई-2" ))))))))) -> ई-2
B63: =Info_1!M55 -> 0 | C63: =Info_1!J55 -> 0 | D63: =Info_1!K55 -> 0 | E63: =Info_1!L55 -> 0 | F63: 0 | G63: 0 | H63: =SUM(F63:G63) -> 0 | J63: =IF(H63>=91,"अ-1", IF(H63>=81,"अ-2", IF(H63>=71,"ब-1", IF(H63>=61,"ब-2", IF(H63>=51,"क-1", IF(H63>=41,"क-2", IF(H63>=33,"ड", IF(H63>=21,"ई-1", IF(H63<=20, "ई-2" ))))))))) -> ई-2 | L63: 0 | M63: 0 | N63: =SUM(L63:M63) -> 0 | P63: =IF(N63>=91,"अ-1", IF(N63>=81,"अ-2", IF(N63>=71,"ब-1", IF(N63>=61,"ब-2", IF(N63>=51,"क-1", IF(N63>=41,"क-2", IF(N63>=33,"ड", IF(N63>=21,"ई-1", IF(N63<=20, "ई-2" ))))))))) -> ई-2 | R63: 0 | S63: 0 | T63: =SUM(R63:S63) -> 0 | V63: =IF(T63>=91,"अ-1", IF(T63>=81,"अ-2", IF(T63>=71,"ब-1", IF(T63>=61,"ब-2", IF(T63>=51,"क-1", IF(T63>=41,"क-2", IF(T63>=33,"ड", IF(T63>=21,"ई-1", IF(T63<=20, "ई-2" ))))))))) -> ई-2 | X63: 0 | Y63: 0 | Z63: =SUM(X63:Y63) -> 0 | AB63: =IF(Z63>=91,"अ-1", IF(Z63>=81,"अ-2", IF(Z63>=71,"ब-1", IF(Z63>=61,"ब-2", IF(Z63>=51,"क-1", IF(Z63>=41,"क-2", IF(Z63>=33,"ड", IF(Z63>=21,"ई-1", IF(Z63<=20, "ई-2" ))))))))) -> ई-2 | AI63: 0 | AJ63: 0 | AK63: =SUM(AI63:AJ63) -> 0 | AL63: =IF(AK63>=91,"अ-1", IF(AK63>=81,"अ-2", IF(AK63>=71,"ब-1", IF(AK63>=61,"ब-2", IF(AK63>=51,"क-1", IF(AK63>=41,"क-2", IF(AK63>=33,"ड", IF(AK63>=21,"ई-1", IF(AK63<=20, "ई-2" ))))))))) -> ई-2 | AN63: 0 | AO63: =IF(AN63>=91,"अ-1", IF(AN63>=81,"अ-2", IF(AN63>=71,"ब-1", IF(AN63>=61,"ब-2", IF(AN63>=51,"क-1", IF(AN63>=41,"क-2", IF(AN63>=33,"ड", IF(AN63>=21,"ई-1", IF(AN63<=20, "ई-2" ))))))))) -> ई-2 | AQ63: 0 | AR63: =IF(AQ63>=91,"अ-1", IF(AQ63>=81,"अ-2", IF(AQ63>=71,"ब-1", IF(AQ63>=61,"ब-2", IF(AQ63>=51,"क-1", IF(AQ63>=41,"क-2", IF(AQ63>=33,"ड", IF(AQ63>=21,"ई-1", IF(AQ63<=20, "ई-2" ))))))))) -> ई-2 | AT63: 0 | AU63: =IF(AT63>=91,"अ-1", IF(AT63>=81,"अ-2", IF(AT63>=71,"ब-1", IF(AT63>=61,"ब-2", IF(AT63>=51,"क-1", IF(AT63>=41,"क-2", IF(AT63>=33,"ड", IF(AT63>=21,"ई-1", IF(AT63<=20, "ई-2" ))))))))) -> ई-2 | AW63: =SUM(H63,N63,T63,Z63,AF63,AK63,AN63,AQ63,AT63) -> 0 | AX63: =SUM(AW63*100)/AW12 -> 0 | AY63: =IF(AX63>=91,"अ-1", IF(AX63>=81,"अ-2", IF(AX63>=71,"ब-1", IF(AX63>=61,"ब-2", IF(AX63>=51,"क-1", IF(AX63>=41,"क-2", IF(AX63>=33,"ड", IF(AX63>=21,"ई-1", IF(AX63>=0, "ई-2" ))))))))) -> ई-2
B64: =Info_1!M56 -> 0 | C64: =Info_1!J56 -> 0 | D64: =Info_1!K56 -> 0 | E64: =Info_1!L56 -> 0 | F64: 0 | G64: 0 | H64: =SUM(F64:G64) -> 0 | J64: =IF(H64>=91,"अ-1", IF(H64>=81,"अ-2", IF(H64>=71,"ब-1", IF(H64>=61,"ब-2", IF(H64>=51,"क-1", IF(H64>=41,"क-2", IF(H64>=33,"ड", IF(H64>=21,"ई-1", IF(H64<=20, "ई-2" ))))))))) -> ई-2 | L64: 0 | M64: 0 | N64: =SUM(L64:M64) -> 0 | P64: =IF(N64>=91,"अ-1", IF(N64>=81,"अ-2", IF(N64>=71,"ब-1", IF(N64>=61,"ब-2", IF(N64>=51,"क-1", IF(N64>=41,"क-2", IF(N64>=33,"ड", IF(N64>=21,"ई-1", IF(N64<=20, "ई-2" ))))))))) -> ई-2 | R64: 0 | S64: 0 | T64: =SUM(R64:S64) -> 0 | V64: =IF(T64>=91,"अ-1", IF(T64>=81,"अ-2", IF(T64>=71,"ब-1", IF(T64>=61,"ब-2", IF(T64>=51,"क-1", IF(T64>=41,"क-2", IF(T64>=33,"ड", IF(T64>=21,"ई-1", IF(T64<=20, "ई-2" ))))))))) -> ई-2 | X64: 0 | Y64: 0 | Z64: =SUM(X64:Y64) -> 0 | AB64: =IF(Z64>=91,"अ-1", IF(Z64>=81,"अ-2", IF(Z64>=71,"ब-1", IF(Z64>=61,"ब-2", IF(Z64>=51,"क-1", IF(Z64>=41,"क-2", IF(Z64>=33,"ड", IF(Z64>=21,"ई-1", IF(Z64<=20, "ई-2" ))))))))) -> ई-2 | AI64: 0 | AJ64: 0 | AK64: =SUM(AI64:AJ64) -> 0 | AL64: =IF(AK64>=91,"अ-1", IF(AK64>=81,"अ-2", IF(AK64>=71,"ब-1", IF(AK64>=61,"ब-2", IF(AK64>=51,"क-1", IF(AK64>=41,"क-2", IF(AK64>=33,"ड", IF(AK64>=21,"ई-1", IF(AK64<=20, "ई-2" ))))))))) -> ई-2 | AN64: 0 | AO64: =IF(AN64>=91,"अ-1", IF(AN64>=81,"अ-2", IF(AN64>=71,"ब-1", IF(AN64>=61,"ब-2", IF(AN64>=51,"क-1", IF(AN64>=41,"क-2", IF(AN64>=33,"ड", IF(AN64>=21,"ई-1", IF(AN64<=20, "ई-2" ))))))))) -> ई-2 | AQ64: 0 | AR64: =IF(AQ64>=91,"अ-1", IF(AQ64>=81,"अ-2", IF(AQ64>=71,"ब-1", IF(AQ64>=61,"ब-2", IF(AQ64>=51,"क-1", IF(AQ64>=41,"क-2", IF(AQ64>=33,"ड", IF(AQ64>=21,"ई-1", IF(AQ64<=20, "ई-2" ))))))))) -> ई-2 | AT64: 0 | AU64: =IF(AT64>=91,"अ-1", IF(AT64>=81,"अ-2", IF(AT64>=71,"ब-1", IF(AT64>=61,"ब-2", IF(AT64>=51,"क-1", IF(AT64>=41,"क-2", IF(AT64>=33,"ड", IF(AT64>=21,"ई-1", IF(AT64<=20, "ई-2" ))))))))) -> ई-2 | AW64: =SUM(H64,N64,T64,Z64,AF64,AK64,AN64,AQ64,AT64) -> 0 | AX64: =SUM(AW64*100)/AW12 -> 0 | AY64: =IF(AX64>=91,"अ-1", IF(AX64>=81,"अ-2", IF(AX64>=71,"ब-1", IF(AX64>=61,"ब-2", IF(AX64>=51,"क-1", IF(AX64>=41,"क-2", IF(AX64>=33,"ड", IF(AX64>=21,"ई-1", IF(AX64>=0, "ई-2" ))))))))) -> ई-2
B65: =Info_1!M57 -> 0 | C65: =Info_1!J57 -> 0 | D65: =Info_1!K57 -> 0 | E65: =Info_1!L57 -> 0 | F65: 0 | G65: 0 | H65: =SUM(F65:G65) -> 0 | J65: =IF(H65>=91,"अ-1", IF(H65>=81,"अ-2", IF(H65>=71,"ब-1", IF(H65>=61,"ब-2", IF(H65>=51,"क-1", IF(H65>=41,"क-2", IF(H65>=33,"ड", IF(H65>=21,"ई-1", IF(H65<=20, "ई-2" ))))))))) -> ई-2 | L65: 0 | M65: 0 | N65: =SUM(L65:M65) -> 0 | P65: =IF(N65>=91,"अ-1", IF(N65>=81,"अ-2", IF(N65>=71,"ब-1", IF(N65>=61,"ब-2", IF(N65>=51,"क-1", IF(N65>=41,"क-2", IF(N65>=33,"ड", IF(N65>=21,"ई-1", IF(N65<=20, "ई-2" ))))))))) -> ई-2 | R65: 0 | S65: 0 | T65: =SUM(R65:S65) -> 0 | V65: =IF(T65>=91,"अ-1", IF(T65>=81,"अ-2", IF(T65>=71,"ब-1", IF(T65>=61,"ब-2", IF(T65>=51,"क-1", IF(T65>=41,"क-2", IF(T65>=33,"ड", IF(T65>=21,"ई-1", IF(T65<=20, "ई-2" ))))))))) -> ई-2 | X65: 0 | Y65: 0 | Z65: =SUM(X65:Y65) -> 0 | AB65: =IF(Z65>=91,"अ-1", IF(Z65>=81,"अ-2", IF(Z65>=71,"ब-1", IF(Z65>=61,"ब-2", IF(Z65>=51,"क-1", IF(Z65>=41,"क-2", IF(Z65>=33,"ड", IF(Z65>=21,"ई-1", IF(Z65<=20, "ई-2" ))))))))) -> ई-2 | AI65: 0 | AJ65: 0 | AK65: =SUM(AI65:AJ65) -> 0 | AL65: =IF(AK65>=91,"अ-1", IF(AK65>=81,"अ-2", IF(AK65>=71,"ब-1", IF(AK65>=61,"ब-2", IF(AK65>=51,"क-1", IF(AK65>=41,"क-2", IF(AK65>=33,"ड", IF(AK65>=21,"ई-1", IF(AK65<=20, "ई-2" ))))))))) -> ई-2 | AN65: 0 | AO65: =IF(AN65>=91,"अ-1", IF(AN65>=81,"अ-2", IF(AN65>=71,"ब-1", IF(AN65>=61,"ब-2", IF(AN65>=51,"क-1", IF(AN65>=41,"क-2", IF(AN65>=33,"ड", IF(AN65>=21,"ई-1", IF(AN65<=20, "ई-2" ))))))))) -> ई-2 | AQ65: 0 | AR65: =IF(AQ65>=91,"अ-1", IF(AQ65>=81,"अ-2", IF(AQ65>=71,"ब-1", IF(AQ65>=61,"ब-2", IF(AQ65>=51,"क-1", IF(AQ65>=41,"क-2", IF(AQ65>=33,"ड", IF(AQ65>=21,"ई-1", IF(AQ65<=20, "ई-2" ))))))))) -> ई-2 | AT65: 0 | AU65: =IF(AT65>=91,"अ-1", IF(AT65>=81,"अ-2", IF(AT65>=71,"ब-1", IF(AT65>=61,"ब-2", IF(AT65>=51,"क-1", IF(AT65>=41,"क-2", IF(AT65>=33,"ड", IF(AT65>=21,"ई-1", IF(AT65<=20, "ई-2" ))))))))) -> ई-2 | AW65: =SUM(H65,N65,T65,Z65,AF65,AK65,AN65,AQ65,AT65) -> 0 | AX65: =SUM(AW65*100)/AW12 -> 0 | AY65: =IF(AX65>=91,"अ-1", IF(AX65>=81,"अ-2", IF(AX65>=71,"ब-1", IF(AX65>=61,"ब-2", IF(AX65>=51,"क-1", IF(AX65>=41,"क-2", IF(AX65>=33,"ड", IF(AX65>=21,"ई-1", IF(AX65>=0, "ई-2" ))))))))) -> ई-2
B66: =Info_1!M58 -> 0 | C66: =Info_1!J58 -> 0 | D66: =Info_1!K58 -> 0 | E66: =Info_1!L58 -> 0 | F66: 0 | G66: 0 | H66: =SUM(F66:G66) -> 0 | J66: =IF(H66>=91,"अ-1", IF(H66>=81,"अ-2", IF(H66>=71,"ब-1", IF(H66>=61,"ब-2", IF(H66>=51,"क-1", IF(H66>=41,"क-2", IF(H66>=33,"ड", IF(H66>=21,"ई-1", IF(H66<=20, "ई-2" ))))))))) -> ई-2 | L66: 0 | M66: 0 | N66: =SUM(L66:M66) -> 0 | P66: =IF(N66>=91,"अ-1", IF(N66>=81,"अ-2", IF(N66>=71,"ब-1", IF(N66>=61,"ब-2", IF(N66>=51,"क-1", IF(N66>=41,"क-2", IF(N66>=33,"ड", IF(N66>=21,"ई-1", IF(N66<=20, "ई-2" ))))))))) -> ई-2 | R66: 0 | S66: 0 | T66: =SUM(R66:S66) -> 0 | V66: =IF(T66>=91,"अ-1", IF(T66>=81,"अ-2", IF(T66>=71,"ब-1", IF(T66>=61,"ब-2", IF(T66>=51,"क-1", IF(T66>=41,"क-2", IF(T66>=33,"ड", IF(T66>=21,"ई-1", IF(T66<=20, "ई-2" ))))))))) -> ई-2 | X66: 0 | Y66: 0 | Z66: =SUM(X66:Y66) -> 0 | AB66: =IF(Z66>=91,"अ-1", IF(Z66>=81,"अ-2", IF(Z66>=71,"ब-1", IF(Z66>=61,"ब-2", IF(Z66>=51,"क-1", IF(Z66>=41,"क-2", IF(Z66>=33,"ड", IF(Z66>=21,"ई-1", IF(Z66<=20, "ई-2" ))))))))) -> ई-2 | AI66: 0 | AJ66: 0 | AK66: =SUM(AI66:AJ66) -> 0 | AL66: =IF(AK66>=91,"अ-1", IF(AK66>=81,"अ-2", IF(AK66>=71,"ब-1", IF(AK66>=61,"ब-2", IF(AK66>=51,"क-1", IF(AK66>=41,"क-2", IF(AK66>=33,"ड", IF(AK66>=21,"ई-1", IF(AK66<=20, "ई-2" ))))))))) -> ई-2 | AN66: 0 | AO66: =IF(AN66>=91,"अ-1", IF(AN66>=81,"अ-2", IF(AN66>=71,"ब-1", IF(AN66>=61,"ब-2", IF(AN66>=51,"क-1", IF(AN66>=41,"क-2", IF(AN66>=33,"ड", IF(AN66>=21,"ई-1", IF(AN66<=20, "ई-2" ))))))))) -> ई-2 | AQ66: 0 | AR66: =IF(AQ66>=91,"अ-1", IF(AQ66>=81,"अ-2", IF(AQ66>=71,"ब-1", IF(AQ66>=61,"ब-2", IF(AQ66>=51,"क-1", IF(AQ66>=41,"क-2", IF(AQ66>=33,"ड", IF(AQ66>=21,"ई-1", IF(AQ66<=20, "ई-2" ))))))))) -> ई-2 | AT66: 0 | AU66: =IF(AT66>=91,"अ-1", IF(AT66>=81,"अ-2", IF(AT66>=71,"ब-1", IF(AT66>=61,"ब-2", IF(AT66>=51,"क-1", IF(AT66>=41,"क-2", IF(AT66>=33,"ड", IF(AT66>=21,"ई-1", IF(AT66<=20, "ई-2" ))))))))) -> ई-2 | AW66: =SUM(H66,N66,T66,Z66,AF66,AK66,AN66,AQ66,AT66) -> 0 | AX66: =SUM(AW66*100)/AW12 -> 0 | AY66: =IF(AX66>=91,"अ-1", IF(AX66>=81,"अ-2", IF(AX66>=71,"ब-1", IF(AX66>=61,"ब-2", IF(AX66>=51,"क-1", IF(AX66>=41,"क-2", IF(AX66>=33,"ड", IF(AX66>=21,"ई-1", IF(AX66>=0, "ई-2" ))))))))) -> ई-2
B67: =Info_1!M59 -> 0 | C67: =Info_1!J59 -> 0 | D67: =Info_1!K59 -> 0 | E67: =Info_1!L59 -> 0 | F67: 0 | G67: 0 | H67: =SUM(F67:G67) -> 0 | J67: =IF(H67>=91,"अ-1", IF(H67>=81,"अ-2", IF(H67>=71,"ब-1", IF(H67>=61,"ब-2", IF(H67>=51,"क-1", IF(H67>=41,"क-2", IF(H67>=33,"ड", IF(H67>=21,"ई-1", IF(H67<=20, "ई-2" ))))))))) -> ई-2 | L67: 0 | M67: 0 | N67: =SUM(L67:M67) -> 0 | P67: =IF(N67>=91,"अ-1", IF(N67>=81,"अ-2", IF(N67>=71,"ब-1", IF(N67>=61,"ब-2", IF(N67>=51,"क-1", IF(N67>=41,"क-2", IF(N67>=33,"ड", IF(N67>=21,"ई-1", IF(N67<=20, "ई-2" ))))))))) -> ई-2 | R67: 0 | S67: 0 | T67: =SUM(R67:S67) -> 0 | V67: =IF(T67>=91,"अ-1", IF(T67>=81,"अ-2", IF(T67>=71,"ब-1", IF(T67>=61,"ब-2", IF(T67>=51,"क-1", IF(T67>=41,"क-2", IF(T67>=33,"ड", IF(T67>=21,"ई-1", IF(T67<=20, "ई-2" ))))))))) -> ई-2 | X67: 0 | Y67: 0 | Z67: =SUM(X67:Y67) -> 0 | AB67: =IF(Z67>=91,"अ-1", IF(Z67>=81,"अ-2", IF(Z67>=71,"ब-1", IF(Z67>=61,"ब-2", IF(Z67>=51,"क-1", IF(Z67>=41,"क-2", IF(Z67>=33,"ड", IF(Z67>=21,"ई-1", IF(Z67<=20, "ई-2" ))))))))) -> ई-2 | AI67: 0 | AJ67: 0 | AK67: =SUM(AI67:AJ67) -> 0 | AL67: =IF(AK67>=91,"अ-1", IF(AK67>=81,"अ-2", IF(AK67>=71,"ब-1", IF(AK67>=61,"ब-2", IF(AK67>=51,"क-1", IF(AK67>=41,"क-2", IF(AK67>=33,"ड", IF(AK67>=21,"ई-1", IF(AK67<=20, "ई-2" ))))))))) -> ई-2 | AN67: 0 | AO67: =IF(AN67>=91,"अ-1", IF(AN67>=81,"अ-2", IF(AN67>=71,"ब-1", IF(AN67>=61,"ब-2", IF(AN67>=51,"क-1", IF(AN67>=41,"क-2", IF(AN67>=33,"ड", IF(AN67>=21,"ई-1", IF(AN67<=20, "ई-2" ))))))))) -> ई-2 | AQ67: 0 | AR67: =IF(AQ67>=91,"अ-1", IF(AQ67>=81,"अ-2", IF(AQ67>=71,"ब-1", IF(AQ67>=61,"ब-2", IF(AQ67>=51,"क-1", IF(AQ67>=41,"क-2", IF(AQ67>=33,"ड", IF(AQ67>=21,"ई-1", IF(AQ67<=20, "ई-2" ))))))))) -> ई-2 | AT67: 0 | AU67: =IF(AT67>=91,"अ-1", IF(AT67>=81,"अ-2", IF(AT67>=71,"ब-1", IF(AT67>=61,"ब-2", IF(AT67>=51,"क-1", IF(AT67>=41,"क-2", IF(AT67>=33,"ड", IF(AT67>=21,"ई-1", IF(AT67<=20, "ई-2" ))))))))) -> ई-2 | AW67: =SUM(H67,N67,T67,Z67,AF67,AK67,AN67,AQ67,AT67) -> 0 | AX67: =SUM(AW67*100)/AW12 -> 0 | AY67: =IF(AX67>=91,"अ-1", IF(AX67>=81,"अ-2", IF(AX67>=71,"ब-1", IF(AX67>=61,"ब-2", IF(AX67>=51,"क-1", IF(AX67>=41,"क-2", IF(AX67>=33,"ड", IF(AX67>=21,"ई-1", IF(AX67>=0, "ई-2" ))))))))) -> ई-2
B68: =Info_1!M60 -> 0 | C68: =Info_1!J60 -> 0 | D68: =Info_1!K60 -> 0 | E68: =Info_1!L60 -> 0 | F68: 0 | G68: 0 | H68: =SUM(F68:G68) -> 0 | J68: =IF(H68>=91,"अ-1", IF(H68>=81,"अ-2", IF(H68>=71,"ब-1", IF(H68>=61,"ब-2", IF(H68>=51,"क-1", IF(H68>=41,"क-2", IF(H68>=33,"ड", IF(H68>=21,"ई-1", IF(H68<=20, "ई-2" ))))))))) -> ई-2 | L68: 0 | M68: 0 | N68: =SUM(L68:M68) -> 0 | P68: =IF(N68>=91,"अ-1", IF(N68>=81,"अ-2", IF(N68>=71,"ब-1", IF(N68>=61,"ब-2", IF(N68>=51,"क-1", IF(N68>=41,"क-2", IF(N68>=33,"ड", IF(N68>=21,"ई-1", IF(N68<=20, "ई-2" ))))))))) -> ई-2 | R68: 0 | S68: 0 | T68: =SUM(R68:S68) -> 0 | V68: =IF(T68>=91,"अ-1", IF(T68>=81,"अ-2", IF(T68>=71,"ब-1", IF(T68>=61,"ब-2", IF(T68>=51,"क-1", IF(T68>=41,"क-2", IF(T68>=33,"ड", IF(T68>=21,"ई-1", IF(T68<=20, "ई-2" ))))))))) -> ई-2 | X68: 0 | Y68: 0 | Z68: =SUM(X68:Y68) -> 0 | AB68: =IF(Z68>=91,"अ-1", IF(Z68>=81,"अ-2", IF(Z68>=71,"ब-1", IF(Z68>=61,"ब-2", IF(Z68>=51,"क-1", IF(Z68>=41,"क-2", IF(Z68>=33,"ड", IF(Z68>=21,"ई-1", IF(Z68<=20, "ई-2" ))))))))) -> ई-2 | AI68: 0 | AJ68: 0 | AK68: =SUM(AI68:AJ68) -> 0 | AL68: =IF(AK68>=91,"अ-1", IF(AK68>=81,"अ-2", IF(AK68>=71,"ब-1", IF(AK68>=61,"ब-2", IF(AK68>=51,"क-1", IF(AK68>=41,"क-2", IF(AK68>=33,"ड", IF(AK68>=21,"ई-1", IF(AK68<=20, "ई-2" ))))))))) -> ई-2 | AN68: 0 | AO68: =IF(AN68>=91,"अ-1", IF(AN68>=81,"अ-2", IF(AN68>=71,"ब-1", IF(AN68>=61,"ब-2", IF(AN68>=51,"क-1", IF(AN68>=41,"क-2", IF(AN68>=33,"ड", IF(AN68>=21,"ई-1", IF(AN68<=20, "ई-2" ))))))))) -> ई-2 | AQ68: 0 | AR68: =IF(AQ68>=91,"अ-1", IF(AQ68>=81,"अ-2", IF(AQ68>=71,"ब-1", IF(AQ68>=61,"ब-2", IF(AQ68>=51,"क-1", IF(AQ68>=41,"क-2", IF(AQ68>=33,"ड", IF(AQ68>=21,"ई-1", IF(AQ68<=20, "ई-2" ))))))))) -> ई-2 | AT68: 0 | AU68: =IF(AT68>=91,"अ-1", IF(AT68>=81,"अ-2", IF(AT68>=71,"ब-1", IF(AT68>=61,"ब-2", IF(AT68>=51,"क-1", IF(AT68>=41,"क-2", IF(AT68>=33,"ड", IF(AT68>=21,"ई-1", IF(AT68<=20, "ई-2" ))))))))) -> ई-2 | AW68: =SUM(H68,N68,T68,Z68,AF68,AK68,AN68,AQ68,AT68) -> 0 | AX68: =SUM(AW68*100)/AW12 -> 0 | AY68: =IF(AX68>=91,"अ-1", IF(AX68>=81,"अ-2", IF(AX68>=71,"ब-1", IF(AX68>=61,"ब-2", IF(AX68>=51,"क-1", IF(AX68>=41,"क-2", IF(AX68>=33,"ड", IF(AX68>=21,"ई-1", IF(AX68>=0, "ई-2" ))))))))) -> ई-2
B69: =Info_1!M61 -> 0 | C69: =Info_1!J61 -> 0 | D69: =Info_1!K61 -> 0 | E69: =Info_1!L61 -> 0 | F69: 0 | G69: 0 | H69: =SUM(F69:G69) -> 0 | J69: =IF(H69>=91,"अ-1", IF(H69>=81,"अ-2", IF(H69>=71,"ब-1", IF(H69>=61,"ब-2", IF(H69>=51,"क-1", IF(H69>=41,"क-2", IF(H69>=33,"ड", IF(H69>=21,"ई-1", IF(H69<=20, "ई-2" ))))))))) -> ई-2 | L69: 0 | M69: 0 | N69: =SUM(L69:M69) -> 0 | P69: =IF(N69>=91,"अ-1", IF(N69>=81,"अ-2", IF(N69>=71,"ब-1", IF(N69>=61,"ब-2", IF(N69>=51,"क-1", IF(N69>=41,"क-2", IF(N69>=33,"ड", IF(N69>=21,"ई-1", IF(N69<=20, "ई-2" ))))))))) -> ई-2 | R69: 0 | S69: 0 | T69: =SUM(R69:S69) -> 0 | V69: =IF(T69>=91,"अ-1", IF(T69>=81,"अ-2", IF(T69>=71,"ब-1", IF(T69>=61,"ब-2", IF(T69>=51,"क-1", IF(T69>=41,"क-2", IF(T69>=33,"ड", IF(T69>=21,"ई-1", IF(T69<=20, "ई-2" ))))))))) -> ई-2 | X69: 0 | Y69: 0 | Z69: =SUM(X69:Y69) -> 0 | AB69: =IF(Z69>=91,"अ-1", IF(Z69>=81,"अ-2", IF(Z69>=71,"ब-1", IF(Z69>=61,"ब-2", IF(Z69>=51,"क-1", IF(Z69>=41,"क-2", IF(Z69>=33,"ड", IF(Z69>=21,"ई-1", IF(Z69<=20, "ई-2" ))))))))) -> ई-2 | AI69: 0 | AJ69: 0 | AK69: =SUM(AI69:AJ69) -> 0 | AL69: =IF(AK69>=91,"अ-1", IF(AK69>=81,"अ-2", IF(AK69>=71,"ब-1", IF(AK69>=61,"ब-2", IF(AK69>=51,"क-1", IF(AK69>=41,"क-2", IF(AK69>=33,"ड", IF(AK69>=21,"ई-1", IF(AK69<=20, "ई-2" ))))))))) -> ई-2 | AN69: 0 | AO69: =IF(AN69>=91,"अ-1", IF(AN69>=81,"अ-2", IF(AN69>=71,"ब-1", IF(AN69>=61,"ब-2", IF(AN69>=51,"क-1", IF(AN69>=41,"क-2", IF(AN69>=33,"ड", IF(AN69>=21,"ई-1", IF(AN69<=20, "ई-2" ))))))))) -> ई-2 | AQ69: 0 | AR69: =IF(AQ69>=91,"अ-1", IF(AQ69>=81,"अ-2", IF(AQ69>=71,"ब-1", IF(AQ69>=61,"ब-2", IF(AQ69>=51,"क-1", IF(AQ69>=41,"क-2", IF(AQ69>=33,"ड", IF(AQ69>=21,"ई-1", IF(AQ69<=20, "ई-2" ))))))))) -> ई-2 | AT69: 0 | AU69: =IF(AT69>=91,"अ-1", IF(AT69>=81,"अ-2", IF(AT69>=71,"ब-1", IF(AT69>=61,"ब-2", IF(AT69>=51,"क-1", IF(AT69>=41,"क-2", IF(AT69>=33,"ड", IF(AT69>=21,"ई-1", IF(AT69<=20, "ई-2" ))))))))) -> ई-2 | AW69: =SUM(H69,N69,T69,Z69,AF69,AK69,AN69,AQ69,AT69) -> 0 | AX69: =SUM(AW69*100)/AW12 -> 0 | AY69: =IF(AX69>=91,"अ-1", IF(AX69>=81,"अ-2", IF(AX69>=71,"ब-1", IF(AX69>=61,"ब-2", IF(AX69>=51,"क-1", IF(AX69>=41,"क-2", IF(AX69>=33,"ड", IF(AX69>=21,"ई-1", IF(AX69>=0, "ई-2" ))))))))) -> ई-2
B70: =Info_1!M62 -> 0 | C70: =Info_1!J62 -> 0 | D70: =Info_1!K62 -> 0 | E70: =Info_1!L62 -> 0 | F70: 0 | G70: 0 | H70: =SUM(F70:G70) -> 0 | J70: =IF(H70>=91,"अ-1", IF(H70>=81,"अ-2", IF(H70>=71,"ब-1", IF(H70>=61,"ब-2", IF(H70>=51,"क-1", IF(H70>=41,"क-2", IF(H70>=33,"ड", IF(H70>=21,"ई-1", IF(H70<=20, "ई-2" ))))))))) -> ई-2 | L70: 0 | M70: 0 | N70: =SUM(L70:M70) -> 0 | P70: =IF(N70>=91,"अ-1", IF(N70>=81,"अ-2", IF(N70>=71,"ब-1", IF(N70>=61,"ब-2", IF(N70>=51,"क-1", IF(N70>=41,"क-2", IF(N70>=33,"ड", IF(N70>=21,"ई-1", IF(N70<=20, "ई-2" ))))))))) -> ई-2 | R70: 0 | S70: 0 | T70: =SUM(R70:S70) -> 0 | V70: =IF(T70>=91,"अ-1", IF(T70>=81,"अ-2", IF(T70>=71,"ब-1", IF(T70>=61,"ब-2", IF(T70>=51,"क-1", IF(T70>=41,"क-2", IF(T70>=33,"ड", IF(T70>=21,"ई-1", IF(T70<=20, "ई-2" ))))))))) -> ई-2 | X70: 0 | Y70: 0 | Z70: =SUM(X70:Y70) -> 0 | AB70: =IF(Z70>=91,"अ-1", IF(Z70>=81,"अ-2", IF(Z70>=71,"ब-1", IF(Z70>=61,"ब-2", IF(Z70>=51,"क-1", IF(Z70>=41,"क-2", IF(Z70>=33,"ड", IF(Z70>=21,"ई-1", IF(Z70<=20, "ई-2" ))))))))) -> ई-2 | AI70: 0 | AJ70: 0 | AK70: =SUM(AI70:AJ70) -> 0 | AL70: =IF(AK70>=91,"अ-1", IF(AK70>=81,"अ-2", IF(AK70>=71,"ब-1", IF(AK70>=61,"ब-2", IF(AK70>=51,"क-1", IF(AK70>=41,"क-2", IF(AK70>=33,"ड", IF(AK70>=21,"ई-1", IF(AK70<=20, "ई-2" ))))))))) -> ई-2 | AN70: 0 | AO70: =IF(AN70>=91,"अ-1", IF(AN70>=81,"अ-2", IF(AN70>=71,"ब-1", IF(AN70>=61,"ब-2", IF(AN70>=51,"क-1", IF(AN70>=41,"क-2", IF(AN70>=33,"ड", IF(AN70>=21,"ई-1", IF(AN70<=20, "ई-2" ))))))))) -> ई-2 | AQ70: 0 | AR70: =IF(AQ70>=91,"अ-1", IF(AQ70>=81,"अ-2", IF(AQ70>=71,"ब-1", IF(AQ70>=61,"ब-2", IF(AQ70>=51,"क-1", IF(AQ70>=41,"क-2", IF(AQ70>=33,"ड", IF(AQ70>=21,"ई-1", IF(AQ70<=20, "ई-2" ))))))))) -> ई-2 | AT70: 0 | AU70: =IF(AT70>=91,"अ-1", IF(AT70>=81,"अ-2", IF(AT70>=71,"ब-1", IF(AT70>=61,"ब-2", IF(AT70>=51,"क-1", IF(AT70>=41,"क-2", IF(AT70>=33,"ड", IF(AT70>=21,"ई-1", IF(AT70<=20, "ई-2" ))))))))) -> ई-2 | AW70: =SUM(H70,N70,T70,Z70,AF70,AK70,AN70,AQ70,AT70) -> 0 | AX70: =SUM(AW70*100)/AW12 -> 0 | AY70: =IF(AX70>=91,"अ-1", IF(AX70>=81,"अ-2", IF(AX70>=71,"ब-1", IF(AX70>=61,"ब-2", IF(AX70>=51,"क-1", IF(AX70>=41,"क-2", IF(AX70>=33,"ड", IF(AX70>=21,"ई-1", IF(AX70>=0, "ई-2" ))))))))) -> ई-2
B71: =Info_1!M63 -> 0 | C71: =Info_1!J63 -> 0 | D71: =Info_1!K63 -> 0 | E71: =Info_1!L63 -> 0 | F71: 0 | G71: 0 | H71: =SUM(F71:G71) -> 0 | J71: =IF(H71>=91,"अ-1", IF(H71>=81,"अ-2", IF(H71>=71,"ब-1", IF(H71>=61,"ब-2", IF(H71>=51,"क-1", IF(H71>=41,"क-2", IF(H71>=33,"ड", IF(H71>=21,"ई-1", IF(H71<=20, "ई-2" ))))))))) -> ई-2 | L71: 0 | M71: 0 | N71: =SUM(L71:M71) -> 0 | P71: =IF(N71>=91,"अ-1", IF(N71>=81,"अ-2", IF(N71>=71,"ब-1", IF(N71>=61,"ब-2", IF(N71>=51,"क-1", IF(N71>=41,"क-2", IF(N71>=33,"ड", IF(N71>=21,"ई-1", IF(N71<=20, "ई-2" ))))))))) -> ई-2 | R71: 0 | S71: 0 | T71: =SUM(R71:S71) -> 0 | V71: =IF(T71>=91,"अ-1", IF(T71>=81,"अ-2", IF(T71>=71,"ब-1", IF(T71>=61,"ब-2", IF(T71>=51,"क-1", IF(T71>=41,"क-2", IF(T71>=33,"ड", IF(T71>=21,"ई-1", IF(T71<=20, "ई-2" ))))))))) -> ई-2 | X71: 0 | Y71: 0 | Z71: =SUM(X71:Y71) -> 0 | AB71: =IF(Z71>=91,"अ-1", IF(Z71>=81,"अ-2", IF(Z71>=71,"ब-1", IF(Z71>=61,"ब-2", IF(Z71>=51,"क-1", IF(Z71>=41,"क-2", IF(Z71>=33,"ड", IF(Z71>=21,"ई-1", IF(Z71<=20, "ई-2" ))))))))) -> ई-2 | AI71: 0 | AJ71: 0 | AK71: =SUM(AI71:AJ71) -> 0 | AL71: =IF(AK71>=91,"अ-1", IF(AK71>=81,"अ-2", IF(AK71>=71,"ब-1", IF(AK71>=61,"ब-2", IF(AK71>=51,"क-1", IF(AK71>=41,"क-2", IF(AK71>=33,"ड", IF(AK71>=21,"ई-1", IF(AK71<=20, "ई-2" ))))))))) -> ई-2 | AN71: 0 | AO71: =IF(AN71>=91,"अ-1", IF(AN71>=81,"अ-2", IF(AN71>=71,"ब-1", IF(AN71>=61,"ब-2", IF(AN71>=51,"क-1", IF(AN71>=41,"क-2", IF(AN71>=33,"ड", IF(AN71>=21,"ई-1", IF(AN71<=20, "ई-2" ))))))))) -> ई-2 | AQ71: 0 | AR71: =IF(AQ71>=91,"अ-1", IF(AQ71>=81,"अ-2", IF(AQ71>=71,"ब-1", IF(AQ71>=61,"ब-2", IF(AQ71>=51,"क-1", IF(AQ71>=41,"क-2", IF(AQ71>=33,"ड", IF(AQ71>=21,"ई-1", IF(AQ71<=20, "ई-2" ))))))))) -> ई-2 | AT71: 0 | AU71: =IF(AT71>=91,"अ-1", IF(AT71>=81,"अ-2", IF(AT71>=71,"ब-1", IF(AT71>=61,"ब-2", IF(AT71>=51,"क-1", IF(AT71>=41,"क-2", IF(AT71>=33,"ड", IF(AT71>=21,"ई-1", IF(AT71<=20, "ई-2" ))))))))) -> ई-2 | AW71: =SUM(H71,N71,T71,Z71,AF71,AK71,AN71,AQ71,AT71) -> 0 | AX71: =SUM(AW71*100)/AW12 -> 0 | AY71: =IF(AX71>=91,"अ-1", IF(AX71>=81,"अ-2", IF(AX71>=71,"ब-1", IF(AX71>=61,"ब-2", IF(AX71>=51,"क-1", IF(AX71>=41,"क-2", IF(AX71>=33,"ड", IF(AX71>=21,"ई-1", IF(AX71>=0, "ई-2" ))))))))) -> ई-2
B72: =Info_1!M64 -> 0 | C72: =Info_1!J64 -> 0 | D72: =Info_1!K64 -> 0 | E72: =Info_1!L64 -> 0 | F72: 0 | G72: 0 | H72: =SUM(F72:G72) -> 0 | J72: =IF(H72>=91,"अ-1", IF(H72>=81,"अ-2", IF(H72>=71,"ब-1", IF(H72>=61,"ब-2", IF(H72>=51,"क-1", IF(H72>=41,"क-2", IF(H72>=33,"ड", IF(H72>=21,"ई-1", IF(H72<=20, "ई-2" ))))))))) -> ई-2 | L72: 0 | M72: 0 | N72: =SUM(L72:M72) -> 0 | P72: =IF(N72>=91,"अ-1", IF(N72>=81,"अ-2", IF(N72>=71,"ब-1", IF(N72>=61,"ब-2", IF(N72>=51,"क-1", IF(N72>=41,"क-2", IF(N72>=33,"ड", IF(N72>=21,"ई-1", IF(N72<=20, "ई-2" ))))))))) -> ई-2 | R72: 0 | S72: 0 | T72: =SUM(R72:S72) -> 0 | V72: =IF(T72>=91,"अ-1", IF(T72>=81,"अ-2", IF(T72>=71,"ब-1", IF(T72>=61,"ब-2", IF(T72>=51,"क-1", IF(T72>=41,"क-2", IF(T72>=33,"ड", IF(T72>=21,"ई-1", IF(T72<=20, "ई-2" ))))))))) -> ई-2 | X72: 0 | Y72: 0 | Z72: =SUM(X72:Y72) -> 0 | AB72: =IF(Z72>=91,"अ-1", IF(Z72>=81,"अ-2", IF(Z72>=71,"ब-1", IF(Z72>=61,"ब-2", IF(Z72>=51,"क-1", IF(Z72>=41,"क-2", IF(Z72>=33,"ड", IF(Z72>=21,"ई-1", IF(Z72<=20, "ई-2" ))))))))) -> ई-2 | AI72: 0 | AJ72: 0 | AK72: =SUM(AI72:AJ72) -> 0 | AL72: =IF(AK72>=91,"अ-1", IF(AK72>=81,"अ-2", IF(AK72>=71,"ब-1", IF(AK72>=61,"ब-2", IF(AK72>=51,"क-1", IF(AK72>=41,"क-2", IF(AK72>=33,"ड", IF(AK72>=21,"ई-1", IF(AK72<=20, "ई-2" ))))))))) -> ई-2 | AN72: 0 | AO72: =IF(AN72>=91,"अ-1", IF(AN72>=81,"अ-2", IF(AN72>=71,"ब-1", IF(AN72>=61,"ब-2", IF(AN72>=51,"क-1", IF(AN72>=41,"क-2", IF(AN72>=33,"ड", IF(AN72>=21,"ई-1", IF(AN72<=20, "ई-2" ))))))))) -> ई-2 | AQ72: 0 | AR72: =IF(AQ72>=91,"अ-1", IF(AQ72>=81,"अ-2", IF(AQ72>=71,"ब-1", IF(AQ72>=61,"ब-2", IF(AQ72>=51,"क-1", IF(AQ72>=41,"क-2", IF(AQ72>=33,"ड", IF(AQ72>=21,"ई-1", IF(AQ72<=20, "ई-2" ))))))))) -> ई-2 | AT72: 0 | AU72: =IF(AT72>=91,"अ-1", IF(AT72>=81,"अ-2", IF(AT72>=71,"ब-1", IF(AT72>=61,"ब-2", IF(AT72>=51,"क-1", IF(AT72>=41,"क-2", IF(AT72>=33,"ड", IF(AT72>=21,"ई-1", IF(AT72<=20, "ई-2" ))))))))) -> ई-2 | AW72: =SUM(H72,N72,T72,Z72,AF72,AK72,AN72,AQ72,AT72) -> 0 | AX72: =SUM(AW72*100)/AW12 -> 0 | AY72: =IF(AX72>=91,"अ-1", IF(AX72>=81,"अ-2", IF(AX72>=71,"ब-1", IF(AX72>=61,"ब-2", IF(AX72>=51,"क-1", IF(AX72>=41,"क-2", IF(AX72>=33,"ड", IF(AX72>=21,"ई-1", IF(AX72>=0, "ई-2" ))))))))) -> ई-2

Sheet Takta_B
B1: सातत्यपूर्ण सर्वंकष मूल्यमापन - | F1: =Takta_A!R3 -> 2 | H1: वर्गस्तर संकलन ( तक्ता - ब ) | K1: =Takta_A!AG3 -> 2024 - 25
A3: शाळा : | C3: =Info_1!D5 -> School Name ? | J3: इयत्ता : | K3: =Info_1!D13 -> 1 | L3: वर्ग : | M3: =Info_1!F13 -> A
A4: hellomitra.in
A5: अनु.क्र. | B5: विषय | C5: श्रेणी | D5: मुली | E5: मुले | F5: श्रेणी प्राप्त विद्यार्थी संख्या | H5: अनु.क्र. | I5: विषय | J5: श्रेणी | K5: मुली | L5: मुले | M5: श्रेणी प्राप्त विद्यार्थी संख्या
A7: 1 | B7: =Takta_A!F10 -> प्रथम भाषा | C7: अ - 1 | D7: =SUMPRODUCT(--(Takta_A!E13:E72="F"),--(Takta_A!J13:J72="अ-1")) -> 0 | E7: =SUMPRODUCT(--(Takta_A!E13:E72="M"),--(Takta_A!J13:J72="अ-1")) -> 0 | F7: =SUM(D7:E7) -> 0 | G7: arvindgg74@ | H7: 6 | I7: =Takta_A!AI10 -> कब / बुलबुल | J7: अ - 1 | K7: =SUMPRODUCT(--(Takta_A!E13:E72="F"),--(Takta_A!AL13:AL72="अ-1")) -> 0 | L7: =SUMPRODUCT(--(Takta_A!E13:E72="M"),--(Takta_A!AL13:AL72="अ-1")) -> 0 | M7: =SUM(K7:L7) -> 0
C8: अ - 2 | D8: =SUMPRODUCT(--(Takta_A!E13:E72="F"),--(Takta_A!J13:J72="अ-2")) -> 0 | E8: =SUMPRODUCT(--(Takta_A!E13:E72="M"),--(Takta_A!J13:J72="अ-2")) -> 0 | F8: =SUM(D8:E8) -> 0 | J8: अ - 2 | K8: =SUMPRODUCT(--(Takta_A!E13:E72="F"),--(Takta_A!AL13:AL72="अ-2")) -> 0 | L8: =SUMPRODUCT(--(Takta_A!E13:E72="M"),--(Takta_A!AL13:AL72="अ-2")) -> 0 | M8: =SUM(K8:L8) -> 0
C9: ब - 1 | D9: =SUMPRODUCT(--(Takta_A!E13:E72="F"),--(Takta_A!J13:J72="ब-1")) -> 0 | E9: =SUMPRODUCT(--(Takta_A!E13:E72="M"),--(Takta_A!J13:J72="ब-1")) -> 0 | F9: =SUM(D9:E9) -> 0 | J9: ब - 1 | K9: =SUMPRODUCT(--(Takta_A!E13:E72="F"),--(Takta_A!AL13:AL72="ब-1")) -> 0 | L9: =SUMPRODUCT(--(Takta_A!E13:E72="M"),--(Takta_A!AL13:AL72="ब-1")) -> 0 | M9: =SUM(K9:L9) -> 0
C10: ब - 2 | D10: =SUMPRODUCT(--(Takta_A!E13:E72="F"),--(Takta_A!J13:J72="ब-2")) -> 0 | E10: =SUMPRODUCT(--(Takta_A!E13:E72="M"),--(Takta_A!J13:J72="ब-2")) -> 0 | F10: =SUM(D10:E10) -> 0 | J10: ब - 2 | K10: =SUMPRODUCT(--(Takta_A!E13:E72="F"),--(Takta_A!AL13:AL72="ब-2")) -> 0 | L10: =SUMPRODUCT(--(Takta_A!E13:E72="M"),--(Takta_A!AL13:AL72="ब-2")) -> 0 | M10: =SUM(K10:L10) -> 0
C11: क - 1 | D11: =SUMPRODUCT(--(Takta_A!E13:E72="F"),--(Takta_A!J13:J72="क-1")) -> 0 | E11: =SUMPRODUCT(--(Takta_A!E13:E72="M"),--(Takta_A!J13:J72="क-1")) -> 0 | F11: =SUM(D11:E11) -> 0 | J11: क - 1 | K11: =SUMPRODUCT(--(Takta_A!E13:E72="F"),--(Takta_A!AL13:AL72="क-1")) -> 0 | L11: =SUMPRODUCT(--(Takta_A!E13:E72="M"),--(Takta_A!AL13:AL72="क-1")) -> 0 | M11: =SUM(K11:L11) -> 0
C12: क - 2 | D12: =SUMPRODUCT(--(Takta_A!E13:E72="F"),--(Takta_A!J13:J72="क-2")) -> 0 | E12: =SUMPRODUCT(--(Takta_A!E13:E72="M"),--(Takta_A!J13:J72="क-2")) -> 0 | F12: =SUM(D12:E12) -> 0 | J12: क - 2 | K12: =SUMPRODUCT(--(Takta_A!E13:E72="F"),--(Takta_A!AL13:AL72="क-2")) -> 0 | L12: =SUMPRODUCT(--(Takta_A!E13:E72="M"),--(Takta_A!AL13:AL72="क-2")) -> 0 | M12: =SUM(K12:L12) -> 0
C13: क - 2 च्या खालील श्रेणी | D13: =SUMPRODUCT(--(Takta_A!E13:E72="F"),--(Takta_A!J13:J72="ड")+(--(Takta_A!J13:J72="ई-1")+(--(Takta_A!J13:J72="ई-2")))) -> 0 | E13: =SUMPRODUCT(--(Takta_A!E13:E72="M"),--(Takta_A!J13:J72="ड")+(--(Takta_A!J13:J72="ई-1")+(--(Takta_A!J13:J72="ई-2")))) -> 0 | F13: =SUM(D13:E13) -> 0 | J13: क - 2 च्या खालील श्रेणी | K13: =SUMPRODUCT(--(Takta_A!E13:E72="F"),--(Takta_A!AL13:AL72="ड")+(--(Takta_A!AL13:AL72="ई-1")+(--(Takta_A!AL13:AL72="ई-2")))) -> 0 | L13: =SUMPRODUCT(--(Takta_A!E13:E72="M"),--(Takta_A!AL13:AL72="ड")+(--(Takta_A!AL13:AL72="ई-1")+(--(Takta_A!AL13:AL72="ई-2")))) -> 0 | M13: =SUM(K13:L13) -> 0
A14: 2 | B14: =Takta_A!L10 -> द्वितीय भाषा | C14: अ - 1 | D14: =SUMPRODUCT(--(Takta_A!E13:E72="F"),--(Takta_A!P13:P72="अ-1")) -> 0 | E14: =SUMPRODUCT(--(Takta_A!E13:E72="M"),--(Takta_A!P13:P72="अ-1")) -> 0 | F14: =SUM(D14:E14) -> 0 | H14: 7 | I14: =Takta_A!AN10 -> कला | J14: अ - 1 | K14: =SUMPRODUCT(--(Takta_A!E13:E72="F"),--(Takta_A!AO13:AO72="अ-1")) -> 0 | L14: =SUMPRODUCT(--(Takta_A!E13:E72="M"),--(Takta_A!AO13:AO72="अ-1")) -> 0 | M14: =SUM(K14:L14) -> 0
C15: अ - 2 | D15: =SUMPRODUCT(--(Takta_A!E13:E72="F"),--(Takta_A!P13:P72="अ-2")) -> 0 | E15: =SUMPRODUCT(--(Takta_A!E13:E72="M"),--(Takta_A!P13:P72="अ-2")) -> 0 | F15: =SUM(D15:E15) -> 0 | J15: अ - 2 | K15: =SUMPRODUCT(--(Takta_A!E13:E72="F"),--(Takta_A!AO13:AO72="अ-2")) -> 0 | L15: =SUMPRODUCT(--(Takta_A!E13:E72="M"),--(Takta_A!AO13:AO72="अ-2")) -> 0 | M15: =SUM(K15:L15) -> 0
C16: ब - 1 | D16: =SUMPRODUCT(--(Takta_A!E13:E72="F"),--(Takta_A!P13:P72="ब-1")) -> 0 | E16: =SUMPRODUCT(--(Takta_A!E13:E72="M"),--(Takta_A!P13:P72="ब-1")) -> 0 | F16: =SUM(D16:E16) -> 0 | J16: ब - 1 | K16: =SUMPRODUCT(--(Takta_A!E13:E72="F"),--(Takta_A!AO13:AO72="ब-1")) -> 0 | L16: =SUMPRODUCT(--(Takta_A!E13:E72="M"),--(Takta_A!AO13:AO72="ब-1")) -> 0 | M16: =SUM(K16:L16) -> 0
C17: ब - 2 | D17: =SUMPRODUCT(--(Takta_A!E13:E72="F"),--(Takta_A!P13:P72="ब-2")) -> 0 | E17: =SUMPRODUCT(--(Takta_A!E13:E72="M"),--(Takta_A!P13:P72="ब-2")) -> 0 | F17: =SUM(D17:E17) -> 0 | J17: ब - 2 | K17: =SUMPRODUCT(--(Takta_A!E13:E72="F"),--(Takta_A!AO13:AO72="ब-2")) -> 0 | L17: =SUMPRODUCT(--(Takta_A!E13:E72="M"),--(Takta_A!AO13:AO72="ब-2")) -> 0 | M17: =SUM(K17:L17) -> 0
C18: क - 1 | D18: =SUMPRODUCT(--(Takta_A!E13:E72="F"),--(Takta_A!P13:P72="क-1")) -> 0 | E18: =SUMPRODUCT(--(Takta_A!E13:E72="M"),--(Takta_A!P13:P72="क-1")) -> 0 | F18: =SUM(D18:E18) -> 0 | J18: क - 1 | K18: =SUMPRODUCT(--(Takta_A!E13:E72="F"),--(Takta_A!AO13:AO72="क-1")) -> 0 | L18: =SUMPRODUCT(--(Takta_A!E13:E72="M"),--(Takta_A!AO13:AO72="क-1")) -> 0 | M18: =SUM(K18:L18) -> 0
C19: क - 2 | D19: =SUMPRODUCT(--(Takta_A!E13:E72="F"),--(Takta_A!P13:P72="क-2")) -> 0 | E19: =SUMPRODUCT(--(Takta_A!E13:E72="M"),--(Takta_A!P13:P72="क-2")) -> 0 | F19: =SUM(D19:E19) -> 0 | J19: क - 2 | K19: =SUMPRODUCT(--(Takta_A!E13:E72="F"),--(Takta_A!AO13:AO72="क-2")) -> 0 | L19: =SUMPRODUCT(--(Takta_A!E13:E72="M"),--(Takta_A!AO13:AO72="क-2")) -> 0 | M19: =SUM(K19:L19) -> 0
C20: क - 2 च्या खालील श्रेणी | D20: =SUMPRODUCT(--(Takta_A!E13:E72="F"),--(Takta_A!P13:P72="ड")+(--(Takta_A!P13:P72="ई-1")+(--(Takta_A!P13:P72="ई-2")))) -> 0 | E20: =SUMPRODUCT(--(Takta_A!E13:E72="M"),--(Takta_A!P13:P72="ड")+(--(Takta_A!P13:P72="ई-1")+(--(Takta_A!P13:P72="ई-2")))) -> 0 | F20: =SUM(D20:E20) -> 0 | J20: क - 2 च्या खालील श्रेणी | K20: =SUMPRODUCT(--(Takta_A!E13:E72="F"),--(Takta_A!AO13:AO72="ड")+(--(Takta_A!AO13:AO72="ई-1")+(--(Takta_A!AO13:AO72="ई-2")))) -> 0 | L20: =SUMPRODUCT(--(Takta_A!E13:E72="M"),--(Takta_A!AO13:AO72="ड")+(--(Takta_A!AO13:AO72="ई-1")+(--(Takta_A!AO13:AO72="ई-2")))) -> 0 | M20: =SUM(K20:L20) -> 0
A21: 3 | B21: =Takta_A!R10 -> तृतीय भाषा | C21: अ - 1 | D21: =SUMPRODUCT(--(Takta_A!E13:E72="F"),--(Takta_A!V13:V72="अ-1")) -> 0 | E21: =SUMPRODUCT(--(Takta_A!E13:E72="M"),--(Takta_A!V13:V72="अ-1")) -> 0 | F21: =SUM(D21:E21) -> 0 | H21: 8 | I21: =Takta_A!AQ10 -> कार्यानुभव | J21: अ - 1 | K21: =SUMPRODUCT(--(Takta_A!E13:E72="F"),--(Takta_A!AR13:AR72="अ-1")) -> 0 | L21: =SUMPRODUCT(--(Takta_A!E13:E72="M"),--(Takta_A!AR13:AR72="अ-1")) -> 0 | M21: =SUM(K21:L21) -> 0
C22: अ - 2 | D22: =SUMPRODUCT(--(Takta_A!E13:E72="F"),--(Takta_A!V13:V72="अ-2")) -> 0 | E22: =SUMPRODUCT(--(Takta_A!E13:E72="M"),--(Takta_A!V13:V72="अ-2")) -> 0 | F22: =SUM(D22:E22) -> 0 | J22: अ - 2 | K22: =SUMPRODUCT(--(Takta_A!E13:E72="F"),--(Takta_A!AR13:AR72="अ-2")) -> 0 | L22: =SUMPRODUCT(--(Takta_A!E13:E72="M"),--(Takta_A!AR13:AR72="अ-2")) -> 0 | M22: =SUM(K22:L22) -> 0
C23: ब - 1 | D23: =SUMPRODUCT(--(Takta_A!E13:E72="F"),--(Takta_A!V13:V72="ब-1")) -> 0 | E23: =SUMPRODUCT(--(Takta_A!E13:E72="M"),--(Takta_A!V13:V72="ब-1")) -> 0 | F23: =SUM(D23:E23) -> 0 | J23: ब - 1 | K23: =SUMPRODUCT(--(Takta_A!E13:E72="F"),--(Takta_A!AR13:AR72="ब-1")) -> 0 | L23: =SUMPRODUCT(--(Takta_A!E13:E72="M"),--(Takta_A!AR13:AR72="ब-1")) -> 0 | M23: =SUM(K23:L23) -> 0
C24: ब - 2 | D24: =SUMPRODUCT(--(Takta_A!E13:E72="F"),--(Takta_A!V13:V72="ब-2")) -> 0 | E24: =SUMPRODUCT(--(Takta_A!E13:E72="M"),--(Takta_A!V13:V72="ब-2")) -> 0 | F24: =SUM(D24:E24) -> 0 | J24: ब - 2 | K24: =SUMPRODUCT(--(Takta_A!E13:E72="F"),--(Takta_A!AR13:AR72="ब-2")) -> 0 | L24: =SUMPRODUCT(--(Takta_A!E13:E72="M"),--(Takta_A!AR13:AR72="ब-2")) -> 0 | M24: =SUM(K24:L24) -> 0
C25: क - 1 | D25: =SUMPRODUCT(--(Takta_A!E13:E72="F"),--(Takta_A!V13:V72="क-1")) -> 0 | E25: =SUMPRODUCT(--(Takta_A!E13:E72="M"),--(Takta_A!V13:V72="क-1")) -> 0 | F25: =SUM(D25:E25) -> 0 | J25: क - 1 | K25: =SUMPRODUCT(--(Takta_A!E13:E72="F"),--(Takta_A!AR13:AR72="क-1")) -> 0 | L25: =SUMPRODUCT(--(Takta_A!E13:E72="M"),--(Takta_A!AR13:AR72="क-1")) -> 0 | M25: =SUM(K25:L25) -> 0
C26: क - 2 | D26: =SUMPRODUCT(--(Takta_A!E13:E72="F"),--(Takta_A!V13:V72="क-2")) -> 0 | E26: =SUMPRODUCT(--(Takta_A!E13:E72="M"),--(Takta_A!V13:V72="क-2")) -> 0 | F26: =SUM(D26:E26) -> 0 | J26: क - 2 | K26: =SUMPRODUCT(--(Takta_A!E13:E72="F"),--(Takta_A!AR13:AR72="क-2")) -> 0 | L26: =SUMPRODUCT(--(Takta_A!E13:E72="M"),--(Takta_A!AR13:AR72="क-2")) -> 0 | M26: =SUM(K26:L26) -> 0
C27: क - 2 च्या खालील श्रेणी | D27: =SUMPRODUCT(--(Takta_A!E13:E72="F"),--(Takta_A!V13:V72="ड")+(--(Takta_A!V13:V72="ई-1")+(--(Takta_A!V13:V72="ई-2")))) -> 0 | E27: =SUMPRODUCT(--(Takta_A!E13:E72="M"),--(Takta_A!V13:V72="ड")+(--(Takta_A!V13:V72="ई-1")+(--(Takta_A!V13:V72="ई-2")))) -> 0 | F27: =SUM(D27:E27) -> 0 | J27: क - 2 च्या खालील श्रेणी | K27: =SUMPRODUCT(--(Takta_A!E13:E72="F"),--(Takta_A!AR13:AR72="ड")+(--(Takta_A!AR13:AR72="ई-1")+(--(Takta_A!AR13:AR72="ई-2")))) -> 0 | L27: =SUMPRODUCT(--(Takta_A!E13:E72="M"),--(Takta_A!AR13:AR72="ड")+(--(Takta_A!AR13:AR72="ई-1")+(--(Takta_A!AR13:AR72="ई-2")))) -> 0 | M27: =SUM(K27:L27) -> 0
A28: 4 | B28: =Takta_A!X10 -> गणित | C28: अ - 1 | D28: =SUMPRODUCT(--(Takta_A!E13:E72="F"),--(Takta_A!AB13:AB72="अ-1")) -> 0 | E28: =SUMPRODUCT(--(Takta_A!E13:E72="M"),--(Takta_A!AB13:AB72="अ-1")) -> 0 | F28: =SUM(D28:E28) -> 0 | H28: 9 | I28: =Takta_A!AT10 -> शा.शि. व आरोग्य | J28: अ - 1 | K28: =SUMPRODUCT(--(Takta_A!E13:E72="F"),--(Takta_A!AU13:AU72="अ-1")) -> 0 | L28: =SUMPRODUCT(--(Takta_A!E13:E72="M"),--(Takta_A!AU13:AU72="अ-1")) -> 0 | M28: =SUM(K28:L28) -> 0
C29: अ - 2 | D29: =SUMPRODUCT(--(Takta_A!E13:E72="F"),--(Takta_A!AB13:AB72="अ-2")) -> 0 | E29: =SUMPRODUCT(--(Takta_A!E13:E72="M"),--(Takta_A!AB13:AB72="अ-2")) -> 0 | F29: =SUM(D29:E29) -> 0 | J29: अ - 2 | K29: =SUMPRODUCT(--(Takta_A!E13:E72="F"),--(Takta_A!AU13:AU72="अ-2")) -> 0 | L29: =SUMPRODUCT(--(Takta_A!E13:E72="M"),--(Takta_A!AU13:AU72="अ-2")) -> 0 | M29: =SUM(K29:L29) -> 0
C30: ब - 1 | D30: =SUMPRODUCT(--(Takta_A!E13:E72="F"),--(Takta_A!AB13:AB72="ब-1")) -> 0 | E30: =SUMPRODUCT(--(Takta_A!E13:E72="M"),--(Takta_A!AB13:AB72="ब-1")) -> 0 | F30: =SUM(D30:E30) -> 0 | J30: ब - 1 | K30: =SUMPRODUCT(--(Takta_A!E13:E72="F"),--(Takta_A!AU13:AU72="ब-1")) -> 0 | L30: =SUMPRODUCT(--(Takta_A!E13:E72="M"),--(Takta_A!AU13:AU72="ब-1")) -> 0 | M30: =SUM(K30:L30) -> 0
C31: ब - 2 | D31: =SUMPRODUCT(--(Takta_A!E13:E72="F"),--(Takta_A!AB13:AB72="ब-2")) -> 0 | E31: =SUMPRODUCT(--(Takta_A!E13:E72="M"),--(Takta_A!AB13:AB72="ब-2")) -> 0 | F31: =SUM(D31:E31) -> 0 | J31: ब - 2 | K31: =SUMPRODUCT(--(Takta_A!E13:E72="F"),--(Takta_A!AU13:AU72="ब-2")) -> 0 | L31: =SUMPRODUCT(--(Takta_A!E13:E72="M"),--(Takta_A!AU13:AU72="ब-2")) -> 0 | M31: =SUM(K31:L31) -> 0
C32: क - 1 | D32: =SUMPRODUCT(--(Takta_A!E13:E72="F"),--(Takta_A!AB13:AB72="क-1")) -> 0 | E32: =SUMPRODUCT(--(Takta_A!E13:E72="M"),--(Takta_A!AB13:AB72="क-1")) -> 0 | F32: =SUM(D32:E32) -> 0 | J32: क - 1 | K32: =SUMPRODUCT(--(Takta_A!E13:E72="F"),--(Takta_A!AU13:AU72="क-1")) -> 0 | L32: =SUMPRODUCT(--(Takta_A!E13:E72="M"),--(Takta_A!AU13:AU72="क-1")) -> 0 | M32: =SUM(K32:L32) -> 0
C33: क - 2 | D33: =SUMPRODUCT(--(Takta_A!E13:E72="F"),--(Takta_A!AB13:AB72="क-2")) -> 0 | E33: =SUMPRODUCT(--(Takta_A!E13:E72="M"),--(Takta_A!AB13:AB72="क-2")) -> 0 | F33: =SUM(D33:E33) -> 0 | J33: क - 2 | K33: =SUMPRODUCT(--(Takta_A!E13:E72="F"),--(Takta_A!AU13:AU72="क-2")) -> 0 | L33: =SUMPRODUCT(--(Takta_A!E13:E72="M"),--(Takta_A!AU13:AU72="क-2")) -> 0 | M33: =SUM(K33:L33) -> 0
C34: क - 2 च्या खालील श्रेणी | D34: =SUMPRODUCT(--(Takta_A!E13:E72="F"),--(Takta_A!AB13:AB72="ड")+(--(Takta_A!AB13:AB72="ई-1")+(--(Takta_A!AB13:AB72="ई-2")))) -> 0 | E34: =SUMPRODUCT(--(Takta_A!E13:E72="M"),--(Takta_A!AB13:AB72="ड")+(--(Takta_A!AB13:AB72="ई-1")+(--(Takta_A!AB13:AB72="ई-2")))) -> 0 | F34: =SUM(D34:E34) -> 0 | J34: क - 2 च्या खालील श्रेणी | K34: =SUMPRODUCT(--(Takta_A!E13:E72="F"),--(Takta_A!AU13:AU72="ड")+(--(Takta_A!AU13:AU72="ई-1")+(--(Takta_A!AU13:AU72="ई-2")))) -> 0 | L34: =SUMPRODUCT(--(Takta_A!E13:E72="M"),--(Takta_A!AU13:AU72="ड")+(--(Takta_A!AU13:AU72="ई-1")+(--(Takta_A!AU13:AU72="ई-2")))) -> 0 | M34: =SUM(K34:L34) -> 0
A35: 5 | B35: =Takta_A!AD10 -> N.A. | C35: अ - 1 | D35: =SUMPRODUCT(--(Takta_A!E13:E72="F"),--(Takta_A!AG13:AG72="अ-1")) -> 0 | E35: =SUMPRODUCT(--(Takta_A!E13:E72="M"),--(Takta_A!AG13:AG72="अ-1")) -> 0 | F35: =SUM(D35:E35) -> 0
C36: अ - 2 | D36: =SUMPRODUCT(--(Takta_A!E13:E72="F"),--(Takta_A!AG13:AG72="अ-2")) -> 0 | E36: =SUMPRODUCT(--(Takta_A!E13:E72="M"),--(Takta_A!AG13:AG72="अ-2")) -> 0 | F36: =SUM(D36:E36) -> 0 | H36: शाळा सिद्धी में रिपोर्ट Submit के लिए | J36: <33 | K36: =SUMPRODUCT(--(Takta_A!E13:E72="F")+(Takta_A!E13:E72="M"),--(Takta_A!AY13:AY72="ई-1")+(--(Takta_A!AY13:AY72="ई-2"))) -> 0 | M36: ई
C37: ब - 1 | D37: =SUMPRODUCT(--(Takta_A!E13:E72="F"),--(Takta_A!AG13:AG72="ब-1")) -> 0 | E37: =SUMPRODUCT(--(Takta_A!E13:E72="M"),--(Takta_A!AG13:AG72="ब-1")) -> 0 | F37: =SUM(D37:E37) -> 0 | J37: 33 - 40 | K37: =SUMPRODUCT(--(Takta_A!E13:E72="F")+(Takta_A!E13:E72="M"),--(Takta_A!AY13:AY72="ड")) -> 0 | M37: ड
C38: ब - 2 | D38: =SUMPRODUCT(--(Takta_A!E13:E72="F"),--(Takta_A!AG13:AG72="ब-2")) -> 0 | E38: =SUMPRODUCT(--(Takta_A!E13:E72="M"),--(Takta_A!AG13:AG72="ब-2")) -> 0 | F38: =SUM(D38:E38) -> 0 | J38: 41 - 50 | K38: =SUMPRODUCT(--(Takta_A!E13:E72="F")+(Takta_A!E13:E72="M"),--(Takta_A!AY13:AY72="क-2")) -> 0 | M38: क - 2
C39: क - 1 | D39: =SUMPRODUCT(--(Takta_A!E13:E72="F"),--(Takta_A!AG13:AG72="क-1")) -> 0 | E39: =SUMPRODUCT(--(Takta_A!E13:E72="M"),--(Takta_A!AG13:AG72="क-1")) -> 0 | F39: =SUM(D39:E39) -> 0 | J39: 51 - 60 | K39: =SUMPRODUCT(--(Takta_A!E13:E72="F")+(Takta_A!E13:E72="M"),--(Takta_A!AY13:AY72="क-1")) -> 0 | M39: क - 1
C40: क - 2 | D40: =SUMPRODUCT(--(Takta_A!E13:E72="F"),--(Takta_A!AG13:AG72="क-2")) -> 0 | E40: =SUMPRODUCT(--(Takta_A!E13:E72="M"),--(Takta_A!AG13:AG72="क-2")) -> 0 | F40: =SUM(D40:E40) -> 0 | J40: 61 - 70 | K40: =SUMPRODUCT(--(Takta_A!E13:E72="F")+(Takta_A!E13:E72="M"),--(Takta_A!AY13:AY72="ब-2")) -> 0 | M40: ब - 2
C41: क - 2 च्या खालील श्रेणी | D41: =SUMPRODUCT(--(Takta_A!E13:E72="F"),--(Takta_A!AG13:AG72="ड")+(--(Takta_A!AG13:AG72="ई-1")+(--(Takta_A!AG13:AG72="ई-2")))) -> 0 | E41: =SUMPRODUCT(--(Takta_A!E13:E72="M"),--(Takta_A!AG13:AG72="ड")+(--(Takta_A!AG13:AG72="ई-1")+(--(Takta_A!AG13:AG72="ई-2")))) -> 0 | F41: =SUM(D41:E41) -> 0 | J41: 71 - 80 | K41: =SUMPRODUCT(--(Takta_A!E13:E72="F")+(Takta_A!E13:E72="M"),--(Takta_A!AY13:AY72="ब-1")) -> 0 | M41: ब - 1
J42: 81 - 90 | K42: =SUMPRODUCT(--(Takta_A!E13:E72="F")+(Takta_A!E13:E72="M"),--(Takta_A!AY13:AY72="अ-2")) -> 0 | M42: अ - 2
C43: पट व उपस्थिति | D43: बालक | E43: कन्या | F43: योग | J43: 91 - 100 | K43: =SUMPRODUCT(--(Takta_A!E13:E72="F")+(Takta_A!E13:E72="M"),--(Takta_A!AY13:AY72="अ-1")) -> 0 | M43: अ - 1
C44: पट | D44: =Info_1!D16 -> 0 | E44: =Info_1!D18 -> 0 | F44: =Info_1!D20 -> 0 | J44: एकूण पट : | K44: =SUM(K36:K43) -> 0
C45: उपस्थित | D45: =Info_1!E16 -> 0 | E45: =Info_1!E18 -> 0 | F45: =Info_1!E20 -> 0
C46: अनुपस्थित | D46: =SUM(D44-D45) -> 0 | E46: =SUM(E44-E45) -> 0 | F46: =SUM(F44-F45) -> 0
B49: वर्ग शिक्षकाची (स्वाक्षरी) | E49: मुख्याध्यापकाची (स्वाक्षरी) | J49: विभाग निरीक्षकाची (स्वाक्षरी)
B50: =Info_1!E22 -> Class Teacher's Name | D50: =Info_1!E28 -> HM's Name

Sheet Last_Page
C3: =Takta_A!B2 -> बृहन्मुंबई महानगरपालिका - शिक्षण विभाग
F5: सातत्यपूर्ण सर्वंकष मूल्यमापन - | M5: =Takta_A!R3 -> 2
B7: शाळा : | D7: =Info_1!D5 -> School Name ?
B9: कक्षा : | D9: =Info_1!D13 -> 1 | G9: वर्ग : | I9: =Info_1!F13 -> A | L9: शैक्षणिक वर्ष : | O9: =Info_1!G9 -> 2024 - 25
D11: निकाल एकीकरण तक्ता
D13: पट संख्या | F13: उपस्थित | H13: अनुपस्थित | J13: उत्तीर्ण | L13: उत्तारित | N13: अनुत्तीर्ण | P13: शे.प्रमाण | R13: arvindgg74@
D14: मुलगे | E14: मुली | F14: मुलगे | G14: मुली | H14: मुलगे | I14: मुली | J14: मुलगे | K14: मुली | L14: मुलगे | M14: मुली | N14: मुलगे | O14: मुली | P14: मुलगे | Q14: मुली
D15: =Info_1!D16 -> 0 | E15: =Info_1!D18 -> 0 | F15: =Info_1!E16 -> 0 | G15: =Info_1!E18 -> 0 | H15: =Info_1!F16 -> 0 | I15: =Info_1!F18 -> 0
D16: =Info_1!D20 -> 0 | F16: =Info_1!E20 -> 0 | H16: =Info_1!F20 -> 0
D18: विषय फलित - शेकडा प्रमाण
B20: मातृभाषा | D20: गणित | F20: परि.अभ्यास | H20: इंग्रजी | J20: मराठी | L20: कब / बुल्बुल | N20: कार्यानुभव | P20: कला | R20: शा.शि.
B21: मुलगे | C21: मुली | D21: मुलगे | E21: मुली | F21: मुलगे | G21: मुली | H21: मुलगे | I21: मुली | J21: मुलगे | K21: मुली | L21: मुलगे | M21: मुली | N21: मुलगे | O21: मुली | P21: मुलगे | Q21: मुली | R21: मुलगे | S21: मुली
A26: तक्ता तयार केला (नांव): | F26: =Info_1!E24 -> Prepared By Name ? | N26: स्वाक्षरी :
A28: तक्ता तपासला (नांव) : | F28: =Info_1!E26 -> Cheked By Name ? | N28: स्वाक्षरी :
A30: वर्ग शिक्षक (नांव) : | F30: =Info_1!E22 -> Class Teacher's Name | N30: स्वाक्षरी :
A33: मुख्याध्यापक (नांव) : | E33: =Info_1!E28 -> HM's Name | K33: स्वाक्षरी व शिक्का :
A36: जॉच कर्ता
A38: 1) नांव : | K38: स्वाक्षरी :
A40: 2) नांव : | K40: स्वाक्षरी :
K45: स्वाक्षरी व शिक्का :
I47: विभाग निरिक्षक (शाळा)
A49: hellomitra.blogspot.in | K49: दिनांक व शिक्का

Sheet Report Card
B2: hellomitra.in | H2: arvindgg74@
B3: =Takta_A!B2 -> बृहन्मुंबई महानगरपालिका - शिक्षण विभाग
B4: विद्यार्थी प्रगतिपत्रक
B6: शै. वर्ष : | C6: =Info_1!G9 -> 2024 - 25 | E6: =Takta_A!F3 -> सातत्यपूर्ण सर्वंकष मूल्यमापन - | I6: =Takta_A!R3 -> 2
B7: विद्यालय का नाम : | D7: =Info_1!D5 -> School Name ?
B9: विद्यार्थी का नाम : | D9: =VLOOKUP(I11,Takta_A!C13:AY72,2,FALSE) -> 0
B11: कक्षा : | C11: =Info_1!D13 -> 1 | D11: वर्ग : | E11: =Info_1!F13 -> A | H11: अनुक्रमांक : | I11: 1
B13: प्रगति पत्रक : सत्र - | H13: =I6 -> 2
B14: अनु. क्र. | C14: विषय | H14: श्रेणी
B15: 1 | C15: प्रथम भाषा | G15: 1 | H15: =VLOOKUP(I11,Takta_A!C13:AY72,8,FALSE) -> ई-2
B16: 2 | C16: द्वितीय भाषा | G16: 2 | H16: =VLOOKUP(I11,Takta_A!C13:AY72,14,FALSE) -> ई-2
B17: 3 | C17: तृतीय भाषा | G17: 3 | H17: =VLOOKUP(I11,Takta_A!C13:AY72,20,FALSE) -> ई-2
B18: 4 | C18: गणित | G18: 4 | H18: =VLOOKUP(I11,Takta_A!C13:AY72,26,FALSE) -> ई-2
B19: 5 | C19: सा.विज्ञान / परिवेशीय अध्ययन | G19: 5 | H19: --
B20: 6 | C20: कब / बुलबुल | G20: 6 | H20: =VLOOKUP(I11,Takta_A!C13:AY72,36,FALSE) -> ई-2
B21: 7 | C21: कला | G21: 7 | H21: =VLOOKUP(I11,Takta_A!C13:AY72,39,FALSE) -> ई-2
B22: 8 | C22: कार्यानुभव | G22: 8 | H22: =VLOOKUP(I11,Takta_A!C13:AY72,42,FALSE) -> ई-2
B23: 9 | C23: शा.शिक्षण व आरोग्य शिक्षण | G23: 9 | H23: =VLOOKUP(I11,Takta_A!C13:AY72,45,FALSE) -> ई-2
G24: 10
B25: दिनांक : | C25: 45821 | E25: से कक्षा : | F25: =C11+1 -> 2 | G25: 11 | H25: में दाखिल ।
G26: 12
B27: वर्ग.शिक्षक : | D27: =Info_1!E22 -> Class Teacher's Name | G27: 13
G28: 14
B29: मुख्याध्यापक : | D29: =Info_1!E28 -> HM's Name | G29: 15
G30: 16
G31: 17
G32: 18
G33: 19
G34: 20
G35: 21
G36: 22
G37: 23
G38: 24
G39: 25
G40: 26
G41: 27
... G74: 60

Sheet Cover Page
C2: वार्ड: | D2: =Info_1!D7 -> एस | E2: शै.वर्ष: | G2: =Info_1!G9 -> 2024 - 25
B4: =Info_1!E31 -> बृहन्मुंबई महानगरपालिका - शिक्षण विभाग
B6: विद्यार्थी प्रगति दर्शक तक्ता
B8: व
B10: सातत्यपूर्ण सर्वंकष मूल्यमापन : | F10: =Takta_A!R3 -> 2 | G10: (तक्ता 'अ','ब')
B21: =Info_1!D5 -> School Name ?
B23: =Info_1!D6 -> School Address
B26: कक्षा : | D26: =Info_1!D13 -> 1 | G26: वर्ग : | H26: =Info_1!F13 -> A
B31: वर्ग शिक्षक : | E31: =Info_1!E22 -> Class Teacher's Name
B33: प्रधानाध्यापक : | E33: =Info_1!E28 -> HM's Name
C35: arvindgg74@ | F35: hellomitra.in
