Workbook

Sheet Suchana
B1: आप अब तक का सबसे आसान तरीके से "संकलित मूल्यमापन - 2" संपूर्ण तक्ता कुछ ही मिनटों मे बना सकते हैं ।
B3: सूचना | H3: ê ê ê ê ê ê ê ê ê ê ê ê ê | T3: 04.04.2025
C6: 1 | D6: सबसे पहले Info_1 Sheet में आवश्यक माहिती केवल एक बार भरना है ।
D8: विद्यार्थियों के नाम Type करने के बाद M / F (Male / Female) Select करना अति आवश्यक है |
D9: जितने विद्यार्थियों के M या F Select होगा, उन्हीं का रिजल्ट तैयार होगा ।
D10: अब बच्चों की Cast Select करें ।
C12: 2 | D12: Takta_A में केवल आकारिक के अंक भरना है, बस ! तक्ता - अ, तक्ता - ब, लास्ट पेज, कवर पेज और रिपोर्ट कार्ड तैयार है ।
C14: 3 | D14: अब आप 60 विद्यार्थियों के रिजल्ट बना सकते हैं ।
C16: 4 | D16: Takta_A में जहाँ "बृहन्मुंबई महानगरपालिका - शिक्षण विभाग" लिखा हुआ है,
D17: उसे वहीं पर अपनी आवश्यकता अनुसार बदल / Edit कर सकते हैं ।
B18: F | D18: Takta_A में अब सातत्यपूर्ण सर्वंकष मूल्यमापन ( 1 या 2 ) को Select करने की सुविधा दिया गया है ।
C20: 5 | D20: द्वितीय भाषा या तृतीय भाषा, मराठी या अंग्रेजी के अतिरिक्त कोई और भाषा होने पर
D21: "Takta_A" में ही उसके शीर्षक (Heading) को बदल सकते हैं ।
C23: 6 | D23: तृतीय भाषा ना होने पर कुल अंक में अब तक बदल नहीं किया जा सकता था, पर अब उसमें बदल करने का ऑप्शन दिया गया है ।
D24: जैसे : | F24: आपके विद्यालय में तृतीय भाषा की परीक्षा नहीं होने पर
F25: आप तृतीय भाषा के संकलित और आकारिक मूल्यमापन के अंक Takta_A में 0 "शून्य" टाईप कर दिजीए,
F26: अब आपके कुल योग का चेक कर लिजीए ।
C28: 7 | D28: तक्ता तैयार होने पर Save करें और File Menu > Save as में जाकर
D29: PDF फाईल ऑप्शन चुनकर PDF फाईल सेव करें प्रिंट लेना आसान हो जाएगा ।
C31: 8 | D31: Report Card विद्यार्थियों को भेजने के लिए "Report Card Sheet" पर जाकर जैसे ही आप रोल नंबर चेंज करेंगे, उस बच्चे का
D32: Report Card आप के सामने होगा । अब आप उसे File Menu > Save as में जाकर PDF फाईल ऑप्शन चुनकर PDF फाईल सेव करें । इसी प्रकार हर विद्यार्थी का Report Card, सेव करके उसे Whatsapp पर भेज सकतें हैं ।

Sheet Info_1
C1: hellomitra.in | I1: Sr.No.2 Start From Here | J1: hellomitra.in
B2: è | C2: Purple कलर के Cell में आवश्यक जानकारी टाईप करें एक बार आपको Result Sheet (तक्ता) पर पुन: टाईप करने की आवश्यकता नहीं होगी । | J2: अनु. टाईप करें | K2: विद्यार्थियों के नाम टाइप करें ê | L2: ê यहाँ ऑप्शन चुनना है । ê | O2: Warning ( आवश्यक सूचना)
B3: è | C3: For Std. 1st & 2nd | D3: ê | E3: नीचे Purple Colour के Cell में आवश्यक जानकारी Type करें । | H3: ê | J3: Sr. No. | K3: Students Name | L3: Select Male / Female | M3: Cast | O3: Male / Female Select करना अतिआवश्यक है । बीना Select किए आप का Result Sheet (तक्ता - अ, तक्ता - ब) तैयार नहीं होगा ।
J4: ê | K4: ê | L4: ê | M4: ê
B5: 1 ) | C5: स्कूल का नाम : | D5: School Name ? | J5: 1 | O5: यहाँ आपको विद्यार्थियों के अनु. क्र. (Sr.No.), नाम (Name Of Students) Type करना है ।
C6: स्कूल का पता : | D6: School Address | I6: è | J6: 2
B7: 2 ) | C7: वार्ड | D7: एस | E7: ç è | F7: माध्यम : | G7: Hindi
B9: 3 ) | C9: URC | D9: 6 | E9: ç | F9: वर्ष : | G9: 2024 - 25
O10: बालक / कन्या ( Male / Female ) और जाति प्रवर्ग ( Cast ) को वही Cell में Click करके चुनाव (Select) करना है । बस इतना ही ।
B11: 4 ) | C11: UDISE No. | D11: 27220600000 | H11: ç
D12: ê | E12: कक्षा को क्लिक करें और कक्षा 1 या 2 चेंज करें ।
B13: 5 ) | C13: कक्षा : | D13: 1 | E13: वर्ग : | F13: A | G13: ç
D14: ê | E14: ê
B15: 6 ) | D15: पट | E15: उपस्थित | F15: अनुपस्थित
C16: बालक | F16: =D16-E16 -> 0
D17: ê | E17: ê | F17: ê
C18: कन्या | F18: =D18-E18 -> 0
D19: ê | E19: ê | F19: ê
C20: योग | D20: =SUM(D16:D19) -> 0 | E20: =SUM(E16:E19) -> 0 | F20: =SUM(F16:F19) -> 0
B22: 7 ) | C22: वर्ग शिक्षक (नाम) | E22: Class Teacher's Name
E23: é
B24: 8 ) | C24: तक्ता तैयार कर्ता (नाम) | E24: Prepared By Name ?
E25: é
B26: 9 ) | C26: तक्ता तपासला (नाम) | E26: Cheked By Name ?
E27: é
B28: 10 ) | C28: मुख्याध्यापक (नाम) : | E28: HM's Name
E29: é
B31: 11 ) | C31: संस्था | E31: बृहन्मुंबई महानगरपालिका - शिक्षण विभाग
E32: é
C36: hellomitraonline@gmail.com
C46: Copyright@hellomitra.blogspot.in March-2018
C47: arvindgg

Sheet Takta_A
B2: =Info_1!E31 -> बृहन्मुंबई महानगरपालिका - शिक्षण विभाग
B3: कक्षा : | D3: =Info_1!D13 -> 1 | F3: सातत्यपूर्ण सर्वंकष मूल्यमापन - | R3: 2 | T3: तक्ता - अ | AB3: शैक्षणिक वर्ष: | AG3: =Info_1!G9 -> 2024 - 25 | AQ3: माध्यम : | AV3: =Info_1!G7 -> Hindi
B5: शाळा : | D5: =Info_1!D5 -> School Name ? | S5: इयत्ता : | W5: =Info_1!D13 -> 1 | Z5: तुकडी : | AD5: =Info_1!F13 -> A | AI5: पट : | AM5: =Info_1!D20 -> 0 | AO5: è | AQ5: बालक: | AS5: =Info_1!D16 -> 0 | AV5: कन्या: | AX5: =Info_1!D18 -> 0
B7: UDISE : | D7: =Info_1!D11 -> 27220600000 | H7: URC : | L7: =Info_1!D9 -> 6 | S7: वार्ड : | W7: =Info_1!D7 -> एस | AI7: उपस्थित : | AM7: =Info_1!E20 -> 0 | AO7: è | AQ7: बालक: | AS7: =Info_1!E16 -> 0 | AV7: कन्या: | AX7: =Info_1!E18 -> 0
S8: arvindgg | AI8: अनुपस्थित : | AM8: =Info_1!F20 -> 0 | AQ8: बालक : | AS8: =Info_1!F16 -> 0 | AV8: कन्या : | AX8: =Info_1!F18 -> 0
B9: जाति प्रवर्ग | C9: अनु. क्रमांक | D9: hellomitra.blogspot.in | E9: * | F9: विषय | AW9: शाळा सिद्धी में रिपोर्ट Submit के लिए
D10: विद्यार्थ्यांचे नाव | F10: प्रथम भाषा | L10: द्वितीय भाषा | R10: तृतीय भाषा | X10: गणित | AD10: N.A. | AI10: कब / बुलबुल | AN10: कला | AQ10: कार्यानुभव | AT10: शा.शि. व आरोग्य
E11: M / F | F11: आकारिक मूल्यमापन गुण | G11: संकलित मूल्यमापन गुण | H11: एकूण मूल्यमापन गुण | J11: अतिरिक्त पूरक मार्गदर्शन पूर्व श्रेणी | K11: अतिरिक्त पूरक मार्गदर्शन नंतरची श्रेणी | L11: आकारिक मूल्यमापन गुण | M11: संकलित मूल्यमापन गुण | N11: एकूण मूल्यमापन गुण | P11: अतिरिक्त पूरक मार्गदर्शन पूर्व श्रेणी | Q11: अतिरिक्त पूरक मार्गदर्शन नंतरची श्रेणी | R11: आकारिक मूल्यमापन गुण | S11: संकलित मूल्यमापन गुण | T11: एकूण मूल्यमापन गुण | V11: अतिरिक्त पूरक मार्गदर्शन पूर्व श्रेणी | W11: अतिरिक्त पूरक मार्गदर्शन नंतरची श्रेणी | X11: आकारिक मूल्यमापन गुण | Y11: संकलित मूल्यमापन गुण | Z11: एकूण मूल्यमापन गुण | AB11: अतिरिक्त पूरक मार्गदर्शन पूर्व श्रेणी | AC11: अतिरिक्त पूरक मार्गदर्शन नंतरची श्रेणी | AD11: आकारिक मूल्यमापन गुण | AE11: संकलित मूल्यमापन गुण | AF11: एकूण मूल्यमापन गुण | AG11: अतिरिक्त पूरक मार्गदर्शन पूर्व श्रेणी | AH11: अतिरिक्त पूरक मार्गदर्शन नंतरची श्रेणी | AI11: आकारिक मूल्यमापन गुण | AJ11: संकलित मूल्यमापन गुण | AK11: एकूण मूल्यमापन गुण | AL11: अतिरिक्त पूरक मार्गदर्शन पूर्व श्रेणी | AM11: अतिरिक्त पूरक मार्गदर्शन नंतरची श्रेणी | AN11: आकारिक मूल्यमापन गुण | AO11: अतिरिक्त पूरक मार्गदर्शन पूर्व श्रेणी | AP11: अतिरिक्त पूरक मार्गदर्शन नंतरची श्रेणी | AQ11: आकारिक मूल्यमापन गुण | AR11: अतिरिक्त पूरक मार्गदर्शन पूर्व श्रेणी | AS11: अतिरिक्त पूरक मार्गदर्शन नंतरची श्रेणी | AT11: आकारिक मूल्यमापन गुण | AU11: अतिरिक्त पूरक मार्गदर्शन पूर्व श्रेणी | AV11: अतिरिक्त पूरक मार्गदर्शन नंतरची श्रेणी | AW11: कुल योग | AX11: प्रतिशत अंक | AY11: श्रेणी
E12: भारांश :) | F12: 70 | G12: 30 | H12: 100 | J12: श्रेणी | L12: =F12 -> 70 | M12: 30 | N12: 100 | P12: श्रेणी | R12: 70 | S12: 30 | T12: 100 | V12: श्रेणी | X12: 70 | Y12: 30 | Z12: 100 | AB12: श्रेणी | AD12: 0 | AE12: 0 | AF12: 0 | AG12: श्रेणी | AI12: 70 | AJ12: 30 | AK12: 100 | AL12: श्रेणी | AN12: 100 | AO12: श्रेणी | AQ12: 100 | AR12: श्रेणी | AT12: 100 | AU12: श्रेणी | AW12: 800 | AX12: %
B13: =Info_1!M5 -> 0 | C13: =Info_1!J5 -> 1 | D13: =Info_1!K5 -> 0 | E13: =Info_1!L5 -> 0 | F13: 0 | G13: 0 | H13: =SUM(F13:G13) -> 0 | J13: =IF(H13>=91,"अ-1", IF(H13>=81,"अ-2", IF(H13>=71,"ब-1", IF(H13>=61,"ब-2", IF(H13>=51,"क-1", IF(H13>=41,"क-2", IF(H13>=33,"ड", IF(H13>=21,"ई-1", IF(H13<=20, "ई-2" ))))))))) -> ई-2 | L13: 0 | M13: 0 | N13: =SUM(L13:M13) -> 0 | P13: =IF(N13>=91,"अ-1", IF(N13>=81,"अ-2", IF(N13>=71,"ब-1", IF(N13>=61,"ब-2", IF(N13>=51,"क-1", IF(N13>=41,"क-2", IF(N13>=33,"ड", IF(N13>=21,"ई-1", IF(N13<=20, "ई-2" ))))))))) -> ई-2 | R13: 0 | S13: 0 | T13: =SUM(R13:S13) -> 0 | V13: =IF(T13>=91,"अ-1", IF(T13>=81,"अ-2", IF(T13>=71,"ब-1", IF(T13>=61,"ब-2", IF(T13>=51,"क-1", IF(T13>=41,"क-2", IF(T13>=33,"ड", IF(T13>=21,"ई-1", IF(T13<=20, "ई-2" ))))))))) -> ई-2 | X13: 0 | Y13: 0 | Z13: =SUM(X13:Y13) -> 0 | AB13: =IF(Z13>=91,"अ-1", IF(Z13>=81,"अ-2", IF(Z13>=71,"ब-1", IF(Z13>=61,"ब-2", IF(Z13>=51,"क-1", IF(Z13>=41,"क-2", IF(Z13>=33,"ड", IF(Z13>=21,"ई-1", IF(Z13<=20, "ई-2" ))))))))) -> ई-2 | AI13: 0 | AJ13: 0 | AK13: =SUM(AI13:AJ13) -> 0 | AL13: =IF(AK13>=91,"अ-1", IF(AK13>=81,"अ-2", IF(AK13>=71,"ब-1", IF(AK13>=61,"ब-2", IF(AK13>=51,"क-1", IF(AK13>=41,"क-2", IF(AK13>=33,"ड", IF(AK13>=21,"ई-1", IF(AK13<=20, "ई-2" ))))))))) -> ई-2 | AN13: 0 | AO13: =IF(AN13>=91,"अ-1", IF(AN13>=81,"अ-2", IF(AN13>=71,"ब-1", IF(AN13>=61,"ब-2", IF(AN13>=51,"क-1", IF(AN13>=41,"क-2", IF(AN13>=33,"ड", IF(AN13>=21,"ई-1", IF(AN13<=20, "ई-2" ))))))))) -> ई-2 | AQ13: 0 | AR13: =IF(AQ13>=91,"अ-1", IF(AQ13>=81,"अ-2", IF(AQ13>=71,"ब-1", IF(AQ13>=61,"ब-2", IF(AQ13>=51,"क-1", IF(AQ13>=41,"क-2", IF(AQ13>=33,"ड", IF(AQ13>=21,"ई-1", IF(AQ13<=20, "ई-2" ))))))))) -> ई-2 | AT13: 0 | AU13: =IF(AT13>=91,"अ-1", IF(AT13>=81,"अ-2", IF(AT13>=71,"ब-1", IF(AT13>=61,"ब-2", IF(AT13>=51,"क-1", IF(AT13>=41,"क-2", IF(AT13>=33,"ड", IF(AT13>=21,"ई-1", IF(AT13<=20, "ई-2" ))))))))) -> ई-2 | AW13: =SUM(H13,N13,T13,Z13,AF13,AK13,AN13,AQ13,AT13) -> 0 | AX13: =SUM(AW13*100)/AW12 -> 0 | AY13: =IF(AX13>=91,"अ-1", IF(AX13>=81,"अ-2", IF(AX13>=71,"ब-1", IF(AX13>=61,"ब-2", IF(AX13>=51,"क-1", IF(AX13>=41,"क-2", IF(AX13>=33,"ड", IF(AX13>=21,"ई-1", IF(AX13>=0, "ई-2" ))))))))) -> ई-2
B14: =Info_1!M6 -> 0 | C14: =Info_1!J6 -> 2 | D14: =Info_1!K6 -> 0 | E14: =Info_1!L6 -> 0 | F14: 0 | G14: 0 | H14: =SUM(F14:G14) -> 0 | J14: =IF(H14>=91,"अ-1", IF(H14>=81,"अ-2", IF(H14>=71,"ब-1", IF(H14>=61,"ब-2", IF(H14>=51,"क-1", IF(H14>=41,"क-2", IF(H14>=33,"ड", IF(H14>=21,"ई-1", IF(H14<=20, "ई-2" ))))))))) -> ई-2 | L14: 0 | M14: 0 | N14: =SUM(L14:M14) -> 0 | P14: =IF(N14>=91,"अ-1", IF(N14>=81,"अ-2", IF(N14>=71,"ब-1", IF(N14>=61,"ब-2", IF(N14>=51,"क-1", IF(N14>=41,"क-2", IF(N14>=33,"ड", IF(N14>=21,"ई-1", IF(N14<=20, "ई-2" ))))))))) -> ई-2 | R14: 0 | S14: 0 | T14: =SUM(R14:S14) -> 0 | V14: =IF(T14>=91,"अ-1", IF(T14>=81,"अ-2", IF(T14>=71,"ब-1", IF(T14>=61,"ब-2", IF(T14>=51,"क-1", IF(T14>=41,"क-2", IF(T14>=33,"ड", IF(T14>=21,"ई-1", IF(T14<=20, "ई-2" ))))))))) -> ई-2 | X14: 0 | Y14: 0 | Z14: =SUM(X14:Y14) -> 0 | AB14: =IF(Z14>=91,"अ-1", IF(Z14>=81,"अ-2", IF(Z14>=71,"ब-1", IF(Z14>=61,"ब-2", IF(Z14>=51,"क-1", IF(Z14>=41,"क-2", IF(Z14>=33,"ड", IF(Z14>=21,"ई-1", IF(Z14<=20, "ई-2" ))))))))) -> ई-2 | AI14: 0 | AJ14: 0 | AK14: =SUM(AI14:AJ14) -> 0 | AL14: =IF(AK14>=91,"अ-1", IF(AK14>=81,"अ-2", IF(AK14>=71,"ब-1", IF(AK14>=61,"ब-2", IF(AK14>=51,"क-1", IF(AK14>=41,"क-2", IF(AK14>=33,"ड", IF(AK14>=21,"ई-1", IF(AK14<=20, "ई-2" ))))))))) -> ई-2 | AN14: 0 | AO14: =IF(AN14>=91,"अ-1", IF(AN14>=81,"अ-2", IF(AN14>=71,"ब-1", IF(AN14>=61,"ब-2", IF(AN14>=51,"क-1", IF(AN14>=41,"क-2", IF(AN14>=33,"ड", IF(AN14>=21,"ई-1", IF(AN14<=20, "ई-2" ))))))))) -> ई-2 | AQ14: 0 | AR14: =IF(AQ14>=91,"अ-1", IF(AQ14>=81,"अ-2", IF(AQ14>=71,"ब-1", IF(AQ14>=61,"ब-2", IF(AQ14>=51,"क-1", IF(AQ14>=41,"क-2", IF(AQ14>=33,"ड", IF(AQ14>=21,"ई-1", IF(AQ14<=20, "ई-2" ))))))))) -> ई-2 | AT14: 0 | AU14: =IF(AT14>=91,"अ-1", IF(AT14>=81,"अ-2", IF(AT14>=71,"ब-1", IF(AT14>=61,"ब-2", IF(AT14>=51,"क-1", IF(AT14>=41,"क-2", IF(AT14>=33,"ड", IF(AT14>=21,"ई-1", IF(AT14<=20, "ई-2" ))))))))) -> ई-2 | AW14: =SUM(H14,N14,T14,Z14,AF14,AK14,AN14,AQ14,AT14) -> 0 | AX14: =SUM(AW14*100)/AW12 -> 0 | AY14: =IF(AX14>=91,"अ-1", IF(AX14>=81,"अ-2", IF(AX14>=71,"ब-1", IF(AX14>=61,"ब-2", IF(AX14>=51,"क-1", IF(AX14>=41,"क-2", IF(AX14>=33,"ड", IF(AX14>=21,"ई-1", IF(AX14>=0, "ई-2" ))))))))) -> ई-2
B15: =Info_1!M7 -> 0 | C15: =Info_1!J7 -> 0 | D15: =Info_1!K7 -> 0 | E15: =Info_1!L7 -> 0 | F15: 0 | G15: 0 | H15: =SUM(F15:G15) -> 0 | J15: =IF(H15>=91,"अ-1", IF(H15>=81,"अ-2", IF(H15>=71,"ब-1", IF(H15>=61,"ब-2", IF(H15>=51,"क-1", IF(H15>=41,"क-2", IF(H15>=33,"ड", IF(H15>=21,"ई-1", IF(H15<=20, "ई-2" ))))))))) -> ई-2 | L15: 0 | M15: 0 | N15: =SUM(L15:M15) -> 0 | P15: =IF(N15>=91,"अ-1", IF(N15>=81,"अ-2", IF(N15>=71,"ब-1", IF(N15>=61,"ब-2", IF(N15>=51,"क-1", IF(N15>=41,"क-2", IF(N15>=33,"ड", IF(N15>=21,"ई-1", IF(N15<=20, "ई-2" ))))))))) -> ई-2 | R15: 0 | S15: 0 | T15: =SUM(R15:S15) -> 0 | V15: =IF(T15>=91,"अ-1", IF(T15>=81,"अ-2", IF(T15>=71,"ब-1", IF(T15>=61,"ब-2", IF(T15>=51,"क-1", IF(T15>=41,"क-2", IF(T15>=33,"ड", IF(T15>=21,"ई-1", IF(T15<=20, "ई-2" ))))))))) -> ई-2 | X15: 0 | Y15: 0 | Z15: =SUM(X15:Y15) -> 0 | AB15: =IF(Z15>=91,"अ-1", IF(Z15>=81,"अ-2", IF(Z15>=71,"ब-1", IF(Z15>=61,"ब-2", IF(Z15>=51,"क-1", IF(Z15>=41,"क-2", IF(Z15>=33,"ड", IF(Z15>=21,"ई-1", IF(Z15<=20, "ई-2" ))))))))) -> ई-2 | AI15: 0 | AJ15: 0 | AK15: =SUM(AI15:AJ15) -> 0 | AL15: =IF(AK15>=91,"अ-1", IF(AK15>=81,"अ-2", IF(AK15>=71,"ब-1", IF(AK15>=61,"ब-2", IF(AK15>=51,"क-1", IF(AK15>=41,"क-2", IF(AK15>=33,"ड", IF(AK15>=21,"ई-1", IF(AK15<=20, "ई-2" ))))))))) -> ई-2 | AN15: 0 | AO15: =IF(AN15>=91,"अ-1", IF(AN15>=81,"अ-2", IF(AN15>=71,"ब-1", IF(AN15>=61,"ब-2", IF(AN15>=51,"क-1", IF(AN15>=41,"क-2", IF(AN15>=33,"ड", IF(AN15>=21,"ई-1", IF(AN15<=20, "ई-2" ))))))))) -> ई-2 | AQ15: 0 | AR15: =IF(AQ15>=91,"अ-1", IF(AQ15>=81,"अ-2", IF(AQ15>=71,"ब-1", IF(AQ15>=61,"ब-2", IF(AQ15>=51,"क-1", IF(AQ15>=41,"क-2", IF(AQ15>=33,"ड", IF(AQ15>=21,"ई-1", IF(AQ15<=20, "ई-2" ))))))))) -> ई-2 | AT15: 0 | AU15: =IF(AT15>=91,"अ-1", IF(AT15>=81,"अ-2", IF(AT15>=71,"ब-1", IF(AT15>=61,"ब-2", IF(AT15>=51,"क-1", IF(AT15>=41,"क-2", IF(AT15>=33,"ड", IF(AT15>=21,"ई-1", IF(AT15<=20, "ई-2" ))))))))) -> ई-2 | AW15: =SUM(H15,N15,T15,Z15,AF15,AK15,AN15,AQ15,AT15) -> 0 | AX15: =SUM(AW15*100)/AW12 -> 0 | AY15: =IF(AX15>=91,"अ-1", IF(AX15>=81,"अ-2", IF(AX15>=71,"ब-1", IF(AX15>=61,"ब-2", IF(AX15>=51,"क-1", IF(AX15>=41,"क-2", IF(AX15>=33,"ड", IF(AX15>=21,"ई-1", IF(AX15>=0, "ई-2" ))))))))) -> ई-2
B16: =Info_1!M8 -> 0 | C16: =Info_1!J8 -> 0 | D16: =Info_1!K8 -> 0 | E16: =Info_1!L8 -> 0 | F16: 0 | G16: 0 | H16: =SUM(F16:G16) -> 0 | J16: =IF(H16>=91,"अ-1", IF(H16>=81,"अ-2", IF(H16>=71,"ब-1", IF(H16>=61,"ब-2", IF(H16>=51,"क-1", IF(H16>=41,"क-2", IF(H16>=33,"ड", IF(H16>=21,"ई-1", IF(H16<=20, "ई-2" ))))))))) -> ई-2 | L16: 0 | M16: 0 | N16: =SUM(L16:M16) -> 0 | P16: =IF(N16>=91,"अ-1", IF(N16>=81,"अ-2", IF(N16>=71,"ब-1", IF(N16>=61,"ब-2", IF(N16>=51,"क-1", IF(N16>=41,"क-2", IF(N16>=33,"ड", IF(N16>=21,"ई-1", IF(N16<=20, "ई-2" ))))))))) -> ई-2 | R16: 0 | S16: 0 | T16: =SUM(R16:S16) -> 0 | V16: =IF(T16>=91,"अ-1", IF(T16>=81,"अ-2", IF(T16>=71,"ब-1", IF(T16>=61,"ब-2", IF(T16>=51,"क-1", IF(T16>=41,"क-2", IF(T16>=33,"ड", IF(T16>=21,"ई-1", IF(T16<=20, "ई-2" ))))))))) -> ई-2 | X16: 0 | Y16: 0 | Z16: =SUM(X16:Y16) -> 0 | AB16: =IF(Z16>=91,"अ-1", IF(Z16>=81,"अ-2", IF(Z16>=71,"ब-1", IF(Z16>=61,"ब-2", IF(Z16>=51,"क-1", IF(Z16>=41,"क-2", IF(Z16>=33,"ड", IF(Z16>=21,"ई-1", IF(Z16<=20, "ई-2" ))))))))) -> ई-2 | AI16: 0 | AJ16: 0 | AK16: =SUM(AI16:AJ16) -> 0 | AL16: =IF(AK16>=91,"अ-1", IF(AK16>=81,"अ-2", IF(AK16>=71,"ब-1", IF(AK16>=61,"ब-2", IF(AK16>=51,"क-1", IF(AK16>=41,"क-2", IF(AK16>=33,"ड", IF(AK16>=21,"ई-1", IF(AK16<=20, "ई-2" ))))))))) -> ई-2 | AN16: 0 | AO16: =IF(AN16>=91,"अ-1", IF(AN16>=81,"अ-2", IF(AN16>=71,"ब-1", IF(AN16>=61,"ब-2", IF(AN16>=51,"क-1", IF(AN16>=41,"क-2", IF(AN16>=33,"ड", IF(AN16>=21,"ई-1", IF(AN16<=20, "ई-2" ))))))))) -> ई-2 | AQ16: 0 | AR16: =IF(AQ16>=91,"अ-1", IF(AQ16>=81,"अ-2", IF(AQ16>=71,"ब-1", IF(AQ16>=61,"ब-2", IF(AQ16>=51,"क-1", IF(AQ16>=41,"क-2", IF(AQ16>=33,"ड", IF(AQ16>=21,"ई-1", IF(AQ16<=20, "ई-2" ))))))))) -> ई-2 | AT16: 0 | AU16: =IF(AT16>=91,"अ-1", IF(AT16>=81,"अ-2", IF(AT16>=71,"ब-1", IF(AT16>=61,"ब-2", IF(AT16>=51,"क-1", IF(AT16>=41,"क-2", IF(AT16>=33,"ड", IF(AT16>=21,"ई-1", IF(AT16<=20, "ई-2" ))))))))) -> ई-2 | AW16: =SUM(H16,N16,T16,Z16,AF16,AK16,AN16,AQ16,AT16) -> 0 | AX16: =SUM(AW16*100)/AW12 -> 0 | AY16: =IF(AX16>=91,"अ-1", IF(AX16>=81,"अ-2", IF(AX16>=71,"ब-1", IF(AX16>=61,"ब-2", IF(AX16>=51,"क-1", IF(AX16>=41,"क-2", IF(AX16>=33,"ड", IF(AX16>=21,"ई-1", IF(AX16>=0, "ई-2" ))))))))) -> ई-2
B17: =Info_1!M9 -> 0 | C17: =Info_1!J9 -> 0 | D17: =Info_1!K9 -> 0 | E17: =Info_1!L9 -> 0 | F17: 0 | G17: 0 | H17: =SUM(F17:G17) -> 0 | J17: =IF(H17>=91,"अ-1", IF(H17>=81,"अ-2", IF(H17>=71,"ब-1", IF(H17>=61,"ब-2", IF(H17>=51,"क-1", IF(H17>=41,"क-2", IF(H17>=33,"ड", IF(H17>=21,"ई-1", IF(H17<=20, "ई-2" ))))))))) -> ई-2 | L17: 0 | M17: 0 | N17: =SUM(L17:M17) -> 0 | P17: =IF(N17>=91,"अ-1", IF(N17>=81,"अ-2", IF(N17>=71,"ब-1", IF(N17>=61,"ब-2", IF(N17>=51,"क-1", IF(N17>=41,"क-2", IF(N17>=33,"ड", IF(N17>=21,"ई-1", IF(N17<=20, "ई-2" ))))))))) -> ई-2 | R17: 0 | S17: 0 | T17: =SUM(R17:S17) -> 0 | V17: =IF(T17>=91,"अ-1", IF(T17>=81,"अ-2", IF(T17>=71,"ब-1", IF(T17>=61,"ब-2", IF(T17>=51,"क-1", IF(T17>=41,"क-2", IF(T17>=33,"ड", IF(T17>=21,"ई-1", IF(T17<=20, "ई-2" ))))))))) -> ई-2 | X17: 0 | Y17: 0 | Z17: =SUM(X17:Y17) -> 0 | AB17: =IF(Z17>=91,"अ-1", IF(Z17>=81,"अ-2", IF(Z17>=71,"ब-1", IF(Z17>=61,"ब-2", IF(Z17>=51,"क-1", IF(Z17>=41,"क-2", IF(Z17>=33,"ड", IF(Z17>=21,"ई-1", IF(Z17<=20, "ई-2" ))))))))) -> ई-2 | AI17: 0 | AJ17: 0 | AK17: =SUM(AI17:AJ17) -> 0 | AL17: =IF(AK17>=91,"अ-1", IF(AK17>=81,"अ-2", IF(AK17>=71,"ब-1", IF(AK17>=61,"ब-2", IF(AK17>=51,"क-1", IF(AK17>=41,"क-2", IF(AK17>=33,"ड", IF(AK17>=21,"ई-1", IF(AK17<=20, "ई-2" ))))))))) -> ई-2 | AN17: 0 | AO17: =IF(AN17>=91,"अ-1", IF(AN17>=81,"अ-2", IF(AN17>=71,"ब-1", IF(AN17>=61,"ब-2", IF(AN17>=51,"क-1", IF(AN17>=41,"क-2", IF(AN17>=33,"ड", IF(AN17>=21,"ई-1", IF(AN17<=20, "ई-2" ))))))))) -> ई-2 | AQ17: 0 | AR17: =IF(AQ17>=91,"अ-1", IF(AQ17>=81,"अ-2", IF(AQ17>=71,"ब-1", IF(AQ17>=61,"ब-2", IF(AQ17>=51,"क-1", IF(AQ17>=41,"क-2", IF(AQ17>=33,"ड", IF(AQ17>=21,"ई-1", IF(AQ17<=20, "ई-2" ))))))))) -> ई-2 | AT17: 0 | AU17: =IF(AT17>=91,"अ-1", IF(AT17>=81,"अ-2", IF(AT17>=71,"ब-1", IF(AT17>=61,"ब-2", IF(AT17>=51,"क-1", IF(AT17>=41,"क-2", IF(AT17>=33,"ड", IF(AT17>=21,"ई-1", IF(AT17<=20, "ई-2" ))))))))) -> ई-2 | AW17: =SUM(H17,N17,T17,Z17,AF17,AK17,AN17,AQ17,AT17) -> 0 | AX17: =SUM(AW17*100)/AW12 -> 0 | AY17: =IF(AX17>=91,"अ-1", IF(AX17>=81,"अ-2", IF(AX17>=71,"ब-1", IF(AX17>=61,"ब-2", IF(AX17>=51,"क-1", IF(AX17>=41,"क-2", IF(AX17>=33,"ड", IF(AX17>=21,"ई-1", IF(AX17>=0, "ई-2" ))))))))) -> ई-2
B18: =Info_1!M10 -> 0 | C18: =Info_1!J10 -> 0 | D18: =Info_1!K10 -> 0 | E18: =Info_1!L10 -> 0 | F18: 0 | G18: 0 | H18: =SUM(F18:G18) -> 0 | J18: =IF(H18>=91,"अ-1", IF(H18>=81,"अ-2", IF(H18>=71,"ब-1", IF(H18>=61,"ब-2", IF(H18>=51,"क-1", IF(H18>=41,"क-2", IF(H18>=33,"ड", IF(H18>=21,"ई-1", IF(H18<=20, "ई-2" ))))))))) -> ई-2 | L18: 0 | M18: 0 | N18: =SUM(L18:M18) -> 0 | P18: =IF(N18>=91,"अ-1", IF(N18>=81,"अ-2", IF(N18>=71,"ब-1", IF(N18>=61,"ब-2", IF(N18>=51,"क-1", IF(N18>=41,"क-2", IF(N18>=33,"ड", IF(N18>=21,"ई-1", IF(N18<=20, "ई-2" ))))))))) -> ई-2 | R18: 0 | S18: 0 | T18: =SUM(R18:S18) -> 0 | V18: =IF(T18>=91,"अ-1", IF(T18>=81,"अ-2", IF(T18>=71,"ब-1", IF(T18>=61,"ब-2", IF(T18>=51,"क-1", IF(T18>=41,"क-2", IF(T18>=33,"ड", IF(T18>=21,"ई-1", IF(T18<=20, "ई-2" ))))))))) -> ई-2 | X18: 0 | Y18: 0 | Z18: =SUM(X18:Y18) -> 0 | AB18: =IF(Z18>=91,"अ-1", IF(Z18>=81,"अ-2", IF(Z18>=71,"ब-1", IF(Z18>=61,"ब-2", IF(Z18>=51,"क-1", IF(Z18>=41,"क-2", IF(Z18>=33,"ड", IF(Z18>=21,"ई-1", IF(Z18<=20, "ई-2" ))))))))) -> ई-2 | AI18: 0 | AJ18: 0 | AK18: =SUM(AI18:AJ18) -> 0 | AL18: =IF(AK18>=91,"अ-1", IF(AK18>=81,"अ-2", IF(AK18>=71,"ब-1", IF(AK18>=61,"ब-2", IF(AK18>=51,"क-1", IF(AK18>=41,"क-2", IF(AK18>=33,"ड", IF(AK18>=21,"ई-1", IF(AK18<=20, "ई-2" ))))))))) -> ई-2 | AN18: 0 | AO18: =IF(AN18>=91,"अ-1", IF(AN18>=81,"अ-2", IF(AN18>=71,"ब-1", IF(AN18>=61,"ब-2", IF(AN18>=51,"क-1", IF(AN18>=41,"क-2", IF(AN18>=33,"ड", IF(AN18>=21,"ई-1", IF(AN18<=20, "ई-2" ))))))))) -> ई-2 | AQ18: 0 | AR18: =IF(AQ18>=91,"अ-1", IF(AQ18>=81,"अ-2", IF(AQ18>=71,"ब-1", IF(AQ18>=61,"ब-2", IF(AQ18>=51,"क-1", IF(AQ18>=41,"क-2", IF(AQ18>=33,"ड", IF(AQ18>=21,"ई-1", IF(AQ18<=20, "ई-2" ))))))))) -> ई-2 | AT18: 0 | AU18: =IF(AT18>=91,"अ-1", IF(AT18>=81,"अ-2", IF(AT18>=71,"ब-1", IF(AT18>=61,"ब-2", IF(AT18>=51,"क-1", IF(AT18>=41,"क-2", IF(AT18>=33,"ड", IF(AT18>=21,"ई-1", IF(AT18<=20, "ई-2" ))))))))) -> ई-2 | AW18: =SUM(H18,N18,T18,Z18,AF18,AK18,AN18,AQ18,AT18) -> 0 | AX18: =SUM(AW18*100)/AW12 -> 0 | AY18: =IF(AX18>=91,"अ-1", IF(AX18>=81,"अ-2", IF(AX18>=71,"ब-1", IF(AX18>=61,"ब-2", IF(AX18>=51,"क-1", IF(AX18>=41,"क-2", IF(AX18>=33,"ड", IF(AX18>=21,"ई-1", IF(AX18>=0, "ई-2" ))))))))) -> ई-2
B19: =Info_1!M11 -> 0 | C19: =Info_1!J11 -> 0 | D19: =Info_1!K11 -> 0 | E19: =Info_1!L11 -> 0 | F19: 0 | G19: 0 | H19: =SUM(F19:G19) -> 0 | J19: =IF(H19>=91,"अ-1", IF(H19>=81,"अ-2", IF(H19>=71,"ब-1", IF(H19>=61,"ब-2", IF(H19>=51,"क-1", IF(H19>=41,"क-2", IF(H19>=33,"ड", IF(H19>=21,"ई-1", IF(H19<=20, "ई-2" ))))))))) -> ई-2 | L19: 0 | M19: 0 | N19: =SUM(L19:M19) -> 0 | P19: =IF(N19>=91,"अ-1", IF(N19>=81,"अ-2", IF(N19>=71,"ब-1", IF(N19>=61,"ब-2", IF(N19>=51,"क-1", IF(N19>=41,"क-2", IF(N19>=33,"ड", IF(N19>=21,"ई-1", IF(N19<=20, "ई-2" ))))))))) -> ई-2 | R19: 0 | S19: 0 | T19: =SUM(R19:S19) -> 0 | V19: =IF(T19>=91,"अ-1", IF(T19>=81,"अ-2", IF(T19>=71,"ब-1", IF(T19>=61,"ब-2", IF(T19>=51,"क-1", IF(T19>=41,"क-2", IF(T19>=33,"ड", IF(T19>=21,"ई-1", IF(T19<=20, "ई-2" ))))))))) -> ई-2 | X19: 0 | Y19: 0 | Z19: =SUM(X19:Y19) -> 0 | AB19: =IF(Z19>=91,"अ-1", IF(Z19>=81,"अ-2", IF(Z19>=71,"ब-1", IF(Z19>=61,"ब-2", IF(Z19>=51,"क-1", IF(Z19>=41,"क-2", IF(Z19>=33,"ड", IF(Z19>=21,"ई-1", IF(Z19<=20, "ई-2" ))))))))) -> ई-2 | AI19: 0 | AJ19: 0 | AK19: =SUM(AI19:AJ19) -> 0 | AL19: =IF(AK19>=91,"अ-1", IF(AK19>=81,"अ-2", IF(AK19>=71,"ब-1", IF(AK19>=61,"ब-2", IF(AK19>=51,"क-1", IF(AK19>=41,"क-2", IF(AK19>=33,"ड", IF(AK19>=21,"ई-1", IF(AK19<=20, "ई-2" ))))))))) -> ई-2 | AN19: 0 | AO19: =IF(AN19>=91,"अ-1", IF(AN19>=81,"अ-2", IF(AN19>=71,"ब-1", IF(AN19>=61,"ब-2", IF(AN19>=51,"क-1", IF(AN19>=41,"क-2", IF(AN19>=33,"ड", IF(AN19>=21,"ई-1", IF(AN19<=20, "ई-2" ))))))))) -> ई-2 | AQ19: 0 | AR19: =IF(AQ19>=91,"अ-1", IF(AQ19>=81,"अ-2", IF(AQ19>=71,"ब-1", IF(AQ19>=61,"ब-2", IF(AQ19>=51,"क-1", IF(AQ19>=41,"क-2", IF(AQ19>=33,"ड", IF(AQ19>=21,"ई-1", IF(AQ19<=20, "ई-2" ))))))))) -> ई-2 | AT19: 0 | AU19: =IF(AT19>=91,"अ-1", IF(AT19>=81,"अ-2", IF(AT19>=71,"ब-1", IF(AT19>=61,"ब-2", IF(AT19>=51,"क-1", IF(AT19>=41,"क-2", IF(AT19>=33,"ड", IF(AT19>=21,"ई-1", IF(AT19<=20, "ई-2" ))))))))) -> ई-2 | AW19: =SUM(H19,N19,T19,Z19,AF19,AK19,AN19,AQ19,AT19) -> 0 | AX19: =SUM(AW19*100)/AW12 -> 0 | AY19: =IF(AX19>=91,"अ-1", IF(AX19>=81,"अ-2", IF(AX19>=71,"ब-1", IF(AX19>=61,"ब-2", IF(AX19>=51,"क-1", IF(AX19>=41,"क-2", IF(AX19>=33,"ड", IF(AX19>=21,"ई-1", IF(AX19>=0, "ई-2" ))))))))) -> ई-2
B20: =Info_1!M12 -> 0 | C20: =Info_1!J12 -> 0 | D20: =Info_1!K12 -> 0 | E20: =Info_1!L12 -> 0 | F20: 0 | G20: 0 | H20: =SUM(F20:G20) -> 0 | J20: =IF(H20>=91,"अ-1", IF(H20>=81,"अ-2", IF(H20>=71,"ब-1", IF(H20>=61,"ब-2", IF(H20>=51,"क-1", IF(H20>=41,"क-2", IF(H20>=33,"ड", IF(H20>=21,"ई-1", IF(H20<=20, "ई-2" ))))))))) -> ई-2 | L20: 0 | M20: 0 | N20: =SUM(L20:M20) -> 0 | P20: =IF(N20>=91,"अ-1", IF(N20>=81,"अ-2", IF(N20>=71,"ब-1", IF(N20>=61,"ब-2", IF(N20>=51,"क-1", IF(N20>=41,"क-2", IF(N20>=33,"ड", IF(N20>=21,"ई-1", IF(N20<=20, "ई-2" ))))))))) -> ई-2 | R20: 0 | S20: 0 | T20: =SUM(R20:S20) -> 0 | V20: =IF(T20>=91,"अ-1", IF(T20>=81,"अ-2", IF(T20>=71,"ब-1", IF(T20>=61,"ब-2", IF(T20>=51,"क-1", IF(T20>=41,"क-2", IF(T20>=33,"ड", IF(T20>=21,"ई-1", IF(T20<=20, "ई-2" ))))))))) -> ई-2 | X20: 0 | Y20: 0 | Z20: =SUM(X20:Y20) -> 0 | AB20: =IF(Z20>=91,"अ-1", IF(Z20>=81,"अ-2", IF(Z20>=71,"ब-1", IF(Z20>=61,"ब-2", IF(Z20>=51,"क-1", IF(Z20>=41,"क-2", IF(Z20>=33,"ड", IF(Z20>=21,"ई-1", IF(Z20<=20, "ई-2" ))))))))) -> ई-2 | AI20: 0 | AJ20: 0 | AK20: =SUM(AI20:AJ20) -> 0 | AL20: =IF(AK20>=91,"अ-1", IF(AK20>=81,"अ-2", IF(AK20>=71,"ब-1", IF(AK20>=61,"ब-2", IF(AK20>=51,"क-1", IF(AK20>=41,"क-2", IF(AK20>=33,"ड", IF(AK20>=21,"ई-1", IF(AK20<=20, "ई-2" ))))))))) -> ई-2 | AN20: 0 | AO20: =IF(AN20>=91,"अ-1", IF(AN20>=81,"अ-2", IF(AN20>=71,"ब-1", IF(AN20>=61,"ब-2", IF(AN20>=51,"क-1", IF(AN20>=41,"क-2", IF(AN20>=33,"ड", IF(AN20>=21,"ई-1", IF(AN20<=20, "ई-2" ))))))))) -> ई-2 | AQ20: 0 | AR20: =IF(AQ20>=91,"अ-1", IF(AQ20>=81,"अ-2", IF(AQ20>=71,"ब-1", IF(AQ20>=61,"ब-2", IF(AQ20>=51,"क-1", IF(AQ20>=41,"क-2", IF(AQ20>=33,"ड", IF(AQ20>=21,"ई-1", IF(AQ20<=20, "ई-2" ))))))))) -> ई-2 | AT20: 0 | AU20: =IF(AT20>=91,"अ-1", IF(AT20>=81,"अ-2", IF(AT20>=71,"ब-1", IF(AT20>=61,"ब-2", IF(AT20>=51,"क-1", IF(AT20>=41,"क-2", IF(AT20>=33,"ड", IF(AT20>=21,"ई-1", IF(AT20<=20, "ई-2" ))))))))) -> ई-2 | AW20: =SUM(H20,N20,T20,Z20,AF20,AK20,AN20,AQ20,AT20) -> 0 | AX20: =SUM(AW20*100)/AW12 -> 0 | AY20: =IF(AX20>=91,"अ-1", IF(AX20>=81,"अ-2", IF(AX20>=71,"ब-1", IF(AX20>=61,"ब-2", IF(AX20>=51,"क-1", IF(AX20>=41,"क-2", IF(AX20>=33,"ड", IF(AX20>=21,"ई-1", IF(AX20>=0, "ई-2" ))))))))) -> ई-2
B21: =Info_1!M13 -> 0 | C21: =Info_1!J13 -> 0 | D21: =Info_1!K13 -> 0 | E21: =Info_1!L13 -> 0 | F21: 0 | G21: 0 | H21: =SUM(F21:G21) -> 0 | J21: =IF(H21>=91,"अ-1", IF(H21>=81,"अ-2", IF(H21>=71,"ब-1", IF(H21>=61,"ब-2", IF(H21>=51,"क-1", IF(H21>=41,"क-2", IF(H21>=33,"ड", IF(H21>=21,"ई-1", IF(H21<=20, "ई-2" ))))))))) -> ई-2 | L21: 0 | M21: 0 | N21: =SUM(L21:M21) -> 0 | P21: =IF(N21>=91,"अ-1", IF(N21>=81,"अ-2", IF(N21>=71,"ब-1", IF(N21>=61,"ब-2", IF(N21>=51,"क-1", IF(N21>=41,"क-2", IF(N21>=33,"ड", IF(N21>=21,"ई-1", IF(N21<=20, "ई-2" ))))))))) -> ई-2 | R21: 0 | S21: 0 | T21: =SUM(R21:S21) -> 0 | V21: =IF(T21>=91,"अ-1", IF(T21>=81,"अ-2", IF(T21>=71,"ब-1", IF(T21>=61,"ब-2", IF(T21>=51,"क-1", IF(T21>=41,"क-2", IF(T21>=33,"ड", IF(T21>=21,"ई-1", IF(T21<=20, "ई-2" ))))))))) -> ई-2 | X21: 0 | Y21: 0 | Z21: =SUM(X21:Y21) -> 0 | AB21: =IF(Z21>=91,"अ-1", IF(Z21>=81,"अ-2", IF(Z21>=71,"ब-1", IF(Z21>=61,"ब-2", IF(Z21>=51,"क-1", IF(Z21>=41,"क-2", IF(Z21>=33,"ड", IF(Z21>=21,"ई-1", IF(Z21<=20, "ई-2" ))))))))) -> ई-2 | AI21: 0 | AJ21: 0 | AK21: =SUM(AI21:AJ21) -> 0 | AL21: =IF(AK21>=91,"अ-1", IF(AK21>=81,"अ-2", IF(AK21>=71,"ब-1", IF(AK21>=61,"ब-2", IF(AK21>=51,"क-1", IF(AK21>=41,"क-2", IF(AK21>=33,"ड", IF(AK21>=21,"ई-1", IF(AK21<=20, "ई-2" ))))))))) -> ई-2 | AN21: 0 | AO21: =IF(AN21>=91,"अ-1", IF(AN21>=81,"अ-2", IF(AN21>=71,"ब-1", IF(AN21>=61,"ब-2", IF(AN21>=51,"क-1", IF(AN21>=41,"क-2", IF(AN21>=33,"ड", IF(AN21>=21,"ई-1", IF(AN21<=20, "ई-2" ))))))))) -> ई-2 | AQ21: 0 | AR21: =IF(AQ21>=91,"अ-1", IF(AQ21>=81,"अ-2", IF(AQ21>=71,"ब-1", IF(AQ21>=61,"ब-2", IF(AQ21>=51,"क-1", IF(AQ21>=41,"क-2", IF(AQ21>=33,"ड", IF(AQ21>=21,"ई-1", IF(AQ21<=20, "ई-2" ))))))))) -> ई-2 | AT21: 0 | AU21: =IF(AT21>=91,"अ-1", IF(AT21>=81,"अ-2", IF(AT21>=71,"ब-1", IF(AT21>=61,"ब-2", IF(AT21>=51,"क-1", IF(AT21>=41,"क-2", IF(AT21>=33,"ड", IF(AT21>=21,"ई-1", IF(AT21<=20, "ई-2" ))))))))) -> ई-2 | AW21: =SUM(H21,N21,T21,Z21,AF21,AK21,AN21,AQ21,AT21) -> 0 | AX21: =SUM(AW21*100)/AW12 -> 0 | AY21: =IF(AX21>=91,"अ-1", IF(AX21>=81,"अ-2", IF(AX21>=71,"ब-1", IF(AX21>=61,"ब-2", IF(AX21>=51,"क-1", IF(AX21>=41,"क-2", IF(AX21>=33,"ड", IF(AX21>=21,"ई-1", IF(AX21>=0, "ई-2" ))))))))) -> ई-2
B22: =Info_1!M14 -> 0 | C22: =Info_1!J14 -> 0 | D22: =Info_1!K14 -> 0 | E22: =Info_1!L14 -> 0 | F22: 0 | G22: 0 | H22: =SUM(F22:G22) -> 0 | J22: =IF(H22>=91,"अ-1", IF(H22>=81,"अ-2", IF(H22>=71,"ब-1", IF(H22>=61,"ब-2", IF(H22>=51,"क-1", IF(H22>=41,"क-2", IF(H22>=33,"ड", IF(H22>=21,"ई-1", IF(H22<=20, "ई-2" ))))))))) -> ई-2 | L22: 0 | M22: 0 | N22: =SUM(L22:M22) -> 0 | P22: =IF(N22>=91,"अ-1", IF(N22>=81,"अ-2", IF(N22>=71,"ब-1", IF(N22>=61,"ब-2", IF(N22>=51,"क-1", IF(N22>=41,"क-2", IF(N22>=33,"ड", IF(N22>=21,"ई-1", IF(N22<=20, "ई-2" ))))))))) -> ई-2 | R22: 0 | S22: 0 | T22: =SUM(R22:S22) -> 0 | V22: =IF(T22>=91,"अ-1", IF(T22>=81,"अ-2", IF(T22>=71,"ब-1", IF(T22>=61,"ब-2", IF(T22>=51,"क-1", IF(T22>=41,"क-2", IF(T22>=33,"ड", IF(T22>=21,"ई-1", IF(T22<=20, "ई-2" ))))))))) -> ई-2 | X22: 0 | Y22: 0 | Z22: =SUM(X22:Y22) -> 0 | AB22: =IF(Z22>=91,"अ-1", IF(Z22>=81,"अ-2", IF(Z22>=71,"ब-1", IF(Z22>=61,"ब-2", IF(Z22>=51,"क-1", IF(Z22>=41,"क-2", IF(Z22>=33,"ड", IF(Z22>=21,"ई-1", IF(Z22<=20, "ई-2" ))))))))) -> ई-2 | AI22: 0 | AJ22: 0 | AK22: =SUM(AI22:AJ22) -> 0 | AL22: =IF(AK22>=91,"अ-1", IF(AK22>=81,"अ-2", IF(AK22>=71,"ब-1", IF(AK22>=61,"ब-2", IF(AK22>=51,"क-1", IF(AK22>=41,"क-2", IF(AK22>=33,"ड", IF(AK22>=21,"ई-1", IF(AK22<=20, "ई-2" ))))))))) -> ई-2 | AN22: 0 | AO22: =IF(AN22>=91,"अ-1", IF(AN22>=81,"अ-2", IF(AN22>=71,"ब-1", IF(AN22>=61,"ब-2", IF(AN22>=51,"क-1", IF(AN22>=41,"क-2", IF(AN22>=33,"ड", IF(AN22>=21,"ई-1", IF(AN22<=20, "ई-2" ))))))))) -> ई-2 | AQ22: 0 | AR22: =IF(AQ22>=91,"अ-1", IF(AQ22>=81,"अ-2", IF(AQ22>=71,"ब-1", IF(AQ22>=61,"ब-2", IF(AQ22>=51,"क-1", IF(AQ22>=41,"क-2", IF(AQ22>=33,"ड", IF(AQ22>=21,"ई-1", IF(AQ22<=20, "ई-2" ))))))))) -> ई-2 | AT22: 0 | AU22: =IF(AT22>=91,"अ-1", IF(AT22>=81,"अ-2", IF(AT22>=71,"ब-1", IF(AT22>=61,"ब-2", IF(AT22>=51,"क-1", IF(AT22>=41,"क-2", IF(AT22>=33,"ड", IF(AT22>=21,"ई-1", IF(AT22<=20, "ई-2" ))))))))) -> ई-2 | AW22: =SUM(H22,N22,T22,Z22,AF22,AK22,AN22,AQ22,AT22) -> 0 | AX22: =SUM(AW22*100)/AW12 -> 0 | AY22: =IF(AX22>=91,"अ-1", IF(AX22>=81,"अ-2", IF(AX22>=71,"ब-1", IF(AX22>=61,"ब-2", IF(AX22>=51,"क-1", IF(AX22>=41,"क-2", IF(AX22>=33,"ड", IF(AX22>=21,"ई-1", IF(AX22>=0, "ई-2" ))))))))) -> ई-2
B23: =Info_1!M15 -> 0 | C23: =Info_1!J15 -> 0 | D23: =Info_1!K15 -> 0 | E23: =Info_1!L15 -> 0 | F23: 0 | G23: 0 | H23: =SUM(F23:G23) -> 0 | J23: =IF(H23>=91,"अ-1", IF(H23>=81,"अ-2", IF(H23>=71,"ब-1", IF(H23>=61,"ब-2", IF(H23>=51,"क-1", IF(H23>=41,"क-2", IF(H23>=33,"ड", IF(H23>=21,"ई-1", IF(H23<=20, "ई-2" ))))))))) -> ई-2 | L23: 0 | M23: 0 | N23: =SUM(L23:M23) -> 0 | P23: =IF(N23>=91,"अ-1", IF(N23>=81,"अ-2", IF(N23>=71,"ब-1", IF(N23>=61,"ब-2", IF(N23>=51,"क-1", IF(N23>=41,"क-2", IF(N23>=33,"ड", IF(N23>=21,"ई-1", IF(N23<=20, "ई-2" ))))))))) -> ई-2 | R23: 0 | S23: 0 | T23: =SUM(R23:S23) -> 0 | V23: =IF(T23>=91,"अ-1", IF(T23>=81,"अ-2", IF(T23>=71,"ब-1", IF(T23>=61,"ब-2", IF(T23>=51,"क-1", IF(T23>=41,"क-2", IF(T23>=33,"ड", IF(T23>=21,"ई-1", IF(T23<=20, "ई-2" ))))))))) -> ई-2 | X23: 0 | Y23: 0 | Z23: =SUM(X23:Y23) -> 0 | AB23: =IF(Z23>=91,"अ-1", IF(Z23>=81,"अ-2", IF(Z23>=71,"ब-1", IF(Z23>=61,"ब-2", IF(Z23>=51,"क-1", IF(Z23>=41,"क-2", IF(Z23>=33,"ड", IF(Z23>=21,"ई-1", IF(Z23<=20, "ई-2" ))))))))) -> ई-2 | AI23: 0 | AJ23: 0 | AK23: =SUM(AI23:AJ23) -> 0 | AL23: =IF(AK23>=91,"अ-1", IF(AK23>=81,"अ-2", IF(AK23>=71,"ब-1", IF(AK23>=61,"ब-2", IF(AK23>=51,"क-1", IF(AK23>=41,"क-2", IF(AK23>=33,"ड", IF(AK23>=21,"ई-1", IF(AK23<=20, "ई-2" ))))))))) -> ई-2 | AN23: 0 | AO23: =IF(AN23>=91,"अ-1", IF(AN23>=81,"अ-2", IF(AN23>=71,"ब-1", IF(AN23>=61,"ब-2", IF(AN23>=51,"क-1", IF(AN23>=41,"क-2", IF(AN23>=33,"ड", IF(AN23>=21,"ई-1", IF(AN23<=20, "ई-2" ))))))))) -> ई-2 | AQ23: 0 | AR23: =IF(AQ23>=91,"अ-1", IF(AQ23>=81,"अ-2", IF(AQ23>=71,"ब-1", IF(AQ23>=61,"ब-2", IF(AQ23>=51,"क-1", IF(AQ23>=41,"क-2", IF(AQ23>=33,"ड", IF(AQ23>=21,"ई-1", IF(AQ23<=20, "ई-2" ))))))))) -> ई-2 | AT23: 0 | AU23: =IF(AT23>=91,"अ-1", IF(AT23>=81,"अ-2", IF(AT23>=71,"ब-1", IF(AT23>=61,"ब-2", IF(AT23>=51,"क-1", IF(AT23>=41,"क-2", IF(AT23>=33,"ड", IF(AT23>=21,"ई-1", IF(AT23<=20, "ई-2" ))))))))) -> ई-2 | AW23: =SUM(H23,N23,T23,Z23,AF23,AK23,AN23,AQ23,AT23) -> 0 | AX23: =SUM(AW23*100)/AW12 -> 0 | AY23: =IF(AX23>=91,"अ-1", IF(AX23>=81,"अ-2", IF(AX23>=71,"ब-1", IF(AX23>=61,"ब-2", IF(AX23>=51,"क-1", IF(AX23>=41,"क-2", IF(AX23>=33,"ड", IF(AX23>=21,"ई-1", IF(AX23>=0, "ई-2" ))))))))) -> ई-2
B24: =Info_1!M16 -> 0 | C24: =Info_1!J16 -> 0 | D24: =Info_1!K16 -> 0 | E24: =Info_1!L16 -> 0 | F24: 0 | G24: 0 | H24: =SUM(F24:G24) -> 0 | J24: =IF(H24>=91,"अ-1", IF(H24>=81,"अ-2", IF(H24>=71,"ब-1", IF(H24>=61,"ब-2", IF(H24>=51,"क-1", IF(H24>=41,"क-2", IF(H24>=33,"ड", IF(H24>=21,"ई-1", IF(H24<=20, "ई-2" ))))))))) -> ई-2 | L24: 0 | M24: 0 | N24: =SUM(L24:M24) -> 0 | P24: =IF(N24>=91,"अ-1", IF(N24>=81,"अ-2", IF(N24>=71,"ब-1", IF(N24>=61,"ब-2", IF(N24>=51,"क-1", IF(N24>=41,"क-2", IF(N24>=33,"ड", IF(N24>=21,"ई-1", IF(N24<=20, "ई-2" ))))))))) -> ई-2 | R24: 0 | S24: 0 | T24: =SUM(R24:S24) -> 0 | V24: =IF(T24>=91,"अ-1", IF(T24>=81,"अ-2", IF(T24>=71,"ब-1", IF(T24>=61,"ब-2", IF(T24>=51,"क-1", IF(T24>=41,"क-2", IF(T24>=33,"ड", IF(T24>=21,"ई-1", IF(T24<=20, "ई-2" ))))))))) -> ई-2 | X24: 0 | Y24: 0 | Z24: =SUM(X24:Y24) -> 0 | AB24: =IF(Z24>=91,"अ-1", IF(Z24>=81,"अ-2", IF(Z24>=71,"ब-1", IF(Z24>=61,"ब-2", IF(Z24>=51,"क-1", IF(Z24>=41,"क-2", IF(Z24>=33,"ड", IF(Z24>=21,"ई-1", IF(Z24<=20, "ई-2" ))))))))) -> ई-2 | AI24: 0 | AJ24: 0 | AK24: =SUM(AI24:AJ24) -> 0 | AL24: =IF(AK24>=91,"अ-1", IF(AK24>=81,"अ-2", IF(AK24>=71,"ब-1", IF(AK24>=61,"ब-2", IF(AK24>=51,"क-1", IF(AK24>=41,"क-2", IF(AK24>=33,"ड", IF(AK24>=21,"ई-1", IF(AK24<=20, "ई-2" ))))))))) -> ई-2 | AN24: 0 | AO24: =IF(AN24>=91,"अ-1", IF(AN24>=81,"अ-2", IF(AN24>=71,"ब-1", IF(AN24>=61,"ब-2", IF(AN24>=51,"क-1", IF(AN24>=41,"क-2", IF(AN24>=33,"ड", IF(AN24>=21,"ई-1", IF(AN24<=20, "ई-2" ))))))))) -> ई-2 | AQ24: 0 | AR24: =IF(AQ24>=91,"अ-1", IF(AQ24>=81,"अ-2", IF(AQ24>=71,"ब-1", IF(AQ24>=61,"ब-2", IF(AQ24>=51,"क-1", IF(AQ24>=41,"क-2", IF(AQ24>=33,"ड", IF(AQ24>=21,"ई-1", IF(AQ24<=20, "ई-2" ))))))))) -> ई-2 | AT24: 0 | AU24: =IF(AT24>=91,"अ-1", IF(AT24>=81,"अ-2", IF(AT24>=71,"ब-1", IF(AT24>=61,"ब-2", IF(AT24>=51,"क-1", IF(AT24>=41,"क-2", IF(AT24>=33,"ड", IF(AT24>=21,"ई-1", IF(AT24<=20, "ई-2" ))))))))) -> ई-2 | AW24: =SUM(H24,N24,T24,Z24,AF24,AK24,AN24,AQ24,AT24) -> 0 | AX24: =SUM(AW24*100)/AW12 -> 0 | AY24: =IF(AX24>=91,"अ-1", IF(AX24>=81,"अ-2", IF(AX24>=71,"ब-1", IF(AX24>=61,"ब-2", IF(AX24>=51,"क-1", IF(AX24>=41,"क-2", IF(AX24>=33,"ड", IF(AX24>=21,"ई-1", IF(AX24>=0, "ई-2" ))))))))) -> ई-2
B25: =Info_1!M17 -> 0 | C25: =Info_1!J17 -> 0 | D25: =Info_1!K17 -> 0 | E25: =Info_1!L17 -> 0 | F25: 0 | G25: 0 | H25: =SUM(F25:G25) -> 0 | J25: =IF(H25>=91,"अ-1", IF(H25>=81,"अ-2", IF(H25>=71,"ब-1", IF(H25>=61,"ब-2", IF(H25>=51,"क-1", IF(H25>=41,"क-2", IF(H25>=33,"ड", IF(H25>=21,"ई-1", IF(H25<=20, "ई-2" ))))))))) -> ई-2 | L25: 0 | M25: 0 | N25: =SUM(L25:M25) -> 0 | P25: =IF(N25>=91,"अ-1", IF(N25>=81,"अ-2", IF(N25>=71,"ब-1", IF(N25>=61,"ब-2", IF(N25>=51,"क-1", IF(N25>=41,"क-2", IF(N25>=33,"ड", IF(N25>=21,"ई-1", IF(N25<=20, "ई-2" ))))))))) -> ई-2 | R25: 0 | S25: 0 | T25: =SUM(R25:S25) -> 0 | V25: =IF(T25>=91,"अ-1", IF(T25>=81,"अ-2", IF(T25>=71,"ब-1", IF(T25>=61,"ब-2", IF(T25>=51,"क-1", IF(T25>=41,"क-2", IF(T25>=33,"ड", IF(T25>=21,"ई-1", IF(T25<=20, "ई-2" ))))))))) -> ई-2 | X25: 0 | Y25: 0 | Z25: =SUM(X25:Y25) -> 0 | AB25: =IF(Z25>=91,"अ-1", IF(Z25>=81,"अ-2", IF(Z25>=71,"ब-1", IF(Z25>=61,"ब-2", IF(Z25>=51,"क-1", IF(Z25>=41,"क-2", IF(Z25>=33,"ड", IF(Z25>=21,"ई-1", IF(Z25<=20, "ई-2" ))))))))) -> ई-2 | AI25: 0 | AJ25: 0 | AK25: =SUM(AI25:AJ25) -> 0 | AL25: =IF(AK25>=91,"अ-1", IF(AK25>=81,"अ-2", IF(AK25>=71,"ब-1", IF(AK25>=61,"ब-2", IF(AK25>=51,"क-1", IF(AK25>=41,"क-2", IF(AK25>=33,"ड", IF(AK25>=21,"ई-1", IF(AK25<=20, "ई-2" ))))))))) -> ई-2 | AN25: 0 | AO25: =IF(AN25>=91,"अ-1", IF(AN25>=81,"अ-2", IF(AN25>=71,"ब-1", IF(AN25>=61,"ब-2", IF(AN25>=51,"क-1", IF(AN25>=41,"क-2", IF(AN25>=33,"ड", IF(AN25>=21,"ई-1", IF(AN25<=20, "ई-2" ))))))))) -> ई-2 | AQ25: 0 | AR25: =IF(AQ25>=91,"अ-1", IF(AQ25>=81,"अ-2", IF(AQ25>=71,"ब-1", IF(AQ25>=61,"ब-2", IF(AQ25>=51,"क-1", IF(AQ25>=41,"क-2", IF(AQ25>=33,"ड", IF(AQ25>=21,"ई-1", IF(AQ25<=20, "ई-2" ))))))))) -> ई-2 | AT25: 0 | AU25: =IF(AT25>=91,"अ-1", IF(AT25>=81,"अ-2", IF(AT25>=71,"ब-1", IF(AT25>=61,"ब-2", IF(AT25>=51,"क-1", IF(AT25>=41,"क-2", IF(AT25>=33,"ड", IF(AT25>=21,"ई-1", IF(AT25<=20, "ई-2" ))))))))) -> ई-2 | AW25: =SUM(H25,N25,T25,Z25,AF25,AK25,AN25,AQ25,AT25) -> 0 | AX25: =SUM(AW25*100)/AW12 -> 0 | AY25: =IF(AX25>=91,"अ-1", IF(AX25>=81,"अ-2", IF(AX25>=71,"ब-1", IF(AX25>=61,"ब-2", IF(AX25>=51,"क-1", IF(AX25>=41,"क-2", IF(AX25>=33,"ड", IF(AX25>=21,"ई-1", IF(AX25>=0, "ई-2" ))))))))) -> ई-2
B26: =Info_1!M18 -> 0 | C26: =Info_1!J18 -> 0 | D26: =Info_1!K18 -> 0 | E26: =Info_1!L18 -> 0 | F26: 0 | G26: 0 | H26: =SUM(F26:G26) -> 0 | J26: =IF(H26>=91,"अ-1", IF(H26>=81,"अ-2", IF(H26>=71,"ब-1", IF(H26>=61,"ब-2", IF(H26>=51,"क-1", IF(H26>=41,"क-2", IF(H26>=33,"ड", IF(H26>=21,"ई-1", IF(H26<=20, "ई-2" ))))))))) -> ई-2 | L26: 0 | M26: 0 | N26: =SUM(L26:M26) -> 0 | P26: =IF(N26>=91,"अ-1", IF(N26>=81,"अ-2", IF(N26>=71,"ब-1", IF(N26>=61,"ब-2", IF(N26>=51,"क-1", IF(N26>=41,"क-2", IF(N26>=33,"ड", IF(N26>=21,"ई-1", IF(N26<=20, "ई-2" ))))))))) -> ई-2 | R26: 0 | S26: 0 | T26: =SUM(R26:S26) -> 0 | V26: =IF(T26>=91,"अ-1", IF(T26>=81,"अ-2", IF(T26>=71,"ब-1", IF(T26>=61,"ब-2", IF(T26>=51,"क-1", IF(T26>=41,"क-2", IF(T26>=33,"ड", IF(T26>=21,"ई-1", IF(T26<=20, "ई-2" ))))))))) -> ई-2 | X26: 0 | Y26: 0 | Z26: =SUM(X26:Y26) -> 0 | AB26: =IF(Z26>=91,"अ-1", IF(Z26>=81,"अ-2", IF(Z26>=71,"ब-1", IF(Z26>=61,"ब-2", IF(Z26>=51,"क-1", IF(Z26>=41,"क-2", IF(Z26>=33,"ड", IF(Z26>=21,"ई-1", IF(Z26<=20, "ई-2" ))))))))) -> ई-2 | AI26: 0 | AJ26: 0 | AK26: =SUM(AI26:AJ26) -> 0 | AL26: =IF(AK26>=91,"अ-1", IF(AK26>=81,"अ-2", IF(AK26>=71,"ब-1", IF(AK26>=61,"ब-2", IF(AK26>=51,"क-1", IF(AK26>=41,"क-2", IF(AK26>=33,"ड", IF(AK26>=21,"ई-1", IF(AK26<=20, "ई-2" ))))))))) -> ई-2 | AN26: 0 | AO26: =IF(AN26>=91,"अ-1", IF(AN26>=81,"अ-2", IF(AN26>=71,"ब-1", IF(AN26>=61,"ब-2", IF(AN26>=51,"क-1", IF(AN26>=41,"क-2", IF(AN26>=33,"ड", IF(AN26>=21,"ई-1", IF(AN26<=20, "ई-2" ))))))))) -> ई-2 | AQ26: 0 | AR26: =IF(AQ26>=91,"अ-1", IF(AQ26>=81,"अ-2", IF(AQ26>=71,"ब-1", IF(AQ26>=61,"ब-2", IF(AQ26>=51,"क-1", IF(AQ26>=41,"क-2", IF(AQ26>=33,"ड", IF(AQ26>=21,"ई-1", IF(AQ26<=20, "ई-2" ))))))))) -> ई-2 | AT26: 0 | AU26: =IF(AT26>=91,"अ-1", IF(AT26>=81,"अ-2", IF(AT26>=71,"ब-1", IF(AT26>=61,"ब-2", IF(AT26>=51,"क-1", IF(AT26>=41,"क-2", IF(AT26>=33,"ड", IF(AT26>=21,"ई-1", IF(AT26<=20, "ई-2" ))))))))) -> ई-2 | AW26: =SUM(H26,N26,T26,Z26,AF26,AK26,AN26,AQ26,AT26) -> 0 | AX26: =SUM(AW26*100)/AW12 -> 0 | AY26: =IF(AX26>=91,"अ-1", IF(AX26>=81,"अ-2", IF(AX26>=71,"ब-1", IF(AX26>=61,"ब-2", IF(AX26>=51,"क-1", IF(AX26>=41,"क-2", IF(AX26>=33,"ड", IF(AX26>=21,"ई-1", IF(AX26>=0, "ई-2" ))))))))) -> ई-2
B27: =Info_1!M19 -> 0 | C27: =Info_1!J19 -> 0 | D27: =Info_1!K19 -> 0 | E27: =Info_1!L19 -> 0 | F27: 0 | G27: 0 | H27: =SUM(F27:G27) -> 0 | J27: =IF(H27>=91,"अ-1", IF(H27>=81,"अ-2", IF(H27>=71,"ब-1", IF(H27>=61,"ब-2", IF(H27>=51,"क-1", IF(H27>=41,"क-2", IF(H27>=33,"ड", IF(H27>=21,"ई-1", IF(H27<=20, "ई-2" ))))))))) -> ई-2 | L27: 0 | M27: 0 | N27: =SUM(L27:M27) -> 0 | P27: =IF(N27>=91,"अ-1", IF(N27>=81,"अ-2", IF(N27>=71,"ब-1", IF(N27>=61,"ब-2", IF(N27>=51,"क-1", IF(N27>=41,"क-2", IF(N27>=33,"ड", IF(N27>=21,"ई-1", IF(N27<=20, "ई-2" ))))))))) -> ई-2 | R27: 0 | S27: 0 | T27: =SUM(R27:S27) -> 0 | V27: =IF(T27>=91,"अ-1", IF(T27>=81,"अ-2", IF(T27>=71,"ब-1", IF(T27>=61,"ब-2", IF(T27>=51,"क-1", IF(T27>=41,"क-2", IF(T27>=33,"ड", IF(T27>=21,"ई-1", IF(T27<=20, "ई-2" ))))))))) -> ई-2 | X27: 0 | Y27: 0 | Z27: =SUM(X27:Y27) -> 0 | AB27: =IF(Z27>=91,"अ-1", IF(Z27>=81,"अ-2", IF(Z27>=71,"ब-1", IF(Z27>=61,"ब-2", IF(Z27>=51,"क-1", IF(Z27>=41,"क-2", IF(Z27>=33,"ड", IF(Z27>=21,"ई-1", IF(Z27<=20, "ई-2" ))))))))) -> ई-2 | AI27: 0 | AJ27: 0 | AK27: =SUM(AI27:AJ27) -> 0 | AL27: =IF(AK27>=91,"अ-1", IF(AK27>=81,"अ-2", IF(AK27>=71,"ब-1", IF(AK27>=61,"ब-2", IF(AK27>=51,"क-1", IF(AK27>=41,"क-2", IF(AK27>=33,"ड", IF(AK27>=21,"ई-1", IF(AK27<=20, "ई-2" ))))))))) -> ई-2 | AN27: 0 | AO27: =IF(AN27>=91,"अ-1", IF(AN27>=81,"अ-2", IF(AN27>=71,"ब-1", IF(AN27>=61,"ब-2", IF(AN27>=51,"क-1", IF(AN27>=41,"क-2", IF(AN27>=33,"ड", IF(AN27>=21,"ई-1", IF(AN27<=20, "ई-2" ))))))))) -> ई-2 | AQ27: 0 | AR27: =IF(AQ27>=91,"अ-1", IF(AQ27>=81,"अ-2", IF(AQ27>=71,"ब-1", IF(AQ27>=61,"ब-2", IF(AQ27>=51,"क-1", IF(AQ27>=41,"क-2", IF(AQ27>=33,"ड", IF(AQ27>=21,"ई-1", IF(AQ27<=20, "ई-2" ))))))))) -> ई-2 | AT27: 0 | AU27: =IF(AT27>=91,"अ-1", IF(AT27>=81,"अ-2", IF(AT27>=71,"ब-1", IF(AT27>=61,"ब-2", IF(AT27>=51,"क-1", IF(AT27>=41,"क-2", IF(AT27>=33,"ड", IF(AT27>=21,"ई-1", IF(AT27<=20, "ई-2" ))))))))) -> ई-2 | AW27: =SUM(H27,N27,T27,Z27,AF27,AK27,AN27,AQ27,AT27) -> 0 | AX27: =SUM(AW27*100)/AW12 -> 0 | AY27: =IF(AX27>=91,"अ-1", IF(AX27>=81,"अ-2", IF(AX27>=71,"ब-1", IF(AX27>=61,"ब-2", IF(AX27>=51,"क-1", IF(AX27>=41,"क-2", IF(AX27>=33,"ड", IF(AX27>=21,"ई-1", IF(AX27>=0, "ई-2" ))))))))) -> ई-2
B28: =Info_1!M20 -> 0 | C28: =Info_1!J20 -> 0 | D28: =Info_1!K20 -> 0 | E28: =Info_1!L20 -> 0 | F28: 0 | G28: 0 | H28: =SUM(F28:G28) -> 0 | J28: =IF(H28>=91,"अ-1", IF(H28>=81,"अ-2", IF(H28>=71,"ब-1", IF(H28>=61,"ब-2", IF(H28>=51,"क-1", IF(H28>=41,"क-2", IF(H28>=33,"ड", IF(H28>=21,"ई-1", IF(H28<=20, "ई-2" ))))))))) -> ई-2 | L28: 0 | M28: 0 | N28: =SUM(L28:M28) -> 0 | P28: =IF(N28>=91,"अ-1", IF(N28>=81,"अ-2", IF(N28>=71,"ब-1", IF(N28>=61,"ब-2", IF(N28>=51,"क-1", IF(N28>=41,"क-2", IF(N28>=33,"ड", IF(N28>=21,"ई-1", IF(N28<=20, "ई-2" ))))))))) -> ई-2 | R28: 0 | S28: 0 | T28: =SUM(R28:S28) -> 0 | V28: =IF(T28>=91,"अ-1", IF(T28>=81,"अ-2", IF(T28>=71,"ब-1", IF(T28>=61,"ब-2", IF(T28>=51,"क-1", IF(T28>=41,"क-2", IF(T28>=33,"ड", IF(T28>=21,"ई-1", IF(T28<=20, "ई-2" ))))))))) -> ई-2 | X28: 0 | Y28: 0 | Z28: =SUM(X28:Y28) -> 0 | AB28: =IF(Z28>=91,"अ-1", IF(Z28>=81,"अ-2", IF(Z28>=71,"ब-1", IF(Z28>=61,"ब-2", IF(Z28>=51,"क-1", IF(Z28>=41,"क-2", IF(Z28>=33,"ड", IF(Z28>=21,"ई-1", IF(Z28<=20, "ई-2" ))))))))) -> ई-2 | AI28: 0 | AJ28: 0 | AK28: =SUM(AI28:AJ28) -> 0 | AL28: =IF(AK28>=91,"अ-1", IF(AK28>=81,"अ-2", IF(AK28>=71,"ब-1", IF(AK28>=61,"ब-2", IF(AK28>=51,"क-1", IF(AK28>=41,"क-2", IF(AK28>=33,"ड", IF(AK28>=21,"ई-1", IF(AK28<=20, "ई-2" ))))))))) -> ई-2 | AN28: 0 | AO28: =IF(AN28>=91,"अ-1", IF(AN28>=81,"अ-2", IF(AN28>=71,"ब-1", IF(AN28>=61,"ब-2", IF(AN28>=51,"क-1", IF(AN28>=41,"क-2", IF(AN28>=33,"ड", IF(AN28>=21,"ई-1", IF(AN28<=20, "ई-2" ))))))))) -> ई-2 | AQ28: 0 | AR28: =IF(AQ28>=91,"अ-1", IF(AQ28>=81,"अ-2", IF(AQ28>=71,"ब-1", IF(AQ28>=61,"ब-2", IF(AQ28>=51,"क-1", IF(AQ28>=41,"क-2", IF(AQ28>=33,"ड", IF(AQ28>=21,"ई-1", IF(AQ28<=20, "ई-2" ))))))))) -> ई-2 | AT28: 0 | AU28: =IF(AT28>=91,"अ-1", IF(AT28>=81,"अ-2", IF(AT28>=71,"ब-1", IF(AT28>=61,"ब-2", IF(AT28>=51,"क-1", IF(AT28>=41,"क-2", IF(AT28>=33,"ड", IF(AT28>=21,"ई-1", IF(AT28<=20, "ई-2" ))))))))) -> ई-2 | AW28: =SUM(H28,N28,T28,Z28,AF28,AK28,AN28,AQ28,AT28) -> 0 | AX28: =SUM(AW28*100)/AW12 -> 0 | AY28: =IF(AX28>=91,"अ-1", IF(AX28>=81,"अ-2", IF(AX28>=71,"ब-1", IF(AX28>=61,"ब-2", IF(AX28>=51,"क-1", IF(AX28>=41,"क-2", IF(AX28>=33,"ड", IF(AX28>=21,"ई-1", IF(AX28>=0, "ई-2" ))))))))) -> ई-2
B29: =Info_1!M21 -> 0 | C29: =Info_1!J21 -> 0 | D29: =Info_1!K21 -> 0 | E29: =Info_1!L21 -> 0 | F29: 0 | G29: 0 | H29: =SUM(F29:G29) -> 0 | J29: =IF(H29>=91,"अ-1", IF(H29>=81,"अ-2", IF(H29>=71,"ब-1", IF(H29>=61,"ब-2", IF(H29>=51,"क-1", IF(H29>=41,"क-2", IF(H29>=33,"ड", IF(H29>=21,"ई-1", IF(H29<=20, "ई-2" ))))))))) -> ई-2 | L29: 0 | M29: 0 | N29: =SUM(L29:M29) -> 0 | P29: =IF(N29>=91,"अ-1", IF(N29>=81,"अ-2", IF(N29>=71,"ब-1", IF(N29>=61,"ब-2", IF(N29>=51,"क-1", IF(N29>=41,"क-2", IF(N29>=33,"ड", IF(N29>=21,"ई-1", IF(N29<=20, "ई-2" ))))))))) -> ई-2 | R29: 0 | S29: 0 | T29: =SUM(R29:S29) -> 0 | V29: =IF(T29>=91,"अ-1", IF(T29>=81,"अ-2", IF(T29>=71,"ब-1", IF(T29>=61,"ब-2", IF(T29>=51,"क-1", IF(T29>=41,"क-2", IF(T29>=33,"ड", IF(T29>=21,"ई-1", IF(T29<=20, "ई-2" ))))))))) -> ई-2 | X29: 0 | Y29: 0 | Z29: =SUM(X29:Y29) -> 0 | AB29: =IF(Z29>=91,"अ-1", IF(Z29>=81,"अ-2", IF(Z29>=71,"ब-1", IF(Z29>=61,"ब-2", IF(Z29>=51,"क-1", IF(Z29>=41,"क-2", IF(Z29>=33,"ड", IF(Z29>=21,"ई-1", IF(Z29<=20, "ई-2" ))))))))) -> ई-2 | AI29: 0 | AJ29: 0 | AK29: =SUM(AI29:AJ29) -> 0 | AL29: =IF(AK29>=91,"अ-1", IF(AK29>=81,"अ-2", IF(AK29>=71,"ब-1", IF(AK29>=61,"ब-2", IF(AK29>=51,"क-1", IF(AK29>=41,"क-2", IF(AK29>=33,"ड", IF(AK29>=21,"ई-1", IF(AK29<=20, "ई-2" ))))))))) -> ई-2 | AN29: 0 | AO29: =IF(AN29>=91,"अ-1", IF(AN29>=81,"अ-2", IF(AN29>=71,"ब-1", IF(AN29>=61,"ब-2", IF(AN29>=51,"क-1", IF(AN29>=41,"क-2", IF(AN29>=33,"ड", IF(AN29>=21,"ई-1", IF(AN29<=20, "ई-2" ))))))))) -> ई-2 | AQ29: 0 | AR29: =IF(AQ29>=91,"अ-1", IF(AQ29>=81,"अ-2", IF(AQ29>=71,"ब-1", IF(AQ29>=61,"ब-2", IF(AQ29>=51,"क-1", IF(AQ29>=41,"क-2", IF(AQ29>=33,"ड", IF(AQ29>=21,"ई-1", IF(AQ29<=20, "ई-2" ))))))))) -> ई-2 | AT29: 0 | AU29: =IF(AT29>=91,"अ-1", IF(AT29>=81,"अ-2", IF(AT29>=71,"ब-1", IF(AT29>=61,"ब-2", IF(AT29>=51,"क-1", IF(AT29>=41,"क-2", IF(AT29>=33,"ड", IF(AT29>=21,"ई-1", IF(AT29<=20, "ई-2" ))))))))) -> ई-2 | AW29: =SUM(H29,N29,T29,Z29,AF29,AK29,AN29,AQ29,AT29) -> 0 | AX29: =SUM(AW29*100)/AW12 -> 0 | AY29: =IF(AX29>=91,"अ-1", IF(AX29>=81,"अ-2", IF(AX29>=71,"ब-1", IF(AX29>=61,"ब-2", IF(AX29>=51,"क-1", IF(AX29>=41,"क-2", IF(AX29>=33,"ड", IF(AX29>=21,"ई-1", IF(AX29>=0, "ई-2" ))))))))) -> ई-2
B30: =Info_1!M22 -> 0 | C30: =Info_1!J22 -> 0 | D30: =Info_1!K22 -> 0 | E30: =Info_1!L22 -> 0 | F30: 0 | G30: 0 | H30: =SUM(F30:G30) -> 0 | J30: =IF(H30>=91,"अ-1", IF(H30>=81,"अ-2", IF(H30>=71,"ब-1", IF(H30>=61,"ब-2", IF(H30>=51,"क-1", IF(H30>=41,"क-2", IF(H30>=33,"ड", IF(H30>=21,"ई-1", IF(H30<=20, "ई-2" ))))))))) -> ई-2 | L30: 0 | M30: 0 | N30: =SUM(L30:M30) -> 0 | P30: =IF(N30>=91,"अ-1", IF(N30>=81,"अ-2", IF(N30>=71,"ब-1", IF(N30>=61,"ब-2", IF(N30>=51,"क-1", IF(N30>=41,"क-2", IF(N30>=33,"ड", IF(N30>=21,"ई-1", IF(N30<=20, "ई-2" ))))))))) -> ई-2 | R30: 0 | S30: 0 | T30: =SUM(R30:S30) -> 0 | V30: =IF(T30>=91,"अ-1", IF(T30>=81,"अ-2", IF(T30>=71,"ब-1", IF(T30>=61,"ब-2", IF(T30>=51,"क-1", IF(T30>=41,"क-2", IF(T30>=33,"ड", IF(T30>=21,"ई-1", IF(T30<=20, "ई-2" ))))))))) -> ई-2 | X30: 0 | Y30: 0 | Z30: =SUM(X30:Y30) -> 0 | AB30: =IF(Z30>=91,"अ-1", IF(Z30>=81,"अ-2", IF(Z30>=71,"ब-1", IF(Z30>=61,"ब-2", IF(Z30>=51,"क-1", IF(Z30>=41,"क-2", IF(Z30>=33,"ड", IF(Z30>=21,"ई-1", IF(Z30<=20, "ई-2" ))))))))) -> ई-2 | AI30: 0 | AJ30: 0 | AK30: =SUM(AI30:AJ30) -> 0 | AL30: =IF(AK30>=91,"अ-1", IF(AK30>=81,"अ-2", IF(AK30>=71,"ब-1", IF(AK30>=61,"ब-2", IF(AK30>=51,"क-1", IF(AK30>=41,"क-2", IF(AK30>=33,"ड", IF(AK30>=21,"ई-1", IF(AK30<=20, "ई-2" ))))))))) -> ई-2 | AN30: 0 | AO30: =IF(AN30>=91,"अ-1", IF(AN30>=81,"अ-2", IF(AN30>=71,"ब-1", IF(AN30>=61,"ब-2", IF(AN30>=51,"क-1", IF(AN30>=41,"क-2", IF(AN30>=33,"ड", IF(AN30>=21,"ई-1", IF(AN30<=20, "ई-2" ))))))))) -> ई-2 | AQ30: 0 | AR30: =IF(AQ30>=91,"अ-1", IF(AQ30>=81,"अ-2", IF(AQ30>=71,"ब-1", IF(AQ30>=61,"ब-2", IF(AQ30>=51,"क-1", IF(AQ30>=41,"क-2", IF(AQ30>=33,"ड", IF(AQ30>=21,"ई-1", IF(AQ30<=20, "ई-2" ))))))))) -> ई-2 | AT30: 0 | AU30: =IF(AT30>=91,"अ-1", IF(AT30>=81,"अ-2", IF(AT30>=71,"ब-1", IF(AT30>=61,"ब-2", IF(AT30>=51,"क-1", IF(AT30>=41,"क-2", IF(AT30>=33,"ड", IF(AT30>=21,"ई-1", IF(AT30<=20, "ई-2" ))))))))) -> ई-2 | AW30: =SUM(H30,N30,T30,Z30,AF30,AK30,AN30,AQ30,AT30) -> 0 | AX30: =SUM(AW30*100)/AW12 -> 0 | AY30: =IF(AX30>=91,"अ-1", IF(AX30>=81,"अ-2", IF(AX30>=71,"ब-1", IF(AX30>=61,"ब-2", IF(AX30>=51,"क-1", IF(AX30>=41,"क-2", IF(AX30>=33,"ड", IF(AX30>=21,"ई-1", IF(AX30>=0, "ई-2" ))))))))) -> ई-2
B31: =Info_1!M23 -> 0 | C31: =Info_1!J23 -> 0 | D31: =Info_1!K23 -> 0 | E31: =Info_1!L23 -> 0 | F31: 0 | G31: 0 | H31: =SUM(F31:G31) -> 0 | J31: =IF(H31>=91,"अ-1", IF(H31>=81,"अ-2", IF(H31>=71,"ब-1", IF(H31>=61,"ब-2", IF(H31>=51,"क-1", IF(H31>=41,"क-2", IF(H31>=33,"ड", IF(H31>=21,"ई-1", IF(H31<=20, "ई-2" ))))))))) -> ई-2 | L31: 0 | M31: 0 | N31: =SUM(L31:M31) -> 0 | P31: =IF(N31>=91,"अ-1", IF(N31>=81,"अ-2", IF(N31>=71,"ब-1", IF(N31>=61,"ब-2", IF(N31>=51,"क-1", IF(N31>=41,"क-2", IF(N31>=33,"ड", IF(N31>=21,"ई-1", IF(N31<=20, "ई-2" ))))))))) -> ई-2 | R31: 0 | S31: 0 | T31: =SUM(R31:S31) -> 0 | V31: =IF(T31>=91,"अ-1", IF(T31>=81,"अ-2", IF(T31>=71,"ब-1", IF(T31>=61,"ब-2", IF(T31>=51,"क-1", IF(T31>=41,"क-2", IF(T31>=33,"ड", IF(T31>=21,"ई-1", IF(T31<=20, "ई-2" ))))))))) -> ई-2 | X31: 0 | Y31: 0 | Z31: =SUM(X31:Y31) -> 0 | AB31: =IF(Z31>=91,"अ-1", IF(Z31>=81,"अ-2", IF(Z31>=71,"ब-1", IF(Z31>=61,"ब-2", IF(Z31>=51,"क-1", IF(Z31>=41,"क-2", IF(Z31>=33,"ड", IF(Z31>=21,"ई-1", IF(Z31<=20, "ई-2" ))))))))) -> ई-2 | AI31: 0 | AJ31: 0 | AK31: =SUM(AI31:AJ31) -> 0 | AL31: =IF(AK31>=91,"अ-1", IF(AK31>=81,"अ-2", IF(AK31>=71,"ब-1", IF(AK31>=61,"ब-2", IF(AK31>=51,"क-1", IF(AK31>=41,"क-2", IF(AK31>=33,"ड", IF(AK31>=21,"ई-1", IF(AK31<=20, "ई-2" ))))))))) -> ई-2 | AN31: 0 | AO31: =IF(AN31>=91,"अ-1", IF(AN31>=81,"अ-2", IF(AN31>=71,"ब-1", IF(AN31>=61,"ब-2", IF(AN31>=51,"क-1", IF(AN31>=41,"क-2", IF(AN31>=33,"ड", IF(AN31>=21,"ई-1", IF(AN31<=20, "ई-2" ))))))))) -> ई-2 | AQ31: 0 | AR31: =IF(AQ31>=91,"अ-1", IF(AQ31>=81,"अ-2", IF(AQ31>=71,"ब-1", IF(AQ31>=61,"ब-2", IF(AQ31>=51,"क-1", IF(AQ31>=41,"क-2", IF(AQ31>=33,"ड", IF(AQ31>=21,"ई-1", IF(AQ31<=20, "ई-2" ))))))))) -> ई-2 | AT31: 0 | AU31: =IF(AT31>=91,"अ-1", IF(AT31>=81,"अ-2", IF(AT31>=71,"ब-1", IF(AT31>=61,"ब-2", IF(AT31>=51,"क-1", IF(AT31>=41,"क-2", IF(AT31>=33,"ड", IF(AT31>=21,"ई-1", IF(AT31<=20, "ई-2" ))))))))) -> ई-2 | AW31: =SUM(H31,N31,T31,Z31,AF31,AK31,AN31,AQ31,AT31) -> 0 | AX31: =SUM(AW31*100)/AW12 -> 0 | AY31: =IF(AX31>=91,"अ-1", IF(AX31>=81,"अ-2", IF(AX31>=71,"ब-1", IF(AX31>=61,"ब-2", IF(AX31>=51,"क-1", IF(AX31>=41,"क-2", IF(AX31>=33,"ड", IF(AX31>=21,"ई-1", IF(AX31>=0, "ई-2" ))))))))) -> ई-2
B32: =Info_1!M24 -> 0 | C32: =Info_1!J24 -> 0 | D32: =Info_1!K24 -> 0 | E32: =Info_1!L24 -> 0 | F32: 0 | G32: 0 | H32: =SUM(F32:G32) -> 0 | J32: =IF(H32>=91,"अ-1", IF(H32>=81,"अ-2", IF(H32>=71,"ब-1", IF(H32>=61,"ब-2", IF(H32>=51,"क-1", IF(H32>=41,"क-2", IF(H32>=33,"ड", IF(H32>=21,"ई-1", IF(H32<=20, "ई-2" ))))))))) -> ई-2 | L32: 0 | M32: 0 | N32: =SUM(L32:M32) -> 0 | P32: =IF(N32>=91,"अ-1", IF(N32>=81,"अ-2", IF(N32>=71,"ब-1", IF(N32>=61,"ब-2", IF(N32>=51,"क-1", IF(N32>=41,"क-2", IF(N32>=33,"ड", IF(N32>=21,"ई-1", IF(N32<=20, "ई-2" ))))))))) -> ई-2 | R32: 0 | S32: 0 | T32: =SUM(R32:S32) -> 0 | V32: =IF(T32>=91,"अ-1", IF(T32>=81,"अ-2", IF(T32>=71,"ब-1", IF(T32>=61,"ब-2", IF(T32>=51,"क-1", IF(T32>=41,"क-2", IF(T32>=33,"ड", IF(T32>=21,"ई-1", IF(T32<=20, "ई-2" ))))))))) -> ई-2 | X32: 0 | Y32: 0 | Z32: =SUM(X32:Y32) -> 0 | AB32: =IF(Z32>=91,"अ-1", IF(Z32>=81,"अ-2", IF(Z32>=71,"ब-1", IF(Z32>=61,"ब-2", IF(Z32>=51,"क-1", IF(Z32>=41,"क-2", IF(Z32>=33,"ड", IF(Z32>=21,"ई-1", IF(Z32<=20, "ई-2" ))))))))) -> ई-2 | AI32: 0 | AJ32: 0 | AK32: =SUM(AI32:AJ32) -> 0 | AL32: =IF(AK32>=91,"अ-1", IF(AK32>=81,"अ-2", IF(AK32>=71,"ब-1", IF(AK32>=61,"ब-2", IF(AK32>=51,"क-1", IF(AK32>=41,"क-2", IF(AK32>=33,"ड", IF(AK32>=21,"ई-1", IF(AK32<=20, "ई-2" ))))))))) -> ई-2 | AN32: 0 | AO32: =IF(AN32>=91,"अ-1", IF(AN32>=81,"अ-2", IF(AN32>=71,"ब-1", IF(AN32>=61,"ब-2", IF(AN32>=51,"क-1", IF(AN32>=41,"क-2", IF(AN32>=33,"ड", IF(AN32>=21,"ई-1", IF(AN32<=20, "ई-2" ))))))))) -> ई-2 | AQ32: 0 | AR32: =IF(AQ32>=91,"अ-1", IF(AQ32>=81,"अ-2", IF(AQ32>=71,"ब-1", IF(AQ32>=61,"ब-2", IF(AQ32>=51,"क-1", IF(AQ32>=41,"क-2", IF(AQ32>=33,"ड", IF(AQ32>=21,"ई-1", IF(AQ32<=20, "ई-2" ))))))))) -> ई-2 | AT32: 0 | AU32: =IF(AT32>=91,"अ-1", IF(AT32>=81,"अ-2", IF(AT32>=71,"ब-1", IF(AT32>=61,"ब-2", IF(AT32>=51,"क-1", IF(AT32>=41,"क-2", IF(AT32>=33,"ड", IF(AT32>=21,"ई-1", IF(AT32<=20, "ई-2" ))))))))) -> ई-2 | AW32: =SUM(H32,N32,T32,Z32,AF32,AK32,AN32,AQ32,AT32) -> 0 | AX32: =SUM(AW32*100)/AW12 -> 0 | AY32: =IF(AX32>=91,"अ-1", IF(AX32>=81,"अ-2", IF(AX32>=71,"ब-1", IF(AX32>=61,"ब-2", IF(AX32>=51,"क-1", IF(AX32>=41,"क-2", IF(AX32>=33,"ड", IF(AX32>=21,"ई-1", IF(AX32>=0, "ई-2" ))))))))) -> ई-2
B33: =Info_1!M25 -> 0 | C33: =Info_1!J25 -> 0 | D33: =Info_1!K25 -> 0 | E33: =Info_1!L25 -> 0 | F33: 0 | G33: 0 | H33: =SUM(F33:G33) -> 0 | J33: =IF(H33>=91,"अ-1", IF(H33>=81,"अ-2", IF(H33>=71,"ब-1", IF(H33>=61,"ब-2", IF(H33>=51,"क-1", IF(H33>=41,"क-2", IF(H33>=33,"ड", IF(H33>=21,"ई-1", IF(H33<=20, "ई-2" ))))))))) -> ई-2 | L33: 0 | M33: 0 | N33: =SUM(L33:M33) -> 0 | P33: =IF(N33>=91,"अ-1", IF(N33>=81,"अ-2", IF(N33>=71,"ब-1", IF(N33>=61,"ब-2", IF(N33>=51,"क-1", IF(N33>=41,"क-2", IF(N33>=33,"ड", IF(N33>=21,"ई-1", IF(N33<=20, "ई-2" ))))))))) -> ई-2 | R33: 0 | S33: 0 | T33: =SUM(R33:S33) -> 0 | V33: =IF(T33>=91,"अ-1", IF(T33>=81,"अ-2", IF(T33>=71,"ब-1", IF(T33>=61,"ब-2", IF(T33>=51,"क-1", IF(T33>=41,"क-2", IF(T33>=33,"ड", IF(T33>=21,"ई-1", IF(T33<=20, "ई-2" ))))))))) -> ई-2 | X33: 0 | Y33: 0 | Z33: =SUM(X33:Y33) -> 0 | AB33: =IF(Z33>=91,"अ-1", IF(Z33>=81,"अ-2", IF(Z33>=71,"ब-1", IF(Z33>=61,"ब-2", IF(Z33>=51,"क-1", IF(Z33>=41,"क-2", IF(Z33>=33,"ड", IF(Z33>=21,"ई-1", IF(Z33<=20, "ई-2" ))))))))) -> ई-2 | AI33: 0 | AJ33: 0 | AK33: =SUM(AI33:AJ33) -> 0 | AL33: =IF(AK33>=91,"अ-1", IF(AK33>=81,"अ-2", IF(AK33>=71,"ब-1", IF(AK33>=61,"ब-2", IF(AK33>=51,"क-1", IF(AK33>=41,"क-2", IF(AK33>=33,"ड", IF(AK33>=21,"ई-1", IF(AK33<=20, "ई-2" ))))))))) -> ई-2 | AN33: 0 | AO33: =IF(AN33>=91,"अ-1", IF(AN33>=81,"अ-2", IF(AN33>=71,"ब-1", IF(AN33>=61,"ब-2", IF(AN33>=51,"क-1", IF(AN33>=41,"क-2", IF(AN33>=33,"ड", IF(AN33>=21,"ई-1", IF(AN33<=20, "ई-2" ))))))))) -> ई-2 | AQ33: 0 | AR33: =IF(AQ33>=91,"अ-1", IF(AQ33>=81,"अ-2", IF(AQ33>=71,"ब-1", IF(AQ33>=61,"ब-2", IF(AQ33>=51,"क-1", IF(AQ33>=41,"क-2", IF(AQ33>=33,"ड", IF(AQ33>=21,"ई-1", IF(AQ33<=20, "ई-2" ))))))))) -> ई-2 | AT33: 0 | AU33: =IF(AT33>=91,"अ-1", IF(AT33>=81,"अ-2", IF(AT33>=71,"ब-1", IF(AT33>=61,"ब-2", IF(AT33>=51,"क-1", IF(AT33>=41,"क-2", IF(AT33>=33,"ड", IF(AT33>=21,"ई-1", IF(AT33<=20, "ई-2" ))))))))) -> ई-2 | AW33: =SUM(H33,N33,T33,Z33,AF33,AK33,AN33,AQ33,AT33) -> 0 | AX33: =SUM(AW33*100)/AW12 -> 0 | AY33: =IF(AX33>=91,"अ-1", IF(AX33>=81,"अ-2", IF(AX33>=71,"ब-1", IF(AX33>=61,"ब-2", IF(AX33>=51,"क-1", IF(AX33>=41,"क-2", IF(AX33>=33,"ड", IF(AX33>=21,"ई-1", IF(AX33>=0, "ई-2" ))))))))) -> ई-2
B34: =Info_1!M26 -> 0 | C34: =Info_1!J26 -> 0 | D34: =Info_1!K26 -> 0 | E34: =Info_1!L26 -> 0 | F34: 0 | G34: 0 | H34: =SUM(F34:G34) -> 0 | J34: =IF(H34>=91,"अ-1", IF(H34>=81,"अ-2", IF(H34>=71,"ब-1", IF(H34>=61,"ब-2", IF(H34>=51,"क-1", IF(H34>=41,"क-2", IF(H34>=33,"ड", IF(H34>=21,"ई-1", IF(H34<=20, "ई-2" ))))))))) -> ई-2 | L34: 0 | M34: 0 | N34: =SUM(L34:M34) -> 0 | P34: =IF(N34>=91,"अ-1", IF(N34>=81,"अ-2", IF(N34>=71,"ब-1", IF(N34>=61,"ब-2", IF(N34>=51,"क-1", IF(N34>=41,"क-2", IF(N34>=33,"ड", IF(N34>=21,"ई-1", IF(N34<=20, "ई-2" ))))))))) -> ई-2 | R34: 0 | S34: 0 | T34: =SUM(R34:S34) -> 0 | V34: =IF(T34>=91,"अ-1", IF(T34>=81,"अ-2", IF(T34>=71,"ब-1", IF(T34>=61,"ब-2", IF(T34>=51,"क-1", IF(T34>=41,"क-2", IF(T34>=33,"ड", IF(T34>=21,"ई-1", IF(T34<=20, "ई-2" ))))))))) -> ई-2 | X34: 0 | Y34: 0 | Z34: =SUM(X34:Y34) -> 0 | AB34: =IF(Z34>=91,"अ-1", IF(Z34>=81,"अ-2", IF(Z34>=71,"ब-1", IF(Z34>=61,"ब-2", IF(Z34>=51,"क-1", IF(Z34>=41,"क-2", IF(Z34>=33,"ड", IF(Z34>=21,"ई-1", IF(Z34<=20, "ई-2" ))))))))) -> ई-2 | AI34: 0 | AJ34: 0 | AK34: =SUM(AI34:AJ34) -> 0 | AL34: =IF(AK34>=91,"अ-1", IF(AK34>=81,"अ-2", IF(AK34>=71,"ब-1", IF(AK34>=61,"ब-2", IF(AK34>=51,"क-1", IF(AK34>=41,"क-2", IF(AK34>=33,"ड", IF(AK34>=21,"ई-1", IF(AK34<=20, "ई-2" ))))))))) -> ई-2 | AN34: 0 | AO34: =IF(AN34>=91,"अ-1", IF(AN34>=81,"अ-2", IF(AN34>=71,"ब-1", IF(AN34>=61,"ब-2", IF(AN34>=51,"क-1", IF(AN34>=41,"क-2", IF(AN34>=33,"ड", IF(AN34>=21,"ई-1", IF(AN34<=20, "ई-2" ))))))))) -> ई-2 | AQ34: 0 | AR34: =IF(AQ34>=91,"अ-1", IF(AQ34>=81,"अ-2", IF(AQ34>=71,"ब-1", IF(AQ34>=61,"ब-2", IF(AQ34>=51,"क-1", IF(AQ34>=41,"क-2", IF(AQ34>=33,"ड", IF(AQ34>=21,"ई-1", IF(AQ34<=20, "ई-2" ))))))))) -> ई-2 | AT34: 0 | AU34: =IF(AT34>=91,"अ-1", IF(AT34>=81,"अ-2", IF(AT34>=71,"ब-1", IF(AT34>=61,"ब-2", IF(AT34>=51,"क-1", IF(AT34>=41,"क-2", IF(AT34>=33,"ड", IF(AT34>=21,"ई-1", IF(AT34<=20, "ई-2" ))))))))) -> ई-2 | AW34: =SUM(H34,N34,T34,Z34,AF34,AK34,AN34,AQ34,AT34) -> 0 | AX34: =SUM(AW34*100)/AW12 -> 0 | AY34: =IF(AX34>=91,"अ-1", IF(AX34>=81,"अ-2", IF(AX34>=71,"ब-1", IF(AX34>=61,"ब-2", IF(AX34>=51,"क-1", IF(AX34>=41,"क-2", IF(AX34>=33,"ड", IF(AX34>=21,"ई-1", IF(AX34>=0, "ई-2" ))))))))) -> ई-2
B35: =Info_1!M27 -> 0 | C35: =Info_1!J27 -> 0 | D35: =Info_1!K27 -> 0 | E35: =Info_1!L27 -> 0 | F35: 0 | G35: 0 | H35: =SUM(F35:G35) -> 0 | J35: =IF(H35>=91,"अ-1", IF(H35>=81,"अ-2", IF(H35>=71,"ब-1", IF(H35>=61,"ब-2", IF(H35>=51,"क-1", IF(H35>=41,"क-2", IF(H35>=33,"ड", IF(H35>=21,"ई-1", IF(H35<=20, "ई-2" ))))))))) -> ई-2 | L35: 0 | M35: 0 | N35: =SUM(L35:M35) -> 0 | P35: =IF(N35>=91,"अ-1", IF(N35>=81,"अ-2", IF(N35>=71,"ब-1", IF(N35>=61,"ब-2", IF(N35>=51,"क-1", IF(N35>=41,"क-2", IF(N35>=33,"ड", IF(N35>=21,"ई-1", IF(N35<=20, "ई-2" ))))))))) -> ई-2 | R35: 0 | S35: 0 | T35: =SUM(R35:S35) -> 0 | V35: =IF(T35>=91,"अ-1", IF(T35>=81,"अ-2", IF(T35>=71,"ब-1", IF(T35>=61,"ब-2", IF(T35>=51,"क-1", IF(T35>=41,"क-2", IF(T35>=33,"ड", IF(T35>=21,"ई-1", IF(T35<=20, "ई-2" ))))))))) -> ई-2 | X35: 0 | Y35: 0 | Z35: =SUM(X35:Y35) -> 0 | AB35: =IF(Z35>=91,"अ-1", IF(Z35>=81,"अ-2", IF(Z35>=71,"ब-1", IF(Z35>=61,"ब-2", IF(Z35>=51,"क-1", IF(Z35>=41,"क-2", IF(Z35>=33,"ड", IF(Z35>=21,"ई-1", IF(Z35<=20, "ई-2" ))))))))) -> ई-2 | AI35: 0 | AJ35: 0 | AK35: =SUM(AI35:AJ35) -> 0 | AL35: =IF(AK35>=91,"अ-1", IF(AK35>=81,"अ-2", IF(AK35>=71,"ब-1", IF(AK35>=61,"ब-2", IF(AK35>=51,"क-1", IF(AK35>=41,"क-2", IF(AK35>=33,"ड", IF(AK35>=21,"ई-1", IF(AK35<=20, "ई-2" ))))))))) -> ई-2 | AN35: 0 | AO35: =IF(AN35>=91,"अ-1", IF(AN35>=81,"अ-2", IF(AN35>=71,"ब-1", IF(AN35>=61,"ब-2", IF(AN35>=51,"क-1", IF(AN35>=41,"क-2", IF(AN35>=33,"ड", IF(AN35>=21,"ई-1", IF(AN35<=20, "ई-2" ))))))))) -> ई-2 | AQ35: 0 | AR35: =IF(AQ35>=91,"अ-1", IF(AQ35>=81,"अ-2", IF(AQ35>=71,"ब-1", IF(AQ35>=61,"ब-2", IF(AQ35>=51,"क-1", IF(AQ35>=41,"क-2", IF(AQ35>=33,"ड", IF(AQ35>=21,"ई-1", IF(AQ35<=20, "ई-2" ))))))))) -> ई-2 | AT35: 0 | AU35: =IF(AT35>=91,"अ-1", IF(AT35>=81,"अ-2", IF(AT35>=71,"ब-1", IF(AT35>=61,"ब-2", IF(AT35>=51,"क-1", IF(AT35>=41,"क-2", IF(AT35>=33,"ड", IF(AT35>=21,"ई-1", IF(AT35<=20, "ई-2" ))))))))) -> ई-2 | AW35: =SUM(H35,N35,T35,Z35,AF35,AK35,AN35,AQ35,AT35) -> 0 | AX35: =SUM(AW35*100)/AW12 -> 0 | AY35: =IF(AX35>=91,"अ-1", IF(AX35>=81,"अ-2", IF(AX35>=71,"ब-1", IF(AX35>=61,"ब-2", IF(AX35>=51,"क-1", IF(AX35>=41,"क-2", IF(AX35>=33,"ड", IF(AX35>=21,"ई-1", IF(AX35>=0, "ई-2" ))))))))) -> ई-2
B36: =Info_1!M28 -> 0 | C36: =Info_1!J28 -> 0 | D36: =Info_1!K28 -> 0 | E36: =Info_1!L28 -> 0 | F36: 0 | G36: 0 | H36: =SUM(F36:G36) -> 0 | J36: =IF(H36>=91,"अ-1", IF(H36>=81,"अ-2", IF(H36>=71,"ब-1", IF(H36>=61,"ब-2", IF(H36>=51,"क-1", IF(H36>=41,"क-2", IF(H36>=33,"ड", IF(H36>=21,"ई-1", IF(H36<=20, "ई-2" ))))))))) -> ई-2 | L36: 0 | M36: 0 | N36: =SUM(L36:M36) -> 0 | P36: =IF(N36>=91,"अ-1", IF(N36>=81,"अ-2", IF(N36>=71,"ब-1", IF(N36>=61,"ब-2", IF(N36>=51,"क-1", IF(N36>=41,"क-2", IF(N36>=33,"ड", IF(N36>=21,"ई-1", IF(N36<=20, "ई-2" ))))))))) -> ई-2 | R36: 0 | S36: 0 | T36: =SUM(R36:S36) -> 0 | V36: =IF(T36>=91,"अ-1", IF(T36>=81,"अ-2", IF(T36>=71,"ब-1", IF(T36>=61,"ब-2", IF(T36>=51,"क-1", IF(T36>=41,"क-2", IF(T36>=33,"ड", IF(T36>=21,"ई-1", IF(T36<=20, "ई-2" ))))))))) -> ई-2 | X36: 0 | Y36: 0 | Z36: =SUM(X36:Y36) -> 0 | AB36: =IF(Z36>=91,"अ-1", IF(Z36>=81,"अ-2", IF(Z36>=71,"ब-1", IF(Z36>=61,"ब-2", IF(Z36>=51,"क-1", IF(Z36>=41,"क-2", IF(Z36>=33,"ड", IF(Z36>=21,"ई-1", IF(Z36<=20, "ई-2" ))))))))) -> ई-2 | AI36: 0 | AJ36: 0 | AK36: =SUM(AI36:AJ36) -> 0 | AL36: =IF(AK36>=91,"अ-1", IF(AK36>=81,"अ-2", IF(AK36>=71,"ब-1", IF(AK36>=61,"ब-2", IF(AK36>=51,"क-1", IF(AK36>=41,"क-2", IF(AK36>=33,"ड", IF(AK36>=21,"ई-1", IF(AK36<=20, "ई-2" ))))))))) -> ई-2 | AN36: 0 | AO36: =IF(AN36>=91,"अ-1", IF(AN36>=81,"अ-2", IF(AN36>=71,"ब-1", IF(AN36>=61,"ब-2", IF(AN36>=51,"क-1", IF(AN36>=41,"क-2", IF(AN36>=33,"ड", IF(AN36>=21,"ई-1", IF(AN36<=20, "ई-2" ))))))))) -> ई-2 | AQ36: 0 | AR36: =IF(AQ36>=91,"अ-1", IF(AQ36>=81,"अ-2", IF(AQ36>=71,"ब-1", IF(AQ36>=61,"ब-2", IF(AQ36>=51,"क-1", IF(AQ36>=41,"क-2", IF(AQ36>=33,"ड", IF(AQ36>=21,"ई-1", IF(AQ36<=20, "ई-2" ))))))))) -> ई-2 | AT36: 0 | AU36: =IF(AT36>=91,"अ-1", IF(AT36>=81,"अ-2", IF(AT36>=71,"ब-1", IF(AT36>=61,"ब-2", IF(AT36>=51,"क-1", IF(AT36>=41,"क-2", IF(AT36>=33,"ड", IF(AT36>=21,"ई-1", IF(AT36<=20, "ई-2" ))))))))) -> ई-2 | AW36: =SUM(H36,N36,T36,Z36,AF36,AK36,AN36,AQ36,AT36) -> 0 | AX36: =SUM(AW36*100)/AW12 -> 0 | AY36: =IF(AX36>=91,"अ-1", IF(AX36>=81,"अ-2", IF(AX36>=71,"ब-1", IF(AX36>=61,"ब-2", IF(AX36>=51,"क-1", IF(AX36>=41,"क-2", IF(AX36>=33,"ड", IF(AX36>=21,"ई-1", IF(AX36>=0, "ई-2" ))))))))) -> ई-2
